BEGIN:VCALENDAR
VERSION:2.0
PRODID:-//Nordmalings Ridklubb - ECPv6.15.13//NONSGML v1.0//EN
CALSCALE:GREGORIAN
METHOD:PUBLISH
X-WR-CALNAME:Nordmalings Ridklubb
X-ORIGINAL-URL:https://nordmalingsrk.se
X-WR-CALDESC:Händelser för Nordmalings Ridklubb
REFRESH-INTERVAL;VALUE=DURATION:PT1H
X-Robots-Tag:noindex
X-PUBLISHED-TTL:PT1H
BEGIN:VTIMEZONE
TZID:Europe/Stockholm
BEGIN:DAYLIGHT
TZOFFSETFROM:+0100
TZOFFSETTO:+0200
TZNAME:CEST
DTSTART:20280326T010000
END:DAYLIGHT
BEGIN:STANDARD
TZOFFSETFROM:+0200
TZOFFSETTO:+0100
TZNAME:CET
DTSTART:20281029T010000
END:STANDARD
BEGIN:DAYLIGHT
TZOFFSETFROM:+0100
TZOFFSETTO:+0200
TZNAME:CEST
DTSTART:20290325T010000
END:DAYLIGHT
BEGIN:STANDARD
TZOFFSETFROM:+0200
TZOFFSETTO:+0100
TZNAME:CET
DTSTART:20291028T010000
END:STANDARD
BEGIN:DAYLIGHT
TZOFFSETFROM:+0100
TZOFFSETTO:+0200
TZNAME:CEST
DTSTART:20300331T010000
END:DAYLIGHT
BEGIN:STANDARD
TZOFFSETFROM:+0200
TZOFFSETTO:+0100
TZNAME:CET
DTSTART:20301027T010000
END:STANDARD
END:VTIMEZONE
BEGIN:VEVENT
DTSTART;TZID=Europe/Stockholm:20290501T165500
DTEND;TZID=Europe/Stockholm:20290501T210000
DTSTAMP:20260421T150746
CREATED:20260222T195332Z
LAST-MODIFIED:20260222T200426Z
UID:10011249-1872348900-1872363600@nordmalingsrk.se
SUMMARY:Lektioner
DESCRIPTION:
URL:https://nordmalingsrk.se/evenemang/lektioner/2029-05-01/
LOCATION:Ridhuset\, Torsbäcken 14\, Nordmaling\, Västerbotten\, 914 91\, Sverige
CATEGORIES:Interna bokningar,Ridskola
END:VEVENT
BEGIN:VEVENT
DTSTART;TZID=Europe/Stockholm:20290502T171000
DTEND;TZID=Europe/Stockholm:20290502T211500
DTSTAMP:20260421T150746
CREATED:20260222T195332Z
LAST-MODIFIED:20260222T200426Z
UID:10010984-1872436200-1872450900@nordmalingsrk.se
SUMMARY:Lektioner
DESCRIPTION:
URL:https://nordmalingsrk.se/evenemang/lektioner-2/2029-05-02/
LOCATION:Ridhuset\, Torsbäcken 14\, Nordmaling\, Västerbotten\, 914 91\, Sverige
CATEGORIES:Interna bokningar,Ridskola
END:VEVENT
BEGIN:VEVENT
DTSTART;TZID=Europe/Stockholm:20290503T173000
DTEND;TZID=Europe/Stockholm:20290503T204500
DTSTAMP:20260421T150746
CREATED:20260222T195332Z
LAST-MODIFIED:20260222T200425Z
UID:10010719-1872523800-1872535500@nordmalingsrk.se
SUMMARY:Lektioner
DESCRIPTION:
URL:https://nordmalingsrk.se/evenemang/lektioner-3/2029-05-03/
LOCATION:Västerbotten
CATEGORIES:Interna bokningar,Ridskola
END:VEVENT
BEGIN:VEVENT
DTSTART;TZID=Europe/Stockholm:20290507T173000
DTEND;TZID=Europe/Stockholm:20290507T200000
DTSTAMP:20260421T150746
CREATED:20260222T195332Z
LAST-MODIFIED:20260222T200427Z
UID:10011515-1872869400-1872878400@nordmalingsrk.se
SUMMARY:Lektioner
DESCRIPTION:
URL:https://nordmalingsrk.se/evenemang/lektioner-4/2029-05-07/
LOCATION:Ridhuset\, Torsbäcken 14\, Nordmaling\, Västerbotten\, 914 91\, Sverige
CATEGORIES:Interna bokningar,Ridskola
END:VEVENT
BEGIN:VEVENT
DTSTART;TZID=Europe/Stockholm:20290508T165500
DTEND;TZID=Europe/Stockholm:20290508T210000
DTSTAMP:20260421T150746
CREATED:20260222T195332Z
LAST-MODIFIED:20260222T200426Z
UID:10011250-1872953700-1872968400@nordmalingsrk.se
SUMMARY:Lektioner
DESCRIPTION:
URL:https://nordmalingsrk.se/evenemang/lektioner/2029-05-08/
LOCATION:Ridhuset\, Torsbäcken 14\, Nordmaling\, Västerbotten\, 914 91\, Sverige
CATEGORIES:Interna bokningar,Ridskola
END:VEVENT
BEGIN:VEVENT
DTSTART;TZID=Europe/Stockholm:20290509T171000
DTEND;TZID=Europe/Stockholm:20290509T211500
DTSTAMP:20260421T150746
CREATED:20260222T195332Z
LAST-MODIFIED:20260222T200426Z
UID:10010985-1873041000-1873055700@nordmalingsrk.se
SUMMARY:Lektioner
DESCRIPTION:
URL:https://nordmalingsrk.se/evenemang/lektioner-2/2029-05-09/
LOCATION:Ridhuset\, Torsbäcken 14\, Nordmaling\, Västerbotten\, 914 91\, Sverige
CATEGORIES:Interna bokningar,Ridskola
END:VEVENT
BEGIN:VEVENT
DTSTART;TZID=Europe/Stockholm:20290510T173000
DTEND;TZID=Europe/Stockholm:20290510T204500
DTSTAMP:20260421T150746
CREATED:20260222T195332Z
LAST-MODIFIED:20260222T200425Z
UID:10010720-1873128600-1873140300@nordmalingsrk.se
SUMMARY:Lektioner
DESCRIPTION:
URL:https://nordmalingsrk.se/evenemang/lektioner-3/2029-05-10/
LOCATION:Västerbotten
CATEGORIES:Interna bokningar,Ridskola
END:VEVENT
BEGIN:VEVENT
DTSTART;TZID=Europe/Stockholm:20290514T173000
DTEND;TZID=Europe/Stockholm:20290514T200000
DTSTAMP:20260421T150746
CREATED:20260222T195332Z
LAST-MODIFIED:20260222T200427Z
UID:10011516-1873474200-1873483200@nordmalingsrk.se
SUMMARY:Lektioner
DESCRIPTION:
URL:https://nordmalingsrk.se/evenemang/lektioner-4/2029-05-14/
LOCATION:Ridhuset\, Torsbäcken 14\, Nordmaling\, Västerbotten\, 914 91\, Sverige
CATEGORIES:Interna bokningar,Ridskola
END:VEVENT
BEGIN:VEVENT
DTSTART;TZID=Europe/Stockholm:20290515T165500
DTEND;TZID=Europe/Stockholm:20290515T210000
DTSTAMP:20260421T150746
CREATED:20260222T195332Z
LAST-MODIFIED:20260222T200426Z
UID:10011251-1873558500-1873573200@nordmalingsrk.se
SUMMARY:Lektioner
DESCRIPTION:
URL:https://nordmalingsrk.se/evenemang/lektioner/2029-05-15/
LOCATION:Ridhuset\, Torsbäcken 14\, Nordmaling\, Västerbotten\, 914 91\, Sverige
CATEGORIES:Interna bokningar,Ridskola
END:VEVENT
BEGIN:VEVENT
DTSTART;TZID=Europe/Stockholm:20290516T171000
DTEND;TZID=Europe/Stockholm:20290516T211500
DTSTAMP:20260421T150746
CREATED:20260222T195332Z
LAST-MODIFIED:20260222T200426Z
UID:10010986-1873645800-1873660500@nordmalingsrk.se
SUMMARY:Lektioner
DESCRIPTION:
URL:https://nordmalingsrk.se/evenemang/lektioner-2/2029-05-16/
LOCATION:Ridhuset\, Torsbäcken 14\, Nordmaling\, Västerbotten\, 914 91\, Sverige
CATEGORIES:Interna bokningar,Ridskola
END:VEVENT
BEGIN:VEVENT
DTSTART;TZID=Europe/Stockholm:20290517T173000
DTEND;TZID=Europe/Stockholm:20290517T204500
DTSTAMP:20260421T150746
CREATED:20260222T195332Z
LAST-MODIFIED:20260222T200425Z
UID:10010721-1873733400-1873745100@nordmalingsrk.se
SUMMARY:Lektioner
DESCRIPTION:
URL:https://nordmalingsrk.se/evenemang/lektioner-3/2029-05-17/
LOCATION:Västerbotten
CATEGORIES:Interna bokningar,Ridskola
END:VEVENT
BEGIN:VEVENT
DTSTART;TZID=Europe/Stockholm:20290521T173000
DTEND;TZID=Europe/Stockholm:20290521T200000
DTSTAMP:20260421T150746
CREATED:20260222T195332Z
LAST-MODIFIED:20260222T200427Z
UID:10011517-1874079000-1874088000@nordmalingsrk.se
SUMMARY:Lektioner
DESCRIPTION:
URL:https://nordmalingsrk.se/evenemang/lektioner-4/2029-05-21/
LOCATION:Ridhuset\, Torsbäcken 14\, Nordmaling\, Västerbotten\, 914 91\, Sverige
CATEGORIES:Interna bokningar,Ridskola
END:VEVENT
BEGIN:VEVENT
DTSTART;TZID=Europe/Stockholm:20290522T165500
DTEND;TZID=Europe/Stockholm:20290522T210000
DTSTAMP:20260421T150746
CREATED:20260222T195332Z
LAST-MODIFIED:20260222T200426Z
UID:10011252-1874163300-1874178000@nordmalingsrk.se
SUMMARY:Lektioner
DESCRIPTION:
URL:https://nordmalingsrk.se/evenemang/lektioner/2029-05-22/
LOCATION:Ridhuset\, Torsbäcken 14\, Nordmaling\, Västerbotten\, 914 91\, Sverige
CATEGORIES:Interna bokningar,Ridskola
END:VEVENT
BEGIN:VEVENT
DTSTART;TZID=Europe/Stockholm:20290523T171000
DTEND;TZID=Europe/Stockholm:20290523T211500
DTSTAMP:20260421T150746
CREATED:20260222T195332Z
LAST-MODIFIED:20260222T200426Z
UID:10010987-1874250600-1874265300@nordmalingsrk.se
SUMMARY:Lektioner
DESCRIPTION:
URL:https://nordmalingsrk.se/evenemang/lektioner-2/2029-05-23/
LOCATION:Ridhuset\, Torsbäcken 14\, Nordmaling\, Västerbotten\, 914 91\, Sverige
CATEGORIES:Interna bokningar,Ridskola
END:VEVENT
BEGIN:VEVENT
DTSTART;TZID=Europe/Stockholm:20290524T173000
DTEND;TZID=Europe/Stockholm:20290524T204500
DTSTAMP:20260421T150746
CREATED:20260222T195332Z
LAST-MODIFIED:20260222T200425Z
UID:10010722-1874338200-1874349900@nordmalingsrk.se
SUMMARY:Lektioner
DESCRIPTION:
URL:https://nordmalingsrk.se/evenemang/lektioner-3/2029-05-24/
LOCATION:Västerbotten
CATEGORIES:Interna bokningar,Ridskola
END:VEVENT
BEGIN:VEVENT
DTSTART;TZID=Europe/Stockholm:20290528T173000
DTEND;TZID=Europe/Stockholm:20290528T200000
DTSTAMP:20260421T150746
CREATED:20260222T195332Z
LAST-MODIFIED:20260222T200427Z
UID:10011518-1874683800-1874692800@nordmalingsrk.se
SUMMARY:Lektioner
DESCRIPTION:
URL:https://nordmalingsrk.se/evenemang/lektioner-4/2029-05-28/
LOCATION:Ridhuset\, Torsbäcken 14\, Nordmaling\, Västerbotten\, 914 91\, Sverige
CATEGORIES:Interna bokningar,Ridskola
END:VEVENT
BEGIN:VEVENT
DTSTART;TZID=Europe/Stockholm:20290529T165500
DTEND;TZID=Europe/Stockholm:20290529T210000
DTSTAMP:20260421T150746
CREATED:20260222T195332Z
LAST-MODIFIED:20260222T200426Z
UID:10011253-1874768100-1874782800@nordmalingsrk.se
SUMMARY:Lektioner
DESCRIPTION:
URL:https://nordmalingsrk.se/evenemang/lektioner/2029-05-29/
LOCATION:Ridhuset\, Torsbäcken 14\, Nordmaling\, Västerbotten\, 914 91\, Sverige
CATEGORIES:Interna bokningar,Ridskola
END:VEVENT
BEGIN:VEVENT
DTSTART;TZID=Europe/Stockholm:20290530T171000
DTEND;TZID=Europe/Stockholm:20290530T211500
DTSTAMP:20260421T150746
CREATED:20260222T195332Z
LAST-MODIFIED:20260222T200426Z
UID:10010988-1874855400-1874870100@nordmalingsrk.se
SUMMARY:Lektioner
DESCRIPTION:
URL:https://nordmalingsrk.se/evenemang/lektioner-2/2029-05-30/
LOCATION:Ridhuset\, Torsbäcken 14\, Nordmaling\, Västerbotten\, 914 91\, Sverige
CATEGORIES:Interna bokningar,Ridskola
END:VEVENT
BEGIN:VEVENT
DTSTART;TZID=Europe/Stockholm:20290531T173000
DTEND;TZID=Europe/Stockholm:20290531T204500
DTSTAMP:20260421T150746
CREATED:20260222T195332Z
LAST-MODIFIED:20260222T200425Z
UID:10010723-1874943000-1874954700@nordmalingsrk.se
SUMMARY:Lektioner
DESCRIPTION:
URL:https://nordmalingsrk.se/evenemang/lektioner-3/2029-05-31/
LOCATION:Västerbotten
CATEGORIES:Interna bokningar,Ridskola
END:VEVENT
END:VCALENDAR