BEGIN:VCALENDAR
VERSION:2.0
PRODID:-//Nordmalings Ridklubb - ECPv6.15.13//NONSGML v1.0//EN
CALSCALE:GREGORIAN
METHOD:PUBLISH
X-WR-CALNAME:Nordmalings Ridklubb
X-ORIGINAL-URL:https://nordmalingsrk.se
X-WR-CALDESC:Händelser för Nordmalings Ridklubb
REFRESH-INTERVAL;VALUE=DURATION:PT1H
X-Robots-Tag:noindex
X-PUBLISHED-TTL:PT1H
BEGIN:VTIMEZONE
TZID:Europe/Stockholm
BEGIN:DAYLIGHT
TZOFFSETFROM:+0100
TZOFFSETTO:+0200
TZNAME:CEST
DTSTART:20280326T010000
END:DAYLIGHT
BEGIN:STANDARD
TZOFFSETFROM:+0200
TZOFFSETTO:+0100
TZNAME:CET
DTSTART:20281029T010000
END:STANDARD
BEGIN:DAYLIGHT
TZOFFSETFROM:+0100
TZOFFSETTO:+0200
TZNAME:CEST
DTSTART:20290325T010000
END:DAYLIGHT
BEGIN:STANDARD
TZOFFSETFROM:+0200
TZOFFSETTO:+0100
TZNAME:CET
DTSTART:20291028T010000
END:STANDARD
BEGIN:DAYLIGHT
TZOFFSETFROM:+0100
TZOFFSETTO:+0200
TZNAME:CEST
DTSTART:20300331T010000
END:DAYLIGHT
BEGIN:STANDARD
TZOFFSETFROM:+0200
TZOFFSETTO:+0100
TZNAME:CET
DTSTART:20301027T010000
END:STANDARD
END:VTIMEZONE
BEGIN:VEVENT
DTSTART;TZID=Europe/Stockholm:20290604T173000
DTEND;TZID=Europe/Stockholm:20290604T200000
DTSTAMP:20260421T164320
CREATED:20260222T195332Z
LAST-MODIFIED:20260222T200427Z
UID:10011519-1875288600-1875297600@nordmalingsrk.se
SUMMARY:Lektioner
DESCRIPTION:
URL:https://nordmalingsrk.se/evenemang/lektioner-4/2029-06-04/
LOCATION:Ridhuset\, Torsbäcken 14\, Nordmaling\, Västerbotten\, 914 91\, Sverige
CATEGORIES:Interna bokningar,Ridskola
END:VEVENT
BEGIN:VEVENT
DTSTART;TZID=Europe/Stockholm:20290605T165500
DTEND;TZID=Europe/Stockholm:20290605T210000
DTSTAMP:20260421T164320
CREATED:20260222T195332Z
LAST-MODIFIED:20260222T200426Z
UID:10011254-1875372900-1875387600@nordmalingsrk.se
SUMMARY:Lektioner
DESCRIPTION:
URL:https://nordmalingsrk.se/evenemang/lektioner/2029-06-05/
LOCATION:Ridhuset\, Torsbäcken 14\, Nordmaling\, Västerbotten\, 914 91\, Sverige
CATEGORIES:Interna bokningar,Ridskola
END:VEVENT
BEGIN:VEVENT
DTSTART;TZID=Europe/Stockholm:20290606T171000
DTEND;TZID=Europe/Stockholm:20290606T211500
DTSTAMP:20260421T164320
CREATED:20260222T195332Z
LAST-MODIFIED:20260222T200426Z
UID:10010989-1875460200-1875474900@nordmalingsrk.se
SUMMARY:Lektioner
DESCRIPTION:
URL:https://nordmalingsrk.se/evenemang/lektioner-2/2029-06-06/
LOCATION:Ridhuset\, Torsbäcken 14\, Nordmaling\, Västerbotten\, 914 91\, Sverige
CATEGORIES:Interna bokningar,Ridskola
END:VEVENT
BEGIN:VEVENT
DTSTART;TZID=Europe/Stockholm:20290607T173000
DTEND;TZID=Europe/Stockholm:20290607T204500
DTSTAMP:20260421T164320
CREATED:20260222T195332Z
LAST-MODIFIED:20260222T200425Z
UID:10010724-1875547800-1875559500@nordmalingsrk.se
SUMMARY:Lektioner
DESCRIPTION:
URL:https://nordmalingsrk.se/evenemang/lektioner-3/2029-06-07/
LOCATION:Västerbotten
CATEGORIES:Interna bokningar,Ridskola
END:VEVENT
BEGIN:VEVENT
DTSTART;TZID=Europe/Stockholm:20290611T173000
DTEND;TZID=Europe/Stockholm:20290611T200000
DTSTAMP:20260421T164320
CREATED:20260222T195332Z
LAST-MODIFIED:20260222T200427Z
UID:10011520-1875893400-1875902400@nordmalingsrk.se
SUMMARY:Lektioner
DESCRIPTION:
URL:https://nordmalingsrk.se/evenemang/lektioner-4/2029-06-11/
LOCATION:Ridhuset\, Torsbäcken 14\, Nordmaling\, Västerbotten\, 914 91\, Sverige
CATEGORIES:Interna bokningar,Ridskola
END:VEVENT
BEGIN:VEVENT
DTSTART;TZID=Europe/Stockholm:20290612T165500
DTEND;TZID=Europe/Stockholm:20290612T210000
DTSTAMP:20260421T164320
CREATED:20260222T195332Z
LAST-MODIFIED:20260222T200426Z
UID:10011255-1875977700-1875992400@nordmalingsrk.se
SUMMARY:Lektioner
DESCRIPTION:
URL:https://nordmalingsrk.se/evenemang/lektioner/2029-06-12/
LOCATION:Ridhuset\, Torsbäcken 14\, Nordmaling\, Västerbotten\, 914 91\, Sverige
CATEGORIES:Interna bokningar,Ridskola
END:VEVENT
BEGIN:VEVENT
DTSTART;TZID=Europe/Stockholm:20290613T171000
DTEND;TZID=Europe/Stockholm:20290613T211500
DTSTAMP:20260421T164320
CREATED:20260222T195332Z
LAST-MODIFIED:20260222T200426Z
UID:10010990-1876065000-1876079700@nordmalingsrk.se
SUMMARY:Lektioner
DESCRIPTION:
URL:https://nordmalingsrk.se/evenemang/lektioner-2/2029-06-13/
LOCATION:Ridhuset\, Torsbäcken 14\, Nordmaling\, Västerbotten\, 914 91\, Sverige
CATEGORIES:Interna bokningar,Ridskola
END:VEVENT
BEGIN:VEVENT
DTSTART;TZID=Europe/Stockholm:20290614T173000
DTEND;TZID=Europe/Stockholm:20290614T204500
DTSTAMP:20260421T164320
CREATED:20260222T195332Z
LAST-MODIFIED:20260222T200425Z
UID:10010725-1876152600-1876164300@nordmalingsrk.se
SUMMARY:Lektioner
DESCRIPTION:
URL:https://nordmalingsrk.se/evenemang/lektioner-3/2029-06-14/
LOCATION:Västerbotten
CATEGORIES:Interna bokningar,Ridskola
END:VEVENT
BEGIN:VEVENT
DTSTART;TZID=Europe/Stockholm:20290618T173000
DTEND;TZID=Europe/Stockholm:20290618T200000
DTSTAMP:20260421T164320
CREATED:20260222T195332Z
LAST-MODIFIED:20260222T200427Z
UID:10011521-1876498200-1876507200@nordmalingsrk.se
SUMMARY:Lektioner
DESCRIPTION:
URL:https://nordmalingsrk.se/evenemang/lektioner-4/2029-06-18/
LOCATION:Ridhuset\, Torsbäcken 14\, Nordmaling\, Västerbotten\, 914 91\, Sverige
CATEGORIES:Interna bokningar,Ridskola
END:VEVENT
BEGIN:VEVENT
DTSTART;TZID=Europe/Stockholm:20290619T165500
DTEND;TZID=Europe/Stockholm:20290619T210000
DTSTAMP:20260421T164320
CREATED:20260222T195332Z
LAST-MODIFIED:20260222T200426Z
UID:10011256-1876582500-1876597200@nordmalingsrk.se
SUMMARY:Lektioner
DESCRIPTION:
URL:https://nordmalingsrk.se/evenemang/lektioner/2029-06-19/
LOCATION:Ridhuset\, Torsbäcken 14\, Nordmaling\, Västerbotten\, 914 91\, Sverige
CATEGORIES:Interna bokningar,Ridskola
END:VEVENT
BEGIN:VEVENT
DTSTART;TZID=Europe/Stockholm:20290620T171000
DTEND;TZID=Europe/Stockholm:20290620T211500
DTSTAMP:20260421T164320
CREATED:20260222T195332Z
LAST-MODIFIED:20260222T200426Z
UID:10010991-1876669800-1876684500@nordmalingsrk.se
SUMMARY:Lektioner
DESCRIPTION:
URL:https://nordmalingsrk.se/evenemang/lektioner-2/2029-06-20/
LOCATION:Ridhuset\, Torsbäcken 14\, Nordmaling\, Västerbotten\, 914 91\, Sverige
CATEGORIES:Interna bokningar,Ridskola
END:VEVENT
BEGIN:VEVENT
DTSTART;TZID=Europe/Stockholm:20290621T173000
DTEND;TZID=Europe/Stockholm:20290621T204500
DTSTAMP:20260421T164320
CREATED:20260222T195332Z
LAST-MODIFIED:20260222T200425Z
UID:10010726-1876757400-1876769100@nordmalingsrk.se
SUMMARY:Lektioner
DESCRIPTION:
URL:https://nordmalingsrk.se/evenemang/lektioner-3/2029-06-21/
LOCATION:Västerbotten
CATEGORIES:Interna bokningar,Ridskola
END:VEVENT
BEGIN:VEVENT
DTSTART;TZID=Europe/Stockholm:20290625T173000
DTEND;TZID=Europe/Stockholm:20290625T200000
DTSTAMP:20260421T164320
CREATED:20260222T195332Z
LAST-MODIFIED:20260222T200427Z
UID:10011522-1877103000-1877112000@nordmalingsrk.se
SUMMARY:Lektioner
DESCRIPTION:
URL:https://nordmalingsrk.se/evenemang/lektioner-4/2029-06-25/
LOCATION:Ridhuset\, Torsbäcken 14\, Nordmaling\, Västerbotten\, 914 91\, Sverige
CATEGORIES:Interna bokningar,Ridskola
END:VEVENT
BEGIN:VEVENT
DTSTART;TZID=Europe/Stockholm:20290626T165500
DTEND;TZID=Europe/Stockholm:20290626T210000
DTSTAMP:20260421T164320
CREATED:20260222T195332Z
LAST-MODIFIED:20260222T200426Z
UID:10011257-1877187300-1877202000@nordmalingsrk.se
SUMMARY:Lektioner
DESCRIPTION:
URL:https://nordmalingsrk.se/evenemang/lektioner/2029-06-26/
LOCATION:Ridhuset\, Torsbäcken 14\, Nordmaling\, Västerbotten\, 914 91\, Sverige
CATEGORIES:Interna bokningar,Ridskola
END:VEVENT
BEGIN:VEVENT
DTSTART;TZID=Europe/Stockholm:20290627T171000
DTEND;TZID=Europe/Stockholm:20290627T211500
DTSTAMP:20260421T164320
CREATED:20260222T195332Z
LAST-MODIFIED:20260222T200426Z
UID:10010992-1877274600-1877289300@nordmalingsrk.se
SUMMARY:Lektioner
DESCRIPTION:
URL:https://nordmalingsrk.se/evenemang/lektioner-2/2029-06-27/
LOCATION:Ridhuset\, Torsbäcken 14\, Nordmaling\, Västerbotten\, 914 91\, Sverige
CATEGORIES:Interna bokningar,Ridskola
END:VEVENT
BEGIN:VEVENT
DTSTART;TZID=Europe/Stockholm:20290628T173000
DTEND;TZID=Europe/Stockholm:20290628T204500
DTSTAMP:20260421T164320
CREATED:20260222T195332Z
LAST-MODIFIED:20260222T200425Z
UID:10010727-1877362200-1877373900@nordmalingsrk.se
SUMMARY:Lektioner
DESCRIPTION:
URL:https://nordmalingsrk.se/evenemang/lektioner-3/2029-06-28/
LOCATION:Västerbotten
CATEGORIES:Interna bokningar,Ridskola
END:VEVENT
END:VCALENDAR