BEGIN:VCALENDAR
VERSION:2.0
PRODID:-//Nordmalings Ridklubb - ECPv6.15.13//NONSGML v1.0//EN
CALSCALE:GREGORIAN
METHOD:PUBLISH
X-WR-CALNAME:Nordmalings Ridklubb
X-ORIGINAL-URL:https://nordmalingsrk.se
X-WR-CALDESC:Händelser för Nordmalings Ridklubb
REFRESH-INTERVAL;VALUE=DURATION:PT1H
X-Robots-Tag:noindex
X-PUBLISHED-TTL:PT1H
BEGIN:VTIMEZONE
TZID:Europe/Stockholm
BEGIN:DAYLIGHT
TZOFFSETFROM:+0100
TZOFFSETTO:+0200
TZNAME:CEST
DTSTART:20280326T010000
END:DAYLIGHT
BEGIN:STANDARD
TZOFFSETFROM:+0200
TZOFFSETTO:+0100
TZNAME:CET
DTSTART:20281029T010000
END:STANDARD
BEGIN:DAYLIGHT
TZOFFSETFROM:+0100
TZOFFSETTO:+0200
TZNAME:CEST
DTSTART:20290325T010000
END:DAYLIGHT
BEGIN:STANDARD
TZOFFSETFROM:+0200
TZOFFSETTO:+0100
TZNAME:CET
DTSTART:20291028T010000
END:STANDARD
BEGIN:DAYLIGHT
TZOFFSETFROM:+0100
TZOFFSETTO:+0200
TZNAME:CEST
DTSTART:20300331T010000
END:DAYLIGHT
BEGIN:STANDARD
TZOFFSETFROM:+0200
TZOFFSETTO:+0100
TZNAME:CET
DTSTART:20301027T010000
END:STANDARD
END:VTIMEZONE
BEGIN:VEVENT
DTSTART;TZID=Europe/Stockholm:20290903T173000
DTEND;TZID=Europe/Stockholm:20290903T200000
DTSTAMP:20260421T221232
CREATED:20260222T195332Z
LAST-MODIFIED:20260222T200427Z
UID:10011532-1883151000-1883160000@nordmalingsrk.se
SUMMARY:Lektioner
DESCRIPTION:
URL:https://nordmalingsrk.se/evenemang/lektioner-4/2029-09-03/
LOCATION:Ridhuset\, Torsbäcken 14\, Nordmaling\, Västerbotten\, 914 91\, Sverige
CATEGORIES:Interna bokningar,Ridskola
END:VEVENT
BEGIN:VEVENT
DTSTART;TZID=Europe/Stockholm:20290904T165500
DTEND;TZID=Europe/Stockholm:20290904T210000
DTSTAMP:20260421T221232
CREATED:20260222T195332Z
LAST-MODIFIED:20260222T200426Z
UID:10011267-1883235300-1883250000@nordmalingsrk.se
SUMMARY:Lektioner
DESCRIPTION:
URL:https://nordmalingsrk.se/evenemang/lektioner/2029-09-04/
LOCATION:Ridhuset\, Torsbäcken 14\, Nordmaling\, Västerbotten\, 914 91\, Sverige
CATEGORIES:Interna bokningar,Ridskola
END:VEVENT
BEGIN:VEVENT
DTSTART;TZID=Europe/Stockholm:20290905T171000
DTEND;TZID=Europe/Stockholm:20290905T211500
DTSTAMP:20260421T221232
CREATED:20260222T195332Z
LAST-MODIFIED:20260222T200426Z
UID:10011002-1883322600-1883337300@nordmalingsrk.se
SUMMARY:Lektioner
DESCRIPTION:
URL:https://nordmalingsrk.se/evenemang/lektioner-2/2029-09-05/
LOCATION:Ridhuset\, Torsbäcken 14\, Nordmaling\, Västerbotten\, 914 91\, Sverige
CATEGORIES:Interna bokningar,Ridskola
END:VEVENT
BEGIN:VEVENT
DTSTART;TZID=Europe/Stockholm:20290906T173000
DTEND;TZID=Europe/Stockholm:20290906T204500
DTSTAMP:20260421T221232
CREATED:20260222T195332Z
LAST-MODIFIED:20260222T200425Z
UID:10010737-1883410200-1883421900@nordmalingsrk.se
SUMMARY:Lektioner
DESCRIPTION:
URL:https://nordmalingsrk.se/evenemang/lektioner-3/2029-09-06/
LOCATION:Västerbotten
CATEGORIES:Interna bokningar,Ridskola
END:VEVENT
BEGIN:VEVENT
DTSTART;TZID=Europe/Stockholm:20290910T173000
DTEND;TZID=Europe/Stockholm:20290910T200000
DTSTAMP:20260421T221232
CREATED:20260222T195332Z
LAST-MODIFIED:20260222T200427Z
UID:10011533-1883755800-1883764800@nordmalingsrk.se
SUMMARY:Lektioner
DESCRIPTION:
URL:https://nordmalingsrk.se/evenemang/lektioner-4/2029-09-10/
LOCATION:Ridhuset\, Torsbäcken 14\, Nordmaling\, Västerbotten\, 914 91\, Sverige
CATEGORIES:Interna bokningar,Ridskola
END:VEVENT
BEGIN:VEVENT
DTSTART;TZID=Europe/Stockholm:20290911T165500
DTEND;TZID=Europe/Stockholm:20290911T210000
DTSTAMP:20260421T221232
CREATED:20260222T195332Z
LAST-MODIFIED:20260222T200426Z
UID:10011268-1883840100-1883854800@nordmalingsrk.se
SUMMARY:Lektioner
DESCRIPTION:
URL:https://nordmalingsrk.se/evenemang/lektioner/2029-09-11/
LOCATION:Ridhuset\, Torsbäcken 14\, Nordmaling\, Västerbotten\, 914 91\, Sverige
CATEGORIES:Interna bokningar,Ridskola
END:VEVENT
BEGIN:VEVENT
DTSTART;TZID=Europe/Stockholm:20290912T171000
DTEND;TZID=Europe/Stockholm:20290912T211500
DTSTAMP:20260421T221232
CREATED:20260222T195332Z
LAST-MODIFIED:20260222T200426Z
UID:10011003-1883927400-1883942100@nordmalingsrk.se
SUMMARY:Lektioner
DESCRIPTION:
URL:https://nordmalingsrk.se/evenemang/lektioner-2/2029-09-12/
LOCATION:Ridhuset\, Torsbäcken 14\, Nordmaling\, Västerbotten\, 914 91\, Sverige
CATEGORIES:Interna bokningar,Ridskola
END:VEVENT
BEGIN:VEVENT
DTSTART;TZID=Europe/Stockholm:20290913T173000
DTEND;TZID=Europe/Stockholm:20290913T204500
DTSTAMP:20260421T221232
CREATED:20260222T195332Z
LAST-MODIFIED:20260222T200425Z
UID:10010738-1884015000-1884026700@nordmalingsrk.se
SUMMARY:Lektioner
DESCRIPTION:
URL:https://nordmalingsrk.se/evenemang/lektioner-3/2029-09-13/
LOCATION:Västerbotten
CATEGORIES:Interna bokningar,Ridskola
END:VEVENT
BEGIN:VEVENT
DTSTART;TZID=Europe/Stockholm:20290917T173000
DTEND;TZID=Europe/Stockholm:20290917T200000
DTSTAMP:20260421T221232
CREATED:20260222T195332Z
LAST-MODIFIED:20260222T200427Z
UID:10011534-1884360600-1884369600@nordmalingsrk.se
SUMMARY:Lektioner
DESCRIPTION:
URL:https://nordmalingsrk.se/evenemang/lektioner-4/2029-09-17/
LOCATION:Ridhuset\, Torsbäcken 14\, Nordmaling\, Västerbotten\, 914 91\, Sverige
CATEGORIES:Interna bokningar,Ridskola
END:VEVENT
BEGIN:VEVENT
DTSTART;TZID=Europe/Stockholm:20290918T165500
DTEND;TZID=Europe/Stockholm:20290918T210000
DTSTAMP:20260421T221232
CREATED:20260222T195332Z
LAST-MODIFIED:20260222T200426Z
UID:10011269-1884444900-1884459600@nordmalingsrk.se
SUMMARY:Lektioner
DESCRIPTION:
URL:https://nordmalingsrk.se/evenemang/lektioner/2029-09-18/
LOCATION:Ridhuset\, Torsbäcken 14\, Nordmaling\, Västerbotten\, 914 91\, Sverige
CATEGORIES:Interna bokningar,Ridskola
END:VEVENT
BEGIN:VEVENT
DTSTART;TZID=Europe/Stockholm:20290919T171000
DTEND;TZID=Europe/Stockholm:20290919T211500
DTSTAMP:20260421T221232
CREATED:20260222T195332Z
LAST-MODIFIED:20260222T200426Z
UID:10011004-1884532200-1884546900@nordmalingsrk.se
SUMMARY:Lektioner
DESCRIPTION:
URL:https://nordmalingsrk.se/evenemang/lektioner-2/2029-09-19/
LOCATION:Ridhuset\, Torsbäcken 14\, Nordmaling\, Västerbotten\, 914 91\, Sverige
CATEGORIES:Interna bokningar,Ridskola
END:VEVENT
BEGIN:VEVENT
DTSTART;TZID=Europe/Stockholm:20290920T173000
DTEND;TZID=Europe/Stockholm:20290920T204500
DTSTAMP:20260421T221232
CREATED:20260222T195332Z
LAST-MODIFIED:20260222T200425Z
UID:10010739-1884619800-1884631500@nordmalingsrk.se
SUMMARY:Lektioner
DESCRIPTION:
URL:https://nordmalingsrk.se/evenemang/lektioner-3/2029-09-20/
LOCATION:Västerbotten
CATEGORIES:Interna bokningar,Ridskola
END:VEVENT
BEGIN:VEVENT
DTSTART;TZID=Europe/Stockholm:20290924T173000
DTEND;TZID=Europe/Stockholm:20290924T200000
DTSTAMP:20260421T221232
CREATED:20260222T195332Z
LAST-MODIFIED:20260222T200427Z
UID:10011535-1884965400-1884974400@nordmalingsrk.se
SUMMARY:Lektioner
DESCRIPTION:
URL:https://nordmalingsrk.se/evenemang/lektioner-4/2029-09-24/
LOCATION:Ridhuset\, Torsbäcken 14\, Nordmaling\, Västerbotten\, 914 91\, Sverige
CATEGORIES:Interna bokningar,Ridskola
END:VEVENT
BEGIN:VEVENT
DTSTART;TZID=Europe/Stockholm:20290925T165500
DTEND;TZID=Europe/Stockholm:20290925T210000
DTSTAMP:20260421T221232
CREATED:20260222T195332Z
LAST-MODIFIED:20260222T200426Z
UID:10011270-1885049700-1885064400@nordmalingsrk.se
SUMMARY:Lektioner
DESCRIPTION:
URL:https://nordmalingsrk.se/evenemang/lektioner/2029-09-25/
LOCATION:Ridhuset\, Torsbäcken 14\, Nordmaling\, Västerbotten\, 914 91\, Sverige
CATEGORIES:Interna bokningar,Ridskola
END:VEVENT
BEGIN:VEVENT
DTSTART;TZID=Europe/Stockholm:20290926T171000
DTEND;TZID=Europe/Stockholm:20290926T211500
DTSTAMP:20260421T221232
CREATED:20260222T195332Z
LAST-MODIFIED:20260222T200426Z
UID:10011005-1885137000-1885151700@nordmalingsrk.se
SUMMARY:Lektioner
DESCRIPTION:
URL:https://nordmalingsrk.se/evenemang/lektioner-2/2029-09-26/
LOCATION:Ridhuset\, Torsbäcken 14\, Nordmaling\, Västerbotten\, 914 91\, Sverige
CATEGORIES:Interna bokningar,Ridskola
END:VEVENT
BEGIN:VEVENT
DTSTART;TZID=Europe/Stockholm:20290927T173000
DTEND;TZID=Europe/Stockholm:20290927T204500
DTSTAMP:20260421T221232
CREATED:20260222T195332Z
LAST-MODIFIED:20260222T200425Z
UID:10010740-1885224600-1885236300@nordmalingsrk.se
SUMMARY:Lektioner
DESCRIPTION:
URL:https://nordmalingsrk.se/evenemang/lektioner-3/2029-09-27/
LOCATION:Västerbotten
CATEGORIES:Interna bokningar,Ridskola
END:VEVENT
END:VCALENDAR