BEGIN:VCALENDAR
VERSION:2.0
PRODID:-//Nordmalings Ridklubb - ECPv6.15.13//NONSGML v1.0//EN
CALSCALE:GREGORIAN
METHOD:PUBLISH
X-WR-CALNAME:Nordmalings Ridklubb
X-ORIGINAL-URL:https://nordmalingsrk.se
X-WR-CALDESC:Händelser för Nordmalings Ridklubb
REFRESH-INTERVAL;VALUE=DURATION:PT1H
X-Robots-Tag:noindex
X-PUBLISHED-TTL:PT1H
BEGIN:VTIMEZONE
TZID:Europe/Stockholm
BEGIN:DAYLIGHT
TZOFFSETFROM:+0100
TZOFFSETTO:+0200
TZNAME:CEST
DTSTART:20260329T010000
END:DAYLIGHT
BEGIN:STANDARD
TZOFFSETFROM:+0200
TZOFFSETTO:+0100
TZNAME:CET
DTSTART:20261025T010000
END:STANDARD
BEGIN:DAYLIGHT
TZOFFSETFROM:+0100
TZOFFSETTO:+0200
TZNAME:CEST
DTSTART:20270328T010000
END:DAYLIGHT
BEGIN:STANDARD
TZOFFSETFROM:+0200
TZOFFSETTO:+0100
TZNAME:CET
DTSTART:20271031T010000
END:STANDARD
BEGIN:DAYLIGHT
TZOFFSETFROM:+0100
TZOFFSETTO:+0200
TZNAME:CEST
DTSTART:20280326T010000
END:DAYLIGHT
BEGIN:STANDARD
TZOFFSETFROM:+0200
TZOFFSETTO:+0100
TZNAME:CET
DTSTART:20281029T010000
END:STANDARD
END:VTIMEZONE
BEGIN:VEVENT
DTSTART;TZID=Europe/Stockholm:20271011T100000
DTEND;TZID=Europe/Stockholm:20271011T110000
DTSTAMP:20260420T092918
CREATED:20260302T072033Z
LAST-MODIFIED:20260302T072037Z
UID:10011697-1823248800-1823252400@nordmalingsrk.se
SUMMARY:Underlagsskötsel
DESCRIPTION:Harvning av ridhus
URL:https://nordmalingsrk.se/evenemang/underlagsskotsel-2/2027-10-11/
END:VEVENT
BEGIN:VEVENT
DTSTART;TZID=Europe/Stockholm:20271011T173000
DTEND;TZID=Europe/Stockholm:20271011T200000
DTSTAMP:20260420T092918
CREATED:20260222T195332Z
LAST-MODIFIED:20260222T200427Z
UID:10011433-1823275800-1823284800@nordmalingsrk.se
SUMMARY:Lektioner
DESCRIPTION:
URL:https://nordmalingsrk.se/evenemang/lektioner-4/2027-10-11/
LOCATION:Ridhuset\, Torsbäcken 14\, Nordmaling\, Västerbotten\, 914 91\, Sverige
CATEGORIES:Interna bokningar,Ridskola
END:VEVENT
BEGIN:VEVENT
DTSTART;TZID=Europe/Stockholm:20271012T165500
DTEND;TZID=Europe/Stockholm:20271012T210000
DTSTAMP:20260420T092918
CREATED:20260222T195332Z
LAST-MODIFIED:20260222T200426Z
UID:10011168-1823360100-1823374800@nordmalingsrk.se
SUMMARY:Lektioner
DESCRIPTION:
URL:https://nordmalingsrk.se/evenemang/lektioner/2027-10-12/
LOCATION:Ridhuset\, Torsbäcken 14\, Nordmaling\, Västerbotten\, 914 91\, Sverige
CATEGORIES:Interna bokningar,Ridskola
END:VEVENT
BEGIN:VEVENT
DTSTART;TZID=Europe/Stockholm:20271013T130000
DTEND;TZID=Europe/Stockholm:20271013T140000
DTSTAMP:20260420T092918
CREATED:20260302T072223Z
LAST-MODIFIED:20260302T072227Z
UID:10011958-1823432400-1823436000@nordmalingsrk.se
SUMMARY:Underlagsskötsel
DESCRIPTION:Vattning och harvning av ridhus.
URL:https://nordmalingsrk.se/evenemang/underlagsskotsel-3/2027-10-13/
END:VEVENT
BEGIN:VEVENT
DTSTART;TZID=Europe/Stockholm:20271013T171000
DTEND;TZID=Europe/Stockholm:20271013T211500
DTSTAMP:20260420T092918
CREATED:20260222T195332Z
LAST-MODIFIED:20260222T200426Z
UID:10010903-1823447400-1823462100@nordmalingsrk.se
SUMMARY:Lektioner
DESCRIPTION:
URL:https://nordmalingsrk.se/evenemang/lektioner-2/2027-10-13/
LOCATION:Ridhuset\, Torsbäcken 14\, Nordmaling\, Västerbotten\, 914 91\, Sverige
CATEGORIES:Interna bokningar,Ridskola
END:VEVENT
BEGIN:VEVENT
DTSTART;TZID=Europe/Stockholm:20271014T173000
DTEND;TZID=Europe/Stockholm:20271014T204500
DTSTAMP:20260420T092918
CREATED:20260222T195332Z
LAST-MODIFIED:20260222T200425Z
UID:10010638-1823535000-1823546700@nordmalingsrk.se
SUMMARY:Lektioner
DESCRIPTION:
URL:https://nordmalingsrk.se/evenemang/lektioner-3/2027-10-14/
CATEGORIES:Interna bokningar,Ridskola
END:VEVENT
BEGIN:VEVENT
DTSTART;TZID=Europe/Stockholm:20271018T100000
DTEND;TZID=Europe/Stockholm:20271018T110000
DTSTAMP:20260420T092918
CREATED:20260302T072033Z
LAST-MODIFIED:20260302T072037Z
UID:10011698-1823853600-1823857200@nordmalingsrk.se
SUMMARY:Underlagsskötsel
DESCRIPTION:Harvning av ridhus
URL:https://nordmalingsrk.se/evenemang/underlagsskotsel-2/2027-10-18/
END:VEVENT
BEGIN:VEVENT
DTSTART;TZID=Europe/Stockholm:20271018T173000
DTEND;TZID=Europe/Stockholm:20271018T200000
DTSTAMP:20260420T092918
CREATED:20260222T195332Z
LAST-MODIFIED:20260222T200427Z
UID:10011434-1823880600-1823889600@nordmalingsrk.se
SUMMARY:Lektioner
DESCRIPTION:
URL:https://nordmalingsrk.se/evenemang/lektioner-4/2027-10-18/
LOCATION:Ridhuset\, Torsbäcken 14\, Nordmaling\, Västerbotten\, 914 91\, Sverige
CATEGORIES:Interna bokningar,Ridskola
END:VEVENT
BEGIN:VEVENT
DTSTART;TZID=Europe/Stockholm:20271019T165500
DTEND;TZID=Europe/Stockholm:20271019T210000
DTSTAMP:20260420T092918
CREATED:20260222T195332Z
LAST-MODIFIED:20260222T200426Z
UID:10011169-1823964900-1823979600@nordmalingsrk.se
SUMMARY:Lektioner
DESCRIPTION:
URL:https://nordmalingsrk.se/evenemang/lektioner/2027-10-19/
LOCATION:Ridhuset\, Torsbäcken 14\, Nordmaling\, Västerbotten\, 914 91\, Sverige
CATEGORIES:Interna bokningar,Ridskola
END:VEVENT
BEGIN:VEVENT
DTSTART;TZID=Europe/Stockholm:20271020T130000
DTEND;TZID=Europe/Stockholm:20271020T140000
DTSTAMP:20260420T092918
CREATED:20260302T072223Z
LAST-MODIFIED:20260302T072227Z
UID:10011959-1824037200-1824040800@nordmalingsrk.se
SUMMARY:Underlagsskötsel
DESCRIPTION:Vattning och harvning av ridhus.
URL:https://nordmalingsrk.se/evenemang/underlagsskotsel-3/2027-10-20/
END:VEVENT
BEGIN:VEVENT
DTSTART;TZID=Europe/Stockholm:20271020T171000
DTEND;TZID=Europe/Stockholm:20271020T211500
DTSTAMP:20260420T092918
CREATED:20260222T195332Z
LAST-MODIFIED:20260222T200426Z
UID:10010904-1824052200-1824066900@nordmalingsrk.se
SUMMARY:Lektioner
DESCRIPTION:
URL:https://nordmalingsrk.se/evenemang/lektioner-2/2027-10-20/
LOCATION:Ridhuset\, Torsbäcken 14\, Nordmaling\, Västerbotten\, 914 91\, Sverige
CATEGORIES:Interna bokningar,Ridskola
END:VEVENT
BEGIN:VEVENT
DTSTART;TZID=Europe/Stockholm:20271021T173000
DTEND;TZID=Europe/Stockholm:20271021T204500
DTSTAMP:20260420T092918
CREATED:20260222T195332Z
LAST-MODIFIED:20260222T200425Z
UID:10010639-1824139800-1824151500@nordmalingsrk.se
SUMMARY:Lektioner
DESCRIPTION:
URL:https://nordmalingsrk.se/evenemang/lektioner-3/2027-10-21/
CATEGORIES:Interna bokningar,Ridskola
END:VEVENT
BEGIN:VEVENT
DTSTART;TZID=Europe/Stockholm:20271025T100000
DTEND;TZID=Europe/Stockholm:20271025T110000
DTSTAMP:20260420T092918
CREATED:20260302T072033Z
LAST-MODIFIED:20260302T072037Z
UID:10011699-1824458400-1824462000@nordmalingsrk.se
SUMMARY:Underlagsskötsel
DESCRIPTION:Harvning av ridhus
URL:https://nordmalingsrk.se/evenemang/underlagsskotsel-2/2027-10-25/
END:VEVENT
BEGIN:VEVENT
DTSTART;TZID=Europe/Stockholm:20271025T173000
DTEND;TZID=Europe/Stockholm:20271025T200000
DTSTAMP:20260420T092918
CREATED:20260222T195332Z
LAST-MODIFIED:20260222T200427Z
UID:10011435-1824485400-1824494400@nordmalingsrk.se
SUMMARY:Lektioner
DESCRIPTION:
URL:https://nordmalingsrk.se/evenemang/lektioner-4/2027-10-25/
LOCATION:Ridhuset\, Torsbäcken 14\, Nordmaling\, Västerbotten\, 914 91\, Sverige
CATEGORIES:Interna bokningar,Ridskola
END:VEVENT
BEGIN:VEVENT
DTSTART;TZID=Europe/Stockholm:20271026T165500
DTEND;TZID=Europe/Stockholm:20271026T210000
DTSTAMP:20260420T092918
CREATED:20260222T195332Z
LAST-MODIFIED:20260222T200426Z
UID:10011170-1824569700-1824584400@nordmalingsrk.se
SUMMARY:Lektioner
DESCRIPTION:
URL:https://nordmalingsrk.se/evenemang/lektioner/2027-10-26/
LOCATION:Ridhuset\, Torsbäcken 14\, Nordmaling\, Västerbotten\, 914 91\, Sverige
CATEGORIES:Interna bokningar,Ridskola
END:VEVENT
BEGIN:VEVENT
DTSTART;TZID=Europe/Stockholm:20271027T130000
DTEND;TZID=Europe/Stockholm:20271027T140000
DTSTAMP:20260420T092918
CREATED:20260302T072223Z
LAST-MODIFIED:20260302T072227Z
UID:10011960-1824642000-1824645600@nordmalingsrk.se
SUMMARY:Underlagsskötsel
DESCRIPTION:Vattning och harvning av ridhus.
URL:https://nordmalingsrk.se/evenemang/underlagsskotsel-3/2027-10-27/
END:VEVENT
BEGIN:VEVENT
DTSTART;TZID=Europe/Stockholm:20271027T171000
DTEND;TZID=Europe/Stockholm:20271027T211500
DTSTAMP:20260420T092918
CREATED:20260222T195332Z
LAST-MODIFIED:20260222T200426Z
UID:10010905-1824657000-1824671700@nordmalingsrk.se
SUMMARY:Lektioner
DESCRIPTION:
URL:https://nordmalingsrk.se/evenemang/lektioner-2/2027-10-27/
LOCATION:Ridhuset\, Torsbäcken 14\, Nordmaling\, Västerbotten\, 914 91\, Sverige
CATEGORIES:Interna bokningar,Ridskola
END:VEVENT
BEGIN:VEVENT
DTSTART;TZID=Europe/Stockholm:20271028T173000
DTEND;TZID=Europe/Stockholm:20271028T204500
DTSTAMP:20260420T092918
CREATED:20260222T195332Z
LAST-MODIFIED:20260222T200425Z
UID:10010640-1824744600-1824756300@nordmalingsrk.se
SUMMARY:Lektioner
DESCRIPTION:
URL:https://nordmalingsrk.se/evenemang/lektioner-3/2027-10-28/
CATEGORIES:Interna bokningar,Ridskola
END:VEVENT
BEGIN:VEVENT
DTSTART;TZID=Europe/Stockholm:20271101T100000
DTEND;TZID=Europe/Stockholm:20271101T110000
DTSTAMP:20260420T092918
CREATED:20260302T072033Z
LAST-MODIFIED:20260302T072037Z
UID:10011700-1825063200-1825066800@nordmalingsrk.se
SUMMARY:Underlagsskötsel
DESCRIPTION:Harvning av ridhus
URL:https://nordmalingsrk.se/evenemang/underlagsskotsel-2/2027-11-01/
END:VEVENT
BEGIN:VEVENT
DTSTART;TZID=Europe/Stockholm:20271101T173000
DTEND;TZID=Europe/Stockholm:20271101T200000
DTSTAMP:20260420T092918
CREATED:20260222T195332Z
LAST-MODIFIED:20260222T200427Z
UID:10011436-1825090200-1825099200@nordmalingsrk.se
SUMMARY:Lektioner
DESCRIPTION:
URL:https://nordmalingsrk.se/evenemang/lektioner-4/2027-11-01/
LOCATION:Ridhuset\, Torsbäcken 14\, Nordmaling\, Västerbotten\, 914 91\, Sverige
CATEGORIES:Interna bokningar,Ridskola
END:VEVENT
BEGIN:VEVENT
DTSTART;TZID=Europe/Stockholm:20271102T165500
DTEND;TZID=Europe/Stockholm:20271102T210000
DTSTAMP:20260420T092918
CREATED:20260222T195332Z
LAST-MODIFIED:20260222T200426Z
UID:10011171-1825174500-1825189200@nordmalingsrk.se
SUMMARY:Lektioner
DESCRIPTION:
URL:https://nordmalingsrk.se/evenemang/lektioner/2027-11-02/
LOCATION:Ridhuset\, Torsbäcken 14\, Nordmaling\, Västerbotten\, 914 91\, Sverige
CATEGORIES:Interna bokningar,Ridskola
END:VEVENT
BEGIN:VEVENT
DTSTART;TZID=Europe/Stockholm:20271103T130000
DTEND;TZID=Europe/Stockholm:20271103T140000
DTSTAMP:20260420T092918
CREATED:20260302T072223Z
LAST-MODIFIED:20260302T072227Z
UID:10011961-1825246800-1825250400@nordmalingsrk.se
SUMMARY:Underlagsskötsel
DESCRIPTION:Vattning och harvning av ridhus.
URL:https://nordmalingsrk.se/evenemang/underlagsskotsel-3/2027-11-03/
END:VEVENT
BEGIN:VEVENT
DTSTART;TZID=Europe/Stockholm:20271103T171000
DTEND;TZID=Europe/Stockholm:20271103T211500
DTSTAMP:20260420T092918
CREATED:20260222T195332Z
LAST-MODIFIED:20260222T200426Z
UID:10010906-1825261800-1825276500@nordmalingsrk.se
SUMMARY:Lektioner
DESCRIPTION:
URL:https://nordmalingsrk.se/evenemang/lektioner-2/2027-11-03/
LOCATION:Ridhuset\, Torsbäcken 14\, Nordmaling\, Västerbotten\, 914 91\, Sverige
CATEGORIES:Interna bokningar,Ridskola
END:VEVENT
BEGIN:VEVENT
DTSTART;TZID=Europe/Stockholm:20271104T173000
DTEND;TZID=Europe/Stockholm:20271104T204500
DTSTAMP:20260420T092918
CREATED:20260222T195332Z
LAST-MODIFIED:20260222T200425Z
UID:10010641-1825349400-1825361100@nordmalingsrk.se
SUMMARY:Lektioner
DESCRIPTION:
URL:https://nordmalingsrk.se/evenemang/lektioner-3/2027-11-04/
CATEGORIES:Interna bokningar,Ridskola
END:VEVENT
BEGIN:VEVENT
DTSTART;TZID=Europe/Stockholm:20271108T100000
DTEND;TZID=Europe/Stockholm:20271108T110000
DTSTAMP:20260420T092918
CREATED:20260302T072033Z
LAST-MODIFIED:20260302T072037Z
UID:10011701-1825668000-1825671600@nordmalingsrk.se
SUMMARY:Underlagsskötsel
DESCRIPTION:Harvning av ridhus
URL:https://nordmalingsrk.se/evenemang/underlagsskotsel-2/2027-11-08/
END:VEVENT
BEGIN:VEVENT
DTSTART;TZID=Europe/Stockholm:20271108T173000
DTEND;TZID=Europe/Stockholm:20271108T200000
DTSTAMP:20260420T092918
CREATED:20260222T195332Z
LAST-MODIFIED:20260222T200427Z
UID:10011437-1825695000-1825704000@nordmalingsrk.se
SUMMARY:Lektioner
DESCRIPTION:
URL:https://nordmalingsrk.se/evenemang/lektioner-4/2027-11-08/
LOCATION:Ridhuset\, Torsbäcken 14\, Nordmaling\, Västerbotten\, 914 91\, Sverige
CATEGORIES:Interna bokningar,Ridskola
END:VEVENT
BEGIN:VEVENT
DTSTART;TZID=Europe/Stockholm:20271109T165500
DTEND;TZID=Europe/Stockholm:20271109T210000
DTSTAMP:20260420T092918
CREATED:20260222T195332Z
LAST-MODIFIED:20260222T200426Z
UID:10011172-1825779300-1825794000@nordmalingsrk.se
SUMMARY:Lektioner
DESCRIPTION:
URL:https://nordmalingsrk.se/evenemang/lektioner/2027-11-09/
LOCATION:Ridhuset\, Torsbäcken 14\, Nordmaling\, Västerbotten\, 914 91\, Sverige
CATEGORIES:Interna bokningar,Ridskola
END:VEVENT
BEGIN:VEVENT
DTSTART;TZID=Europe/Stockholm:20271110T130000
DTEND;TZID=Europe/Stockholm:20271110T140000
DTSTAMP:20260420T092918
CREATED:20260302T072223Z
LAST-MODIFIED:20260302T072227Z
UID:10011962-1825851600-1825855200@nordmalingsrk.se
SUMMARY:Underlagsskötsel
DESCRIPTION:Vattning och harvning av ridhus.
URL:https://nordmalingsrk.se/evenemang/underlagsskotsel-3/2027-11-10/
END:VEVENT
BEGIN:VEVENT
DTSTART;TZID=Europe/Stockholm:20271110T171000
DTEND;TZID=Europe/Stockholm:20271110T211500
DTSTAMP:20260420T092918
CREATED:20260222T195332Z
LAST-MODIFIED:20260222T200426Z
UID:10010907-1825866600-1825881300@nordmalingsrk.se
SUMMARY:Lektioner
DESCRIPTION:
URL:https://nordmalingsrk.se/evenemang/lektioner-2/2027-11-10/
LOCATION:Ridhuset\, Torsbäcken 14\, Nordmaling\, Västerbotten\, 914 91\, Sverige
CATEGORIES:Interna bokningar,Ridskola
END:VEVENT
BEGIN:VEVENT
DTSTART;TZID=Europe/Stockholm:20271111T173000
DTEND;TZID=Europe/Stockholm:20271111T204500
DTSTAMP:20260420T092918
CREATED:20260222T195332Z
LAST-MODIFIED:20260222T200425Z
UID:10010642-1825954200-1825965900@nordmalingsrk.se
SUMMARY:Lektioner
DESCRIPTION:
URL:https://nordmalingsrk.se/evenemang/lektioner-3/2027-11-11/
CATEGORIES:Interna bokningar,Ridskola
END:VEVENT
END:VCALENDAR