BEGIN:VCALENDAR
VERSION:2.0
PRODID:-//Nordmalings Ridklubb - ECPv6.15.13//NONSGML v1.0//EN
CALSCALE:GREGORIAN
METHOD:PUBLISH
X-WR-CALNAME:Nordmalings Ridklubb
X-ORIGINAL-URL:https://nordmalingsrk.se
X-WR-CALDESC:Händelser för Nordmalings Ridklubb
REFRESH-INTERVAL;VALUE=DURATION:PT1H
X-Robots-Tag:noindex
X-PUBLISHED-TTL:PT1H
BEGIN:VTIMEZONE
TZID:Europe/Stockholm
BEGIN:DAYLIGHT
TZOFFSETFROM:+0100
TZOFFSETTO:+0200
TZNAME:CEST
DTSTART:20280326T010000
END:DAYLIGHT
BEGIN:STANDARD
TZOFFSETFROM:+0200
TZOFFSETTO:+0100
TZNAME:CET
DTSTART:20281029T010000
END:STANDARD
BEGIN:DAYLIGHT
TZOFFSETFROM:+0100
TZOFFSETTO:+0200
TZNAME:CEST
DTSTART:20290325T010000
END:DAYLIGHT
BEGIN:STANDARD
TZOFFSETFROM:+0200
TZOFFSETTO:+0100
TZNAME:CET
DTSTART:20291028T010000
END:STANDARD
BEGIN:DAYLIGHT
TZOFFSETFROM:+0100
TZOFFSETTO:+0200
TZNAME:CEST
DTSTART:20300331T010000
END:DAYLIGHT
BEGIN:STANDARD
TZOFFSETFROM:+0200
TZOFFSETTO:+0100
TZNAME:CET
DTSTART:20301027T010000
END:STANDARD
END:VTIMEZONE
BEGIN:VEVENT
DTSTART;TZID=Europe/Stockholm:20290924T100000
DTEND;TZID=Europe/Stockholm:20290924T110000
DTSTAMP:20260421T161543
CREATED:20260302T072033Z
LAST-MODIFIED:20260302T072037Z
UID:10011799-1884938400-1884942000@nordmalingsrk.se
SUMMARY:Underlagsskötsel
DESCRIPTION:Harvning av ridhus
URL:https://nordmalingsrk.se/evenemang/underlagsskotsel-2/2029-09-24/
END:VEVENT
BEGIN:VEVENT
DTSTART;TZID=Europe/Stockholm:20290924T173000
DTEND;TZID=Europe/Stockholm:20290924T200000
DTSTAMP:20260421T161543
CREATED:20260222T195332Z
LAST-MODIFIED:20260222T200427Z
UID:10011535-1884965400-1884974400@nordmalingsrk.se
SUMMARY:Lektioner
DESCRIPTION:
URL:https://nordmalingsrk.se/evenemang/lektioner-4/2029-09-24/
LOCATION:Ridhuset\, Torsbäcken 14\, Nordmaling\, Västerbotten\, 914 91\, Sverige
CATEGORIES:Interna bokningar,Ridskola
END:VEVENT
BEGIN:VEVENT
DTSTART;TZID=Europe/Stockholm:20290925T165500
DTEND;TZID=Europe/Stockholm:20290925T210000
DTSTAMP:20260421T161543
CREATED:20260222T195332Z
LAST-MODIFIED:20260222T200426Z
UID:10011270-1885049700-1885064400@nordmalingsrk.se
SUMMARY:Lektioner
DESCRIPTION:
URL:https://nordmalingsrk.se/evenemang/lektioner/2029-09-25/
LOCATION:Ridhuset\, Torsbäcken 14\, Nordmaling\, Västerbotten\, 914 91\, Sverige
CATEGORIES:Interna bokningar,Ridskola
END:VEVENT
BEGIN:VEVENT
DTSTART;TZID=Europe/Stockholm:20290926T130000
DTEND;TZID=Europe/Stockholm:20290926T140000
DTSTAMP:20260421T161543
CREATED:20260302T072223Z
LAST-MODIFIED:20260302T072227Z
UID:10012060-1885122000-1885125600@nordmalingsrk.se
SUMMARY:Underlagsskötsel
DESCRIPTION:Vattning och harvning av ridhus.
URL:https://nordmalingsrk.se/evenemang/underlagsskotsel-3/2029-09-26/
END:VEVENT
BEGIN:VEVENT
DTSTART;TZID=Europe/Stockholm:20290926T171000
DTEND;TZID=Europe/Stockholm:20290926T211500
DTSTAMP:20260421T161543
CREATED:20260222T195332Z
LAST-MODIFIED:20260222T200426Z
UID:10011005-1885137000-1885151700@nordmalingsrk.se
SUMMARY:Lektioner
DESCRIPTION:
URL:https://nordmalingsrk.se/evenemang/lektioner-2/2029-09-26/
LOCATION:Ridhuset\, Torsbäcken 14\, Nordmaling\, Västerbotten\, 914 91\, Sverige
CATEGORIES:Interna bokningar,Ridskola
END:VEVENT
BEGIN:VEVENT
DTSTART;TZID=Europe/Stockholm:20290927T173000
DTEND;TZID=Europe/Stockholm:20290927T204500
DTSTAMP:20260421T161543
CREATED:20260222T195332Z
LAST-MODIFIED:20260222T200425Z
UID:10010740-1885224600-1885236300@nordmalingsrk.se
SUMMARY:Lektioner
DESCRIPTION:
URL:https://nordmalingsrk.se/evenemang/lektioner-3/2029-09-27/
CATEGORIES:Interna bokningar,Ridskola
END:VEVENT
BEGIN:VEVENT
DTSTART;TZID=Europe/Stockholm:20291001T100000
DTEND;TZID=Europe/Stockholm:20291001T110000
DTSTAMP:20260421T161543
CREATED:20260302T072033Z
LAST-MODIFIED:20260302T072037Z
UID:10011800-1885543200-1885546800@nordmalingsrk.se
SUMMARY:Underlagsskötsel
DESCRIPTION:Harvning av ridhus
URL:https://nordmalingsrk.se/evenemang/underlagsskotsel-2/2029-10-01/
END:VEVENT
BEGIN:VEVENT
DTSTART;TZID=Europe/Stockholm:20291001T173000
DTEND;TZID=Europe/Stockholm:20291001T200000
DTSTAMP:20260421T161543
CREATED:20260222T195332Z
LAST-MODIFIED:20260222T200427Z
UID:10011536-1885570200-1885579200@nordmalingsrk.se
SUMMARY:Lektioner
DESCRIPTION:
URL:https://nordmalingsrk.se/evenemang/lektioner-4/2029-10-01/
LOCATION:Ridhuset\, Torsbäcken 14\, Nordmaling\, Västerbotten\, 914 91\, Sverige
CATEGORIES:Interna bokningar,Ridskola
END:VEVENT
BEGIN:VEVENT
DTSTART;TZID=Europe/Stockholm:20291002T165500
DTEND;TZID=Europe/Stockholm:20291002T210000
DTSTAMP:20260421T161543
CREATED:20260222T195332Z
LAST-MODIFIED:20260222T200426Z
UID:10011271-1885654500-1885669200@nordmalingsrk.se
SUMMARY:Lektioner
DESCRIPTION:
URL:https://nordmalingsrk.se/evenemang/lektioner/2029-10-02/
LOCATION:Ridhuset\, Torsbäcken 14\, Nordmaling\, Västerbotten\, 914 91\, Sverige
CATEGORIES:Interna bokningar,Ridskola
END:VEVENT
BEGIN:VEVENT
DTSTART;TZID=Europe/Stockholm:20291003T130000
DTEND;TZID=Europe/Stockholm:20291003T140000
DTSTAMP:20260421T161543
CREATED:20260302T072223Z
LAST-MODIFIED:20260302T072227Z
UID:10012061-1885726800-1885730400@nordmalingsrk.se
SUMMARY:Underlagsskötsel
DESCRIPTION:Vattning och harvning av ridhus.
URL:https://nordmalingsrk.se/evenemang/underlagsskotsel-3/2029-10-03/
END:VEVENT
BEGIN:VEVENT
DTSTART;TZID=Europe/Stockholm:20291003T171000
DTEND;TZID=Europe/Stockholm:20291003T211500
DTSTAMP:20260421T161543
CREATED:20260222T195332Z
LAST-MODIFIED:20260222T200426Z
UID:10011006-1885741800-1885756500@nordmalingsrk.se
SUMMARY:Lektioner
DESCRIPTION:
URL:https://nordmalingsrk.se/evenemang/lektioner-2/2029-10-03/
LOCATION:Ridhuset\, Torsbäcken 14\, Nordmaling\, Västerbotten\, 914 91\, Sverige
CATEGORIES:Interna bokningar,Ridskola
END:VEVENT
BEGIN:VEVENT
DTSTART;TZID=Europe/Stockholm:20291004T173000
DTEND;TZID=Europe/Stockholm:20291004T204500
DTSTAMP:20260421T161543
CREATED:20260222T195332Z
LAST-MODIFIED:20260222T200425Z
UID:10010741-1885829400-1885841100@nordmalingsrk.se
SUMMARY:Lektioner
DESCRIPTION:
URL:https://nordmalingsrk.se/evenemang/lektioner-3/2029-10-04/
CATEGORIES:Interna bokningar,Ridskola
END:VEVENT
BEGIN:VEVENT
DTSTART;TZID=Europe/Stockholm:20291008T100000
DTEND;TZID=Europe/Stockholm:20291008T110000
DTSTAMP:20260421T161543
CREATED:20260302T072033Z
LAST-MODIFIED:20260302T072037Z
UID:10011801-1886148000-1886151600@nordmalingsrk.se
SUMMARY:Underlagsskötsel
DESCRIPTION:Harvning av ridhus
URL:https://nordmalingsrk.se/evenemang/underlagsskotsel-2/2029-10-08/
END:VEVENT
BEGIN:VEVENT
DTSTART;TZID=Europe/Stockholm:20291008T173000
DTEND;TZID=Europe/Stockholm:20291008T200000
DTSTAMP:20260421T161543
CREATED:20260222T195332Z
LAST-MODIFIED:20260222T200427Z
UID:10011537-1886175000-1886184000@nordmalingsrk.se
SUMMARY:Lektioner
DESCRIPTION:
URL:https://nordmalingsrk.se/evenemang/lektioner-4/2029-10-08/
LOCATION:Ridhuset\, Torsbäcken 14\, Nordmaling\, Västerbotten\, 914 91\, Sverige
CATEGORIES:Interna bokningar,Ridskola
END:VEVENT
BEGIN:VEVENT
DTSTART;TZID=Europe/Stockholm:20291009T165500
DTEND;TZID=Europe/Stockholm:20291009T210000
DTSTAMP:20260421T161543
CREATED:20260222T195332Z
LAST-MODIFIED:20260222T200426Z
UID:10011272-1886259300-1886274000@nordmalingsrk.se
SUMMARY:Lektioner
DESCRIPTION:
URL:https://nordmalingsrk.se/evenemang/lektioner/2029-10-09/
LOCATION:Ridhuset\, Torsbäcken 14\, Nordmaling\, Västerbotten\, 914 91\, Sverige
CATEGORIES:Interna bokningar,Ridskola
END:VEVENT
BEGIN:VEVENT
DTSTART;TZID=Europe/Stockholm:20291010T130000
DTEND;TZID=Europe/Stockholm:20291010T140000
DTSTAMP:20260421T161543
CREATED:20260302T072223Z
LAST-MODIFIED:20260302T072227Z
UID:10012062-1886331600-1886335200@nordmalingsrk.se
SUMMARY:Underlagsskötsel
DESCRIPTION:Vattning och harvning av ridhus.
URL:https://nordmalingsrk.se/evenemang/underlagsskotsel-3/2029-10-10/
END:VEVENT
BEGIN:VEVENT
DTSTART;TZID=Europe/Stockholm:20291010T171000
DTEND;TZID=Europe/Stockholm:20291010T211500
DTSTAMP:20260421T161543
CREATED:20260222T195332Z
LAST-MODIFIED:20260222T200426Z
UID:10011007-1886346600-1886361300@nordmalingsrk.se
SUMMARY:Lektioner
DESCRIPTION:
URL:https://nordmalingsrk.se/evenemang/lektioner-2/2029-10-10/
LOCATION:Ridhuset\, Torsbäcken 14\, Nordmaling\, Västerbotten\, 914 91\, Sverige
CATEGORIES:Interna bokningar,Ridskola
END:VEVENT
BEGIN:VEVENT
DTSTART;TZID=Europe/Stockholm:20291011T173000
DTEND;TZID=Europe/Stockholm:20291011T204500
DTSTAMP:20260421T161543
CREATED:20260222T195332Z
LAST-MODIFIED:20260222T200425Z
UID:10010742-1886434200-1886445900@nordmalingsrk.se
SUMMARY:Lektioner
DESCRIPTION:
URL:https://nordmalingsrk.se/evenemang/lektioner-3/2029-10-11/
CATEGORIES:Interna bokningar,Ridskola
END:VEVENT
BEGIN:VEVENT
DTSTART;TZID=Europe/Stockholm:20291015T100000
DTEND;TZID=Europe/Stockholm:20291015T110000
DTSTAMP:20260421T161543
CREATED:20260302T072033Z
LAST-MODIFIED:20260302T072037Z
UID:10011802-1886752800-1886756400@nordmalingsrk.se
SUMMARY:Underlagsskötsel
DESCRIPTION:Harvning av ridhus
URL:https://nordmalingsrk.se/evenemang/underlagsskotsel-2/2029-10-15/
END:VEVENT
BEGIN:VEVENT
DTSTART;TZID=Europe/Stockholm:20291015T173000
DTEND;TZID=Europe/Stockholm:20291015T200000
DTSTAMP:20260421T161543
CREATED:20260222T195332Z
LAST-MODIFIED:20260222T200427Z
UID:10011538-1886779800-1886788800@nordmalingsrk.se
SUMMARY:Lektioner
DESCRIPTION:
URL:https://nordmalingsrk.se/evenemang/lektioner-4/2029-10-15/
LOCATION:Ridhuset\, Torsbäcken 14\, Nordmaling\, Västerbotten\, 914 91\, Sverige
CATEGORIES:Interna bokningar,Ridskola
END:VEVENT
BEGIN:VEVENT
DTSTART;TZID=Europe/Stockholm:20291016T165500
DTEND;TZID=Europe/Stockholm:20291016T210000
DTSTAMP:20260421T161543
CREATED:20260222T195332Z
LAST-MODIFIED:20260222T200426Z
UID:10011273-1886864100-1886878800@nordmalingsrk.se
SUMMARY:Lektioner
DESCRIPTION:
URL:https://nordmalingsrk.se/evenemang/lektioner/2029-10-16/
LOCATION:Ridhuset\, Torsbäcken 14\, Nordmaling\, Västerbotten\, 914 91\, Sverige
CATEGORIES:Interna bokningar,Ridskola
END:VEVENT
BEGIN:VEVENT
DTSTART;TZID=Europe/Stockholm:20291017T130000
DTEND;TZID=Europe/Stockholm:20291017T140000
DTSTAMP:20260421T161543
CREATED:20260302T072223Z
LAST-MODIFIED:20260302T072227Z
UID:10012063-1886936400-1886940000@nordmalingsrk.se
SUMMARY:Underlagsskötsel
DESCRIPTION:Vattning och harvning av ridhus.
URL:https://nordmalingsrk.se/evenemang/underlagsskotsel-3/2029-10-17/
END:VEVENT
BEGIN:VEVENT
DTSTART;TZID=Europe/Stockholm:20291017T171000
DTEND;TZID=Europe/Stockholm:20291017T211500
DTSTAMP:20260421T161543
CREATED:20260222T195332Z
LAST-MODIFIED:20260222T200426Z
UID:10011008-1886951400-1886966100@nordmalingsrk.se
SUMMARY:Lektioner
DESCRIPTION:
URL:https://nordmalingsrk.se/evenemang/lektioner-2/2029-10-17/
LOCATION:Ridhuset\, Torsbäcken 14\, Nordmaling\, Västerbotten\, 914 91\, Sverige
CATEGORIES:Interna bokningar,Ridskola
END:VEVENT
BEGIN:VEVENT
DTSTART;TZID=Europe/Stockholm:20291018T173000
DTEND;TZID=Europe/Stockholm:20291018T204500
DTSTAMP:20260421T161543
CREATED:20260222T195332Z
LAST-MODIFIED:20260222T200425Z
UID:10010743-1887039000-1887050700@nordmalingsrk.se
SUMMARY:Lektioner
DESCRIPTION:
URL:https://nordmalingsrk.se/evenemang/lektioner-3/2029-10-18/
CATEGORIES:Interna bokningar,Ridskola
END:VEVENT
BEGIN:VEVENT
DTSTART;TZID=Europe/Stockholm:20291022T100000
DTEND;TZID=Europe/Stockholm:20291022T110000
DTSTAMP:20260421T161543
CREATED:20260302T072033Z
LAST-MODIFIED:20260302T072037Z
UID:10011803-1887357600-1887361200@nordmalingsrk.se
SUMMARY:Underlagsskötsel
DESCRIPTION:Harvning av ridhus
URL:https://nordmalingsrk.se/evenemang/underlagsskotsel-2/2029-10-22/
END:VEVENT
BEGIN:VEVENT
DTSTART;TZID=Europe/Stockholm:20291022T173000
DTEND;TZID=Europe/Stockholm:20291022T200000
DTSTAMP:20260421T161543
CREATED:20260222T195332Z
LAST-MODIFIED:20260222T200427Z
UID:10011539-1887384600-1887393600@nordmalingsrk.se
SUMMARY:Lektioner
DESCRIPTION:
URL:https://nordmalingsrk.se/evenemang/lektioner-4/2029-10-22/
LOCATION:Ridhuset\, Torsbäcken 14\, Nordmaling\, Västerbotten\, 914 91\, Sverige
CATEGORIES:Interna bokningar,Ridskola
END:VEVENT
BEGIN:VEVENT
DTSTART;TZID=Europe/Stockholm:20291023T165500
DTEND;TZID=Europe/Stockholm:20291023T210000
DTSTAMP:20260421T161543
CREATED:20260222T195332Z
LAST-MODIFIED:20260222T200426Z
UID:10011274-1887468900-1887483600@nordmalingsrk.se
SUMMARY:Lektioner
DESCRIPTION:
URL:https://nordmalingsrk.se/evenemang/lektioner/2029-10-23/
LOCATION:Ridhuset\, Torsbäcken 14\, Nordmaling\, Västerbotten\, 914 91\, Sverige
CATEGORIES:Interna bokningar,Ridskola
END:VEVENT
BEGIN:VEVENT
DTSTART;TZID=Europe/Stockholm:20291024T130000
DTEND;TZID=Europe/Stockholm:20291024T140000
DTSTAMP:20260421T161543
CREATED:20260302T072223Z
LAST-MODIFIED:20260302T072227Z
UID:10012064-1887541200-1887544800@nordmalingsrk.se
SUMMARY:Underlagsskötsel
DESCRIPTION:Vattning och harvning av ridhus.
URL:https://nordmalingsrk.se/evenemang/underlagsskotsel-3/2029-10-24/
END:VEVENT
BEGIN:VEVENT
DTSTART;TZID=Europe/Stockholm:20291024T171000
DTEND;TZID=Europe/Stockholm:20291024T211500
DTSTAMP:20260421T161543
CREATED:20260222T195332Z
LAST-MODIFIED:20260222T200426Z
UID:10011009-1887556200-1887570900@nordmalingsrk.se
SUMMARY:Lektioner
DESCRIPTION:
URL:https://nordmalingsrk.se/evenemang/lektioner-2/2029-10-24/
LOCATION:Ridhuset\, Torsbäcken 14\, Nordmaling\, Västerbotten\, 914 91\, Sverige
CATEGORIES:Interna bokningar,Ridskola
END:VEVENT
BEGIN:VEVENT
DTSTART;TZID=Europe/Stockholm:20291025T173000
DTEND;TZID=Europe/Stockholm:20291025T204500
DTSTAMP:20260421T161543
CREATED:20260222T195332Z
LAST-MODIFIED:20260222T200425Z
UID:10010744-1887643800-1887655500@nordmalingsrk.se
SUMMARY:Lektioner
DESCRIPTION:
URL:https://nordmalingsrk.se/evenemang/lektioner-3/2029-10-25/
CATEGORIES:Interna bokningar,Ridskola
END:VEVENT
END:VCALENDAR