BEGIN:VCALENDAR
VERSION:2.0
PRODID:-//Nordmalings Ridklubb - ECPv6.15.13//NONSGML v1.0//EN
CALSCALE:GREGORIAN
METHOD:PUBLISH
X-WR-CALNAME:Nordmalings Ridklubb
X-ORIGINAL-URL:https://nordmalingsrk.se
X-WR-CALDESC:Händelser för Nordmalings Ridklubb
REFRESH-INTERVAL;VALUE=DURATION:PT1H
X-Robots-Tag:noindex
X-PUBLISHED-TTL:PT1H
BEGIN:VTIMEZONE
TZID:Europe/Stockholm
BEGIN:DAYLIGHT
TZOFFSETFROM:+0100
TZOFFSETTO:+0200
TZNAME:CEST
DTSTART:20290325T010000
END:DAYLIGHT
BEGIN:STANDARD
TZOFFSETFROM:+0200
TZOFFSETTO:+0100
TZNAME:CET
DTSTART:20291028T010000
END:STANDARD
BEGIN:DAYLIGHT
TZOFFSETFROM:+0100
TZOFFSETTO:+0200
TZNAME:CEST
DTSTART:20300331T010000
END:DAYLIGHT
BEGIN:STANDARD
TZOFFSETFROM:+0200
TZOFFSETTO:+0100
TZNAME:CET
DTSTART:20301027T010000
END:STANDARD
BEGIN:DAYLIGHT
TZOFFSETFROM:+0100
TZOFFSETTO:+0200
TZNAME:CEST
DTSTART:20310330T010000
END:DAYLIGHT
BEGIN:STANDARD
TZOFFSETFROM:+0200
TZOFFSETTO:+0100
TZNAME:CET
DTSTART:20311026T010000
END:STANDARD
END:VTIMEZONE
BEGIN:VEVENT
DTSTART;TZID=Europe/Stockholm:20300218T100000
DTEND;TZID=Europe/Stockholm:20300218T110000
DTSTAMP:20260422T025459
CREATED:20260302T072033Z
LAST-MODIFIED:20260302T072037Z
UID:10011820-1897639200-1897642800@nordmalingsrk.se
SUMMARY:Underlagsskötsel
DESCRIPTION:Harvning av ridhus
URL:https://nordmalingsrk.se/evenemang/underlagsskotsel-2/2030-02-18/
END:VEVENT
BEGIN:VEVENT
DTSTART;TZID=Europe/Stockholm:20300218T173000
DTEND;TZID=Europe/Stockholm:20300218T200000
DTSTAMP:20260422T025459
CREATED:20260222T195332Z
LAST-MODIFIED:20260222T200427Z
UID:10011556-1897666200-1897675200@nordmalingsrk.se
SUMMARY:Lektioner
DESCRIPTION:
URL:https://nordmalingsrk.se/evenemang/lektioner-4/2030-02-18/
LOCATION:Ridhuset\, Torsbäcken 14\, Nordmaling\, Västerbotten\, 914 91\, Sverige
CATEGORIES:Interna bokningar,Ridskola
END:VEVENT
BEGIN:VEVENT
DTSTART;TZID=Europe/Stockholm:20300219T165500
DTEND;TZID=Europe/Stockholm:20300219T210000
DTSTAMP:20260422T025459
CREATED:20260222T195332Z
LAST-MODIFIED:20260222T200426Z
UID:10011291-1897750500-1897765200@nordmalingsrk.se
SUMMARY:Lektioner
DESCRIPTION:
URL:https://nordmalingsrk.se/evenemang/lektioner/2030-02-19/
LOCATION:Ridhuset\, Torsbäcken 14\, Nordmaling\, Västerbotten\, 914 91\, Sverige
CATEGORIES:Interna bokningar,Ridskola
END:VEVENT
BEGIN:VEVENT
DTSTART;TZID=Europe/Stockholm:20300220T130000
DTEND;TZID=Europe/Stockholm:20300220T140000
DTSTAMP:20260422T025459
CREATED:20260302T072223Z
LAST-MODIFIED:20260302T072227Z
UID:10012081-1897822800-1897826400@nordmalingsrk.se
SUMMARY:Underlagsskötsel
DESCRIPTION:Vattning och harvning av ridhus.
URL:https://nordmalingsrk.se/evenemang/underlagsskotsel-3/2030-02-20/
END:VEVENT
BEGIN:VEVENT
DTSTART;TZID=Europe/Stockholm:20300220T171000
DTEND;TZID=Europe/Stockholm:20300220T211500
DTSTAMP:20260422T025459
CREATED:20260222T195332Z
LAST-MODIFIED:20260222T200426Z
UID:10011026-1897837800-1897852500@nordmalingsrk.se
SUMMARY:Lektioner
DESCRIPTION:
URL:https://nordmalingsrk.se/evenemang/lektioner-2/2030-02-20/
LOCATION:Ridhuset\, Torsbäcken 14\, Nordmaling\, Västerbotten\, 914 91\, Sverige
CATEGORIES:Interna bokningar,Ridskola
END:VEVENT
BEGIN:VEVENT
DTSTART;TZID=Europe/Stockholm:20300221T173000
DTEND;TZID=Europe/Stockholm:20300221T204500
DTSTAMP:20260422T025459
CREATED:20260222T195332Z
LAST-MODIFIED:20260222T200425Z
UID:10010761-1897925400-1897937100@nordmalingsrk.se
SUMMARY:Lektioner
DESCRIPTION:
URL:https://nordmalingsrk.se/evenemang/lektioner-3/2030-02-21/
CATEGORIES:Interna bokningar,Ridskola
END:VEVENT
BEGIN:VEVENT
DTSTART;TZID=Europe/Stockholm:20300225T100000
DTEND;TZID=Europe/Stockholm:20300225T110000
DTSTAMP:20260422T025459
CREATED:20260302T072033Z
LAST-MODIFIED:20260302T072037Z
UID:10011821-1898244000-1898247600@nordmalingsrk.se
SUMMARY:Underlagsskötsel
DESCRIPTION:Harvning av ridhus
URL:https://nordmalingsrk.se/evenemang/underlagsskotsel-2/2030-02-25/
END:VEVENT
BEGIN:VEVENT
DTSTART;TZID=Europe/Stockholm:20300225T173000
DTEND;TZID=Europe/Stockholm:20300225T200000
DTSTAMP:20260422T025459
CREATED:20260222T195332Z
LAST-MODIFIED:20260222T200427Z
UID:10011557-1898271000-1898280000@nordmalingsrk.se
SUMMARY:Lektioner
DESCRIPTION:
URL:https://nordmalingsrk.se/evenemang/lektioner-4/2030-02-25/
LOCATION:Ridhuset\, Torsbäcken 14\, Nordmaling\, Västerbotten\, 914 91\, Sverige
CATEGORIES:Interna bokningar,Ridskola
END:VEVENT
BEGIN:VEVENT
DTSTART;TZID=Europe/Stockholm:20300226T165500
DTEND;TZID=Europe/Stockholm:20300226T210000
DTSTAMP:20260422T025459
CREATED:20260222T195332Z
LAST-MODIFIED:20260222T200426Z
UID:10011292-1898355300-1898370000@nordmalingsrk.se
SUMMARY:Lektioner
DESCRIPTION:
URL:https://nordmalingsrk.se/evenemang/lektioner/2030-02-26/
LOCATION:Ridhuset\, Torsbäcken 14\, Nordmaling\, Västerbotten\, 914 91\, Sverige
CATEGORIES:Interna bokningar,Ridskola
END:VEVENT
BEGIN:VEVENT
DTSTART;TZID=Europe/Stockholm:20300227T130000
DTEND;TZID=Europe/Stockholm:20300227T140000
DTSTAMP:20260422T025459
CREATED:20260302T072223Z
LAST-MODIFIED:20260302T072227Z
UID:10012082-1898427600-1898431200@nordmalingsrk.se
SUMMARY:Underlagsskötsel
DESCRIPTION:Vattning och harvning av ridhus.
URL:https://nordmalingsrk.se/evenemang/underlagsskotsel-3/2030-02-27/
END:VEVENT
BEGIN:VEVENT
DTSTART;TZID=Europe/Stockholm:20300227T171000
DTEND;TZID=Europe/Stockholm:20300227T211500
DTSTAMP:20260422T025459
CREATED:20260222T195332Z
LAST-MODIFIED:20260222T200426Z
UID:10011027-1898442600-1898457300@nordmalingsrk.se
SUMMARY:Lektioner
DESCRIPTION:
URL:https://nordmalingsrk.se/evenemang/lektioner-2/2030-02-27/
LOCATION:Ridhuset\, Torsbäcken 14\, Nordmaling\, Västerbotten\, 914 91\, Sverige
CATEGORIES:Interna bokningar,Ridskola
END:VEVENT
BEGIN:VEVENT
DTSTART;TZID=Europe/Stockholm:20300228T173000
DTEND;TZID=Europe/Stockholm:20300228T204500
DTSTAMP:20260422T025459
CREATED:20260222T195332Z
LAST-MODIFIED:20260222T200425Z
UID:10010762-1898530200-1898541900@nordmalingsrk.se
SUMMARY:Lektioner
DESCRIPTION:
URL:https://nordmalingsrk.se/evenemang/lektioner-3/2030-02-28/
CATEGORIES:Interna bokningar,Ridskola
END:VEVENT
BEGIN:VEVENT
DTSTART;TZID=Europe/Stockholm:20300304T100000
DTEND;TZID=Europe/Stockholm:20300304T110000
DTSTAMP:20260422T025459
CREATED:20260302T072033Z
LAST-MODIFIED:20260302T072037Z
UID:10011822-1898848800-1898852400@nordmalingsrk.se
SUMMARY:Underlagsskötsel
DESCRIPTION:Harvning av ridhus
URL:https://nordmalingsrk.se/evenemang/underlagsskotsel-2/2030-03-04/
END:VEVENT
BEGIN:VEVENT
DTSTART;TZID=Europe/Stockholm:20300304T173000
DTEND;TZID=Europe/Stockholm:20300304T200000
DTSTAMP:20260422T025459
CREATED:20260222T195332Z
LAST-MODIFIED:20260222T200427Z
UID:10011558-1898875800-1898884800@nordmalingsrk.se
SUMMARY:Lektioner
DESCRIPTION:
URL:https://nordmalingsrk.se/evenemang/lektioner-4/2030-03-04/
LOCATION:Ridhuset\, Torsbäcken 14\, Nordmaling\, Västerbotten\, 914 91\, Sverige
CATEGORIES:Interna bokningar,Ridskola
END:VEVENT
BEGIN:VEVENT
DTSTART;TZID=Europe/Stockholm:20300305T165500
DTEND;TZID=Europe/Stockholm:20300305T210000
DTSTAMP:20260422T025459
CREATED:20260222T195332Z
LAST-MODIFIED:20260222T200426Z
UID:10011293-1898960100-1898974800@nordmalingsrk.se
SUMMARY:Lektioner
DESCRIPTION:
URL:https://nordmalingsrk.se/evenemang/lektioner/2030-03-05/
LOCATION:Ridhuset\, Torsbäcken 14\, Nordmaling\, Västerbotten\, 914 91\, Sverige
CATEGORIES:Interna bokningar,Ridskola
END:VEVENT
BEGIN:VEVENT
DTSTART;TZID=Europe/Stockholm:20300306T130000
DTEND;TZID=Europe/Stockholm:20300306T140000
DTSTAMP:20260422T025459
CREATED:20260302T072223Z
LAST-MODIFIED:20260302T072227Z
UID:10012083-1899032400-1899036000@nordmalingsrk.se
SUMMARY:Underlagsskötsel
DESCRIPTION:Vattning och harvning av ridhus.
URL:https://nordmalingsrk.se/evenemang/underlagsskotsel-3/2030-03-06/
END:VEVENT
BEGIN:VEVENT
DTSTART;TZID=Europe/Stockholm:20300306T171000
DTEND;TZID=Europe/Stockholm:20300306T211500
DTSTAMP:20260422T025459
CREATED:20260222T195332Z
LAST-MODIFIED:20260222T200426Z
UID:10011028-1899047400-1899062100@nordmalingsrk.se
SUMMARY:Lektioner
DESCRIPTION:
URL:https://nordmalingsrk.se/evenemang/lektioner-2/2030-03-06/
LOCATION:Ridhuset\, Torsbäcken 14\, Nordmaling\, Västerbotten\, 914 91\, Sverige
CATEGORIES:Interna bokningar,Ridskola
END:VEVENT
BEGIN:VEVENT
DTSTART;TZID=Europe/Stockholm:20300307T173000
DTEND;TZID=Europe/Stockholm:20300307T204500
DTSTAMP:20260422T025459
CREATED:20260222T195332Z
LAST-MODIFIED:20260222T200425Z
UID:10010763-1899135000-1899146700@nordmalingsrk.se
SUMMARY:Lektioner
DESCRIPTION:
URL:https://nordmalingsrk.se/evenemang/lektioner-3/2030-03-07/
CATEGORIES:Interna bokningar,Ridskola
END:VEVENT
BEGIN:VEVENT
DTSTART;TZID=Europe/Stockholm:20300311T100000
DTEND;TZID=Europe/Stockholm:20300311T110000
DTSTAMP:20260422T025459
CREATED:20260302T072033Z
LAST-MODIFIED:20260302T072037Z
UID:10011823-1899453600-1899457200@nordmalingsrk.se
SUMMARY:Underlagsskötsel
DESCRIPTION:Harvning av ridhus
URL:https://nordmalingsrk.se/evenemang/underlagsskotsel-2/2030-03-11/
END:VEVENT
BEGIN:VEVENT
DTSTART;TZID=Europe/Stockholm:20300311T173000
DTEND;TZID=Europe/Stockholm:20300311T200000
DTSTAMP:20260422T025459
CREATED:20260222T195332Z
LAST-MODIFIED:20260222T200427Z
UID:10011559-1899480600-1899489600@nordmalingsrk.se
SUMMARY:Lektioner
DESCRIPTION:
URL:https://nordmalingsrk.se/evenemang/lektioner-4/2030-03-11/
LOCATION:Ridhuset\, Torsbäcken 14\, Nordmaling\, Västerbotten\, 914 91\, Sverige
CATEGORIES:Interna bokningar,Ridskola
END:VEVENT
BEGIN:VEVENT
DTSTART;TZID=Europe/Stockholm:20300312T165500
DTEND;TZID=Europe/Stockholm:20300312T210000
DTSTAMP:20260422T025459
CREATED:20260222T195332Z
LAST-MODIFIED:20260222T200426Z
UID:10011294-1899564900-1899579600@nordmalingsrk.se
SUMMARY:Lektioner
DESCRIPTION:
URL:https://nordmalingsrk.se/evenemang/lektioner/2030-03-12/
LOCATION:Ridhuset\, Torsbäcken 14\, Nordmaling\, Västerbotten\, 914 91\, Sverige
CATEGORIES:Interna bokningar,Ridskola
END:VEVENT
BEGIN:VEVENT
DTSTART;TZID=Europe/Stockholm:20300313T130000
DTEND;TZID=Europe/Stockholm:20300313T140000
DTSTAMP:20260422T025459
CREATED:20260302T072223Z
LAST-MODIFIED:20260302T072227Z
UID:10012084-1899637200-1899640800@nordmalingsrk.se
SUMMARY:Underlagsskötsel
DESCRIPTION:Vattning och harvning av ridhus.
URL:https://nordmalingsrk.se/evenemang/underlagsskotsel-3/2030-03-13/
END:VEVENT
BEGIN:VEVENT
DTSTART;TZID=Europe/Stockholm:20300313T171000
DTEND;TZID=Europe/Stockholm:20300313T211500
DTSTAMP:20260422T025500
CREATED:20260222T195332Z
LAST-MODIFIED:20260222T200426Z
UID:10011029-1899652200-1899666900@nordmalingsrk.se
SUMMARY:Lektioner
DESCRIPTION:
URL:https://nordmalingsrk.se/evenemang/lektioner-2/2030-03-13/
LOCATION:Ridhuset\, Torsbäcken 14\, Nordmaling\, Västerbotten\, 914 91\, Sverige
CATEGORIES:Interna bokningar,Ridskola
END:VEVENT
BEGIN:VEVENT
DTSTART;TZID=Europe/Stockholm:20300314T173000
DTEND;TZID=Europe/Stockholm:20300314T204500
DTSTAMP:20260422T025500
CREATED:20260222T195332Z
LAST-MODIFIED:20260222T200425Z
UID:10010764-1899739800-1899751500@nordmalingsrk.se
SUMMARY:Lektioner
DESCRIPTION:
URL:https://nordmalingsrk.se/evenemang/lektioner-3/2030-03-14/
CATEGORIES:Interna bokningar,Ridskola
END:VEVENT
BEGIN:VEVENT
DTSTART;TZID=Europe/Stockholm:20300318T100000
DTEND;TZID=Europe/Stockholm:20300318T110000
DTSTAMP:20260422T025500
CREATED:20260302T072033Z
LAST-MODIFIED:20260302T072037Z
UID:10011824-1900058400-1900062000@nordmalingsrk.se
SUMMARY:Underlagsskötsel
DESCRIPTION:Harvning av ridhus
URL:https://nordmalingsrk.se/evenemang/underlagsskotsel-2/2030-03-18/
END:VEVENT
BEGIN:VEVENT
DTSTART;TZID=Europe/Stockholm:20300318T173000
DTEND;TZID=Europe/Stockholm:20300318T200000
DTSTAMP:20260422T025500
CREATED:20260222T195332Z
LAST-MODIFIED:20260222T200427Z
UID:10011560-1900085400-1900094400@nordmalingsrk.se
SUMMARY:Lektioner
DESCRIPTION:
URL:https://nordmalingsrk.se/evenemang/lektioner-4/2030-03-18/
LOCATION:Ridhuset\, Torsbäcken 14\, Nordmaling\, Västerbotten\, 914 91\, Sverige
CATEGORIES:Interna bokningar,Ridskola
END:VEVENT
BEGIN:VEVENT
DTSTART;TZID=Europe/Stockholm:20300319T165500
DTEND;TZID=Europe/Stockholm:20300319T210000
DTSTAMP:20260422T025500
CREATED:20260222T195332Z
LAST-MODIFIED:20260222T200426Z
UID:10011295-1900169700-1900184400@nordmalingsrk.se
SUMMARY:Lektioner
DESCRIPTION:
URL:https://nordmalingsrk.se/evenemang/lektioner/2030-03-19/
LOCATION:Ridhuset\, Torsbäcken 14\, Nordmaling\, Västerbotten\, 914 91\, Sverige
CATEGORIES:Interna bokningar,Ridskola
END:VEVENT
BEGIN:VEVENT
DTSTART;TZID=Europe/Stockholm:20300320T130000
DTEND;TZID=Europe/Stockholm:20300320T140000
DTSTAMP:20260422T025500
CREATED:20260302T072223Z
LAST-MODIFIED:20260302T072227Z
UID:10012085-1900242000-1900245600@nordmalingsrk.se
SUMMARY:Underlagsskötsel
DESCRIPTION:Vattning och harvning av ridhus.
URL:https://nordmalingsrk.se/evenemang/underlagsskotsel-3/2030-03-20/
END:VEVENT
BEGIN:VEVENT
DTSTART;TZID=Europe/Stockholm:20300320T171000
DTEND;TZID=Europe/Stockholm:20300320T211500
DTSTAMP:20260422T025500
CREATED:20260222T195332Z
LAST-MODIFIED:20260222T200426Z
UID:10011030-1900257000-1900271700@nordmalingsrk.se
SUMMARY:Lektioner
DESCRIPTION:
URL:https://nordmalingsrk.se/evenemang/lektioner-2/2030-03-20/
LOCATION:Ridhuset\, Torsbäcken 14\, Nordmaling\, Västerbotten\, 914 91\, Sverige
CATEGORIES:Interna bokningar,Ridskola
END:VEVENT
BEGIN:VEVENT
DTSTART;TZID=Europe/Stockholm:20300321T173000
DTEND;TZID=Europe/Stockholm:20300321T204500
DTSTAMP:20260422T025500
CREATED:20260222T195332Z
LAST-MODIFIED:20260222T200425Z
UID:10010765-1900344600-1900356300@nordmalingsrk.se
SUMMARY:Lektioner
DESCRIPTION:
URL:https://nordmalingsrk.se/evenemang/lektioner-3/2030-03-21/
CATEGORIES:Interna bokningar,Ridskola
END:VEVENT
END:VCALENDAR