BEGIN:VCALENDAR
VERSION:2.0
PRODID:-//Nordmalings Ridklubb - ECPv6.15.13//NONSGML v1.0//EN
CALSCALE:GREGORIAN
METHOD:PUBLISH
X-WR-CALNAME:Nordmalings Ridklubb
X-ORIGINAL-URL:https://nordmalingsrk.se
X-WR-CALDESC:Händelser för Nordmalings Ridklubb
REFRESH-INTERVAL;VALUE=DURATION:PT1H
X-Robots-Tag:noindex
X-PUBLISHED-TTL:PT1H
BEGIN:VTIMEZONE
TZID:Europe/Stockholm
BEGIN:DAYLIGHT
TZOFFSETFROM:+0100
TZOFFSETTO:+0200
TZNAME:CEST
DTSTART:20290325T010000
END:DAYLIGHT
BEGIN:STANDARD
TZOFFSETFROM:+0200
TZOFFSETTO:+0100
TZNAME:CET
DTSTART:20291028T010000
END:STANDARD
BEGIN:DAYLIGHT
TZOFFSETFROM:+0100
TZOFFSETTO:+0200
TZNAME:CEST
DTSTART:20300331T010000
END:DAYLIGHT
BEGIN:STANDARD
TZOFFSETFROM:+0200
TZOFFSETTO:+0100
TZNAME:CET
DTSTART:20301027T010000
END:STANDARD
BEGIN:DAYLIGHT
TZOFFSETFROM:+0100
TZOFFSETTO:+0200
TZNAME:CEST
DTSTART:20310330T010000
END:DAYLIGHT
BEGIN:STANDARD
TZOFFSETFROM:+0200
TZOFFSETTO:+0100
TZNAME:CET
DTSTART:20311026T010000
END:STANDARD
END:VTIMEZONE
BEGIN:VEVENT
DTSTART;TZID=Europe/Stockholm:20300313T130000
DTEND;TZID=Europe/Stockholm:20300313T140000
DTSTAMP:20260422T012627
CREATED:20260302T072223Z
LAST-MODIFIED:20260302T072227Z
UID:10012084-1899637200-1899640800@nordmalingsrk.se
SUMMARY:Underlagsskötsel
DESCRIPTION:Vattning och harvning av ridhus.
URL:https://nordmalingsrk.se/evenemang/underlagsskotsel-3/2030-03-13/
END:VEVENT
BEGIN:VEVENT
DTSTART;TZID=Europe/Stockholm:20300313T171000
DTEND;TZID=Europe/Stockholm:20300313T211500
DTSTAMP:20260422T012627
CREATED:20260222T195332Z
LAST-MODIFIED:20260222T200426Z
UID:10011029-1899652200-1899666900@nordmalingsrk.se
SUMMARY:Lektioner
DESCRIPTION:
URL:https://nordmalingsrk.se/evenemang/lektioner-2/2030-03-13/
LOCATION:Ridhuset\, Torsbäcken 14\, Nordmaling\, Västerbotten\, 914 91\, Sverige
CATEGORIES:Interna bokningar,Ridskola
END:VEVENT
BEGIN:VEVENT
DTSTART;TZID=Europe/Stockholm:20300314T173000
DTEND;TZID=Europe/Stockholm:20300314T204500
DTSTAMP:20260422T012627
CREATED:20260222T195332Z
LAST-MODIFIED:20260222T200425Z
UID:10010764-1899739800-1899751500@nordmalingsrk.se
SUMMARY:Lektioner
DESCRIPTION:
URL:https://nordmalingsrk.se/evenemang/lektioner-3/2030-03-14/
CATEGORIES:Interna bokningar,Ridskola
END:VEVENT
BEGIN:VEVENT
DTSTART;TZID=Europe/Stockholm:20300318T100000
DTEND;TZID=Europe/Stockholm:20300318T110000
DTSTAMP:20260422T012627
CREATED:20260302T072033Z
LAST-MODIFIED:20260302T072037Z
UID:10011824-1900058400-1900062000@nordmalingsrk.se
SUMMARY:Underlagsskötsel
DESCRIPTION:Harvning av ridhus
URL:https://nordmalingsrk.se/evenemang/underlagsskotsel-2/2030-03-18/
END:VEVENT
BEGIN:VEVENT
DTSTART;TZID=Europe/Stockholm:20300318T173000
DTEND;TZID=Europe/Stockholm:20300318T200000
DTSTAMP:20260422T012627
CREATED:20260222T195332Z
LAST-MODIFIED:20260222T200427Z
UID:10011560-1900085400-1900094400@nordmalingsrk.se
SUMMARY:Lektioner
DESCRIPTION:
URL:https://nordmalingsrk.se/evenemang/lektioner-4/2030-03-18/
LOCATION:Ridhuset\, Torsbäcken 14\, Nordmaling\, Västerbotten\, 914 91\, Sverige
CATEGORIES:Interna bokningar,Ridskola
END:VEVENT
BEGIN:VEVENT
DTSTART;TZID=Europe/Stockholm:20300319T165500
DTEND;TZID=Europe/Stockholm:20300319T210000
DTSTAMP:20260422T012627
CREATED:20260222T195332Z
LAST-MODIFIED:20260222T200426Z
UID:10011295-1900169700-1900184400@nordmalingsrk.se
SUMMARY:Lektioner
DESCRIPTION:
URL:https://nordmalingsrk.se/evenemang/lektioner/2030-03-19/
LOCATION:Ridhuset\, Torsbäcken 14\, Nordmaling\, Västerbotten\, 914 91\, Sverige
CATEGORIES:Interna bokningar,Ridskola
END:VEVENT
BEGIN:VEVENT
DTSTART;TZID=Europe/Stockholm:20300320T130000
DTEND;TZID=Europe/Stockholm:20300320T140000
DTSTAMP:20260422T012627
CREATED:20260302T072223Z
LAST-MODIFIED:20260302T072227Z
UID:10012085-1900242000-1900245600@nordmalingsrk.se
SUMMARY:Underlagsskötsel
DESCRIPTION:Vattning och harvning av ridhus.
URL:https://nordmalingsrk.se/evenemang/underlagsskotsel-3/2030-03-20/
END:VEVENT
BEGIN:VEVENT
DTSTART;TZID=Europe/Stockholm:20300320T171000
DTEND;TZID=Europe/Stockholm:20300320T211500
DTSTAMP:20260422T012627
CREATED:20260222T195332Z
LAST-MODIFIED:20260222T200426Z
UID:10011030-1900257000-1900271700@nordmalingsrk.se
SUMMARY:Lektioner
DESCRIPTION:
URL:https://nordmalingsrk.se/evenemang/lektioner-2/2030-03-20/
LOCATION:Ridhuset\, Torsbäcken 14\, Nordmaling\, Västerbotten\, 914 91\, Sverige
CATEGORIES:Interna bokningar,Ridskola
END:VEVENT
BEGIN:VEVENT
DTSTART;TZID=Europe/Stockholm:20300321T173000
DTEND;TZID=Europe/Stockholm:20300321T204500
DTSTAMP:20260422T012627
CREATED:20260222T195332Z
LAST-MODIFIED:20260222T200425Z
UID:10010765-1900344600-1900356300@nordmalingsrk.se
SUMMARY:Lektioner
DESCRIPTION:
URL:https://nordmalingsrk.se/evenemang/lektioner-3/2030-03-21/
CATEGORIES:Interna bokningar,Ridskola
END:VEVENT
BEGIN:VEVENT
DTSTART;TZID=Europe/Stockholm:20300325T100000
DTEND;TZID=Europe/Stockholm:20300325T110000
DTSTAMP:20260422T012627
CREATED:20260302T072033Z
LAST-MODIFIED:20260302T072037Z
UID:10011825-1900663200-1900666800@nordmalingsrk.se
SUMMARY:Underlagsskötsel
DESCRIPTION:Harvning av ridhus
URL:https://nordmalingsrk.se/evenemang/underlagsskotsel-2/2030-03-25/
END:VEVENT
BEGIN:VEVENT
DTSTART;TZID=Europe/Stockholm:20300325T173000
DTEND;TZID=Europe/Stockholm:20300325T200000
DTSTAMP:20260422T012627
CREATED:20260222T195332Z
LAST-MODIFIED:20260222T200427Z
UID:10011561-1900690200-1900699200@nordmalingsrk.se
SUMMARY:Lektioner
DESCRIPTION:
URL:https://nordmalingsrk.se/evenemang/lektioner-4/2030-03-25/
LOCATION:Ridhuset\, Torsbäcken 14\, Nordmaling\, Västerbotten\, 914 91\, Sverige
CATEGORIES:Interna bokningar,Ridskola
END:VEVENT
BEGIN:VEVENT
DTSTART;TZID=Europe/Stockholm:20300326T165500
DTEND;TZID=Europe/Stockholm:20300326T210000
DTSTAMP:20260422T012627
CREATED:20260222T195332Z
LAST-MODIFIED:20260222T200426Z
UID:10011296-1900774500-1900789200@nordmalingsrk.se
SUMMARY:Lektioner
DESCRIPTION:
URL:https://nordmalingsrk.se/evenemang/lektioner/2030-03-26/
LOCATION:Ridhuset\, Torsbäcken 14\, Nordmaling\, Västerbotten\, 914 91\, Sverige
CATEGORIES:Interna bokningar,Ridskola
END:VEVENT
BEGIN:VEVENT
DTSTART;TZID=Europe/Stockholm:20300327T130000
DTEND;TZID=Europe/Stockholm:20300327T140000
DTSTAMP:20260422T012627
CREATED:20260302T072223Z
LAST-MODIFIED:20260302T072227Z
UID:10012086-1900846800-1900850400@nordmalingsrk.se
SUMMARY:Underlagsskötsel
DESCRIPTION:Vattning och harvning av ridhus.
URL:https://nordmalingsrk.se/evenemang/underlagsskotsel-3/2030-03-27/
END:VEVENT
BEGIN:VEVENT
DTSTART;TZID=Europe/Stockholm:20300327T171000
DTEND;TZID=Europe/Stockholm:20300327T211500
DTSTAMP:20260422T012627
CREATED:20260222T195332Z
LAST-MODIFIED:20260222T200426Z
UID:10011031-1900861800-1900876500@nordmalingsrk.se
SUMMARY:Lektioner
DESCRIPTION:
URL:https://nordmalingsrk.se/evenemang/lektioner-2/2030-03-27/
LOCATION:Ridhuset\, Torsbäcken 14\, Nordmaling\, Västerbotten\, 914 91\, Sverige
CATEGORIES:Interna bokningar,Ridskola
END:VEVENT
BEGIN:VEVENT
DTSTART;TZID=Europe/Stockholm:20300328T173000
DTEND;TZID=Europe/Stockholm:20300328T204500
DTSTAMP:20260422T012627
CREATED:20260222T195332Z
LAST-MODIFIED:20260222T200425Z
UID:10010766-1900949400-1900961100@nordmalingsrk.se
SUMMARY:Lektioner
DESCRIPTION:
URL:https://nordmalingsrk.se/evenemang/lektioner-3/2030-03-28/
CATEGORIES:Interna bokningar,Ridskola
END:VEVENT
BEGIN:VEVENT
DTSTART;TZID=Europe/Stockholm:20300401T100000
DTEND;TZID=Europe/Stockholm:20300401T110000
DTSTAMP:20260422T012627
CREATED:20260302T072033Z
LAST-MODIFIED:20260302T072037Z
UID:10011826-1901268000-1901271600@nordmalingsrk.se
SUMMARY:Underlagsskötsel
DESCRIPTION:Harvning av ridhus
URL:https://nordmalingsrk.se/evenemang/underlagsskotsel-2/2030-04-01/
END:VEVENT
BEGIN:VEVENT
DTSTART;TZID=Europe/Stockholm:20300401T173000
DTEND;TZID=Europe/Stockholm:20300401T200000
DTSTAMP:20260422T012627
CREATED:20260222T195332Z
LAST-MODIFIED:20260222T200427Z
UID:10011562-1901295000-1901304000@nordmalingsrk.se
SUMMARY:Lektioner
DESCRIPTION:
URL:https://nordmalingsrk.se/evenemang/lektioner-4/2030-04-01/
LOCATION:Ridhuset\, Torsbäcken 14\, Nordmaling\, Västerbotten\, 914 91\, Sverige
CATEGORIES:Interna bokningar,Ridskola
END:VEVENT
BEGIN:VEVENT
DTSTART;TZID=Europe/Stockholm:20300402T165500
DTEND;TZID=Europe/Stockholm:20300402T210000
DTSTAMP:20260422T012627
CREATED:20260222T195332Z
LAST-MODIFIED:20260222T200426Z
UID:10011297-1901379300-1901394000@nordmalingsrk.se
SUMMARY:Lektioner
DESCRIPTION:
URL:https://nordmalingsrk.se/evenemang/lektioner/2030-04-02/
LOCATION:Ridhuset\, Torsbäcken 14\, Nordmaling\, Västerbotten\, 914 91\, Sverige
CATEGORIES:Interna bokningar,Ridskola
END:VEVENT
BEGIN:VEVENT
DTSTART;TZID=Europe/Stockholm:20300403T130000
DTEND;TZID=Europe/Stockholm:20300403T140000
DTSTAMP:20260422T012627
CREATED:20260302T072223Z
LAST-MODIFIED:20260302T072227Z
UID:10012087-1901451600-1901455200@nordmalingsrk.se
SUMMARY:Underlagsskötsel
DESCRIPTION:Vattning och harvning av ridhus.
URL:https://nordmalingsrk.se/evenemang/underlagsskotsel-3/2030-04-03/
END:VEVENT
BEGIN:VEVENT
DTSTART;TZID=Europe/Stockholm:20300403T171000
DTEND;TZID=Europe/Stockholm:20300403T211500
DTSTAMP:20260422T012627
CREATED:20260222T195332Z
LAST-MODIFIED:20260222T200426Z
UID:10011032-1901466600-1901481300@nordmalingsrk.se
SUMMARY:Lektioner
DESCRIPTION:
URL:https://nordmalingsrk.se/evenemang/lektioner-2/2030-04-03/
LOCATION:Ridhuset\, Torsbäcken 14\, Nordmaling\, Västerbotten\, 914 91\, Sverige
CATEGORIES:Interna bokningar,Ridskola
END:VEVENT
BEGIN:VEVENT
DTSTART;TZID=Europe/Stockholm:20300404T173000
DTEND;TZID=Europe/Stockholm:20300404T204500
DTSTAMP:20260422T012627
CREATED:20260222T195332Z
LAST-MODIFIED:20260222T200425Z
UID:10010767-1901554200-1901565900@nordmalingsrk.se
SUMMARY:Lektioner
DESCRIPTION:
URL:https://nordmalingsrk.se/evenemang/lektioner-3/2030-04-04/
CATEGORIES:Interna bokningar,Ridskola
END:VEVENT
BEGIN:VEVENT
DTSTART;TZID=Europe/Stockholm:20300408T100000
DTEND;TZID=Europe/Stockholm:20300408T110000
DTSTAMP:20260422T012627
CREATED:20260302T072033Z
LAST-MODIFIED:20260302T072037Z
UID:10011827-1901872800-1901876400@nordmalingsrk.se
SUMMARY:Underlagsskötsel
DESCRIPTION:Harvning av ridhus
URL:https://nordmalingsrk.se/evenemang/underlagsskotsel-2/2030-04-08/
END:VEVENT
BEGIN:VEVENT
DTSTART;TZID=Europe/Stockholm:20300408T173000
DTEND;TZID=Europe/Stockholm:20300408T200000
DTSTAMP:20260422T012627
CREATED:20260222T195332Z
LAST-MODIFIED:20260222T200427Z
UID:10011563-1901899800-1901908800@nordmalingsrk.se
SUMMARY:Lektioner
DESCRIPTION:
URL:https://nordmalingsrk.se/evenemang/lektioner-4/2030-04-08/
LOCATION:Ridhuset\, Torsbäcken 14\, Nordmaling\, Västerbotten\, 914 91\, Sverige
CATEGORIES:Interna bokningar,Ridskola
END:VEVENT
BEGIN:VEVENT
DTSTART;TZID=Europe/Stockholm:20300409T165500
DTEND;TZID=Europe/Stockholm:20300409T210000
DTSTAMP:20260422T012627
CREATED:20260222T195332Z
LAST-MODIFIED:20260222T200426Z
UID:10011298-1901984100-1901998800@nordmalingsrk.se
SUMMARY:Lektioner
DESCRIPTION:
URL:https://nordmalingsrk.se/evenemang/lektioner/2030-04-09/
LOCATION:Ridhuset\, Torsbäcken 14\, Nordmaling\, Västerbotten\, 914 91\, Sverige
CATEGORIES:Interna bokningar,Ridskola
END:VEVENT
BEGIN:VEVENT
DTSTART;TZID=Europe/Stockholm:20300410T130000
DTEND;TZID=Europe/Stockholm:20300410T140000
DTSTAMP:20260422T012627
CREATED:20260302T072223Z
LAST-MODIFIED:20260302T072227Z
UID:10012088-1902056400-1902060000@nordmalingsrk.se
SUMMARY:Underlagsskötsel
DESCRIPTION:Vattning och harvning av ridhus.
URL:https://nordmalingsrk.se/evenemang/underlagsskotsel-3/2030-04-10/
END:VEVENT
BEGIN:VEVENT
DTSTART;TZID=Europe/Stockholm:20300410T171000
DTEND;TZID=Europe/Stockholm:20300410T211500
DTSTAMP:20260422T012627
CREATED:20260222T195332Z
LAST-MODIFIED:20260222T200426Z
UID:10011033-1902071400-1902086100@nordmalingsrk.se
SUMMARY:Lektioner
DESCRIPTION:
URL:https://nordmalingsrk.se/evenemang/lektioner-2/2030-04-10/
LOCATION:Ridhuset\, Torsbäcken 14\, Nordmaling\, Västerbotten\, 914 91\, Sverige
CATEGORIES:Interna bokningar,Ridskola
END:VEVENT
BEGIN:VEVENT
DTSTART;TZID=Europe/Stockholm:20300411T173000
DTEND;TZID=Europe/Stockholm:20300411T204500
DTSTAMP:20260422T012627
CREATED:20260222T195332Z
LAST-MODIFIED:20260222T200425Z
UID:10010768-1902159000-1902170700@nordmalingsrk.se
SUMMARY:Lektioner
DESCRIPTION:
URL:https://nordmalingsrk.se/evenemang/lektioner-3/2030-04-11/
CATEGORIES:Interna bokningar,Ridskola
END:VEVENT
BEGIN:VEVENT
DTSTART;TZID=Europe/Stockholm:20300415T100000
DTEND;TZID=Europe/Stockholm:20300415T110000
DTSTAMP:20260422T012627
CREATED:20260302T072033Z
LAST-MODIFIED:20260302T072037Z
UID:10011828-1902477600-1902481200@nordmalingsrk.se
SUMMARY:Underlagsskötsel
DESCRIPTION:Harvning av ridhus
URL:https://nordmalingsrk.se/evenemang/underlagsskotsel-2/2030-04-15/
END:VEVENT
BEGIN:VEVENT
DTSTART;TZID=Europe/Stockholm:20300415T173000
DTEND;TZID=Europe/Stockholm:20300415T200000
DTSTAMP:20260422T012627
CREATED:20260222T195332Z
LAST-MODIFIED:20260222T200427Z
UID:10011564-1902504600-1902513600@nordmalingsrk.se
SUMMARY:Lektioner
DESCRIPTION:
URL:https://nordmalingsrk.se/evenemang/lektioner-4/2030-04-15/
LOCATION:Ridhuset\, Torsbäcken 14\, Nordmaling\, Västerbotten\, 914 91\, Sverige
CATEGORIES:Interna bokningar,Ridskola
END:VEVENT
BEGIN:VEVENT
DTSTART;TZID=Europe/Stockholm:20300416T165500
DTEND;TZID=Europe/Stockholm:20300416T210000
DTSTAMP:20260422T012627
CREATED:20260222T195332Z
LAST-MODIFIED:20260222T200426Z
UID:10011299-1902588900-1902603600@nordmalingsrk.se
SUMMARY:Lektioner
DESCRIPTION:
URL:https://nordmalingsrk.se/evenemang/lektioner/2030-04-16/
LOCATION:Ridhuset\, Torsbäcken 14\, Nordmaling\, Västerbotten\, 914 91\, Sverige
CATEGORIES:Interna bokningar,Ridskola
END:VEVENT
END:VCALENDAR