BEGIN:VCALENDAR
VERSION:2.0
PRODID:-//Nordmalings Ridklubb - ECPv6.15.13//NONSGML v1.0//EN
CALSCALE:GREGORIAN
METHOD:PUBLISH
X-WR-CALNAME:Nordmalings Ridklubb
X-ORIGINAL-URL:https://nordmalingsrk.se
X-WR-CALDESC:Händelser för Nordmalings Ridklubb
REFRESH-INTERVAL;VALUE=DURATION:PT1H
X-Robots-Tag:noindex
X-PUBLISHED-TTL:PT1H
BEGIN:VTIMEZONE
TZID:Europe/Stockholm
BEGIN:DAYLIGHT
TZOFFSETFROM:+0100
TZOFFSETTO:+0200
TZNAME:CEST
DTSTART:20290325T010000
END:DAYLIGHT
BEGIN:STANDARD
TZOFFSETFROM:+0200
TZOFFSETTO:+0100
TZNAME:CET
DTSTART:20291028T010000
END:STANDARD
BEGIN:DAYLIGHT
TZOFFSETFROM:+0100
TZOFFSETTO:+0200
TZNAME:CEST
DTSTART:20300331T010000
END:DAYLIGHT
BEGIN:STANDARD
TZOFFSETFROM:+0200
TZOFFSETTO:+0100
TZNAME:CET
DTSTART:20301027T010000
END:STANDARD
BEGIN:DAYLIGHT
TZOFFSETFROM:+0100
TZOFFSETTO:+0200
TZNAME:CEST
DTSTART:20310330T010000
END:DAYLIGHT
BEGIN:STANDARD
TZOFFSETFROM:+0200
TZOFFSETTO:+0100
TZNAME:CET
DTSTART:20311026T010000
END:STANDARD
END:VTIMEZONE
BEGIN:VEVENT
DTSTART;TZID=Europe/Stockholm:20300417T130000
DTEND;TZID=Europe/Stockholm:20300417T140000
DTSTAMP:20260422T012829
CREATED:20260302T072223Z
LAST-MODIFIED:20260302T072227Z
UID:10012089-1902661200-1902664800@nordmalingsrk.se
SUMMARY:Underlagsskötsel
DESCRIPTION:Vattning och harvning av ridhus.
URL:https://nordmalingsrk.se/evenemang/underlagsskotsel-3/2030-04-17/
END:VEVENT
BEGIN:VEVENT
DTSTART;TZID=Europe/Stockholm:20300417T171000
DTEND;TZID=Europe/Stockholm:20300417T211500
DTSTAMP:20260422T012829
CREATED:20260222T195332Z
LAST-MODIFIED:20260222T200426Z
UID:10011034-1902676200-1902690900@nordmalingsrk.se
SUMMARY:Lektioner
DESCRIPTION:
URL:https://nordmalingsrk.se/evenemang/lektioner-2/2030-04-17/
LOCATION:Ridhuset\, Torsbäcken 14\, Nordmaling\, Västerbotten\, 914 91\, Sverige
CATEGORIES:Interna bokningar,Ridskola
END:VEVENT
BEGIN:VEVENT
DTSTART;TZID=Europe/Stockholm:20300418T173000
DTEND;TZID=Europe/Stockholm:20300418T204500
DTSTAMP:20260422T012829
CREATED:20260222T195332Z
LAST-MODIFIED:20260222T200425Z
UID:10010769-1902763800-1902775500@nordmalingsrk.se
SUMMARY:Lektioner
DESCRIPTION:
URL:https://nordmalingsrk.se/evenemang/lektioner-3/2030-04-18/
CATEGORIES:Interna bokningar,Ridskola
END:VEVENT
BEGIN:VEVENT
DTSTART;TZID=Europe/Stockholm:20300422T100000
DTEND;TZID=Europe/Stockholm:20300422T110000
DTSTAMP:20260422T012829
CREATED:20260302T072033Z
LAST-MODIFIED:20260302T072037Z
UID:10011829-1903082400-1903086000@nordmalingsrk.se
SUMMARY:Underlagsskötsel
DESCRIPTION:Harvning av ridhus
URL:https://nordmalingsrk.se/evenemang/underlagsskotsel-2/2030-04-22/
END:VEVENT
BEGIN:VEVENT
DTSTART;TZID=Europe/Stockholm:20300422T173000
DTEND;TZID=Europe/Stockholm:20300422T200000
DTSTAMP:20260422T012829
CREATED:20260222T195332Z
LAST-MODIFIED:20260222T200427Z
UID:10011565-1903109400-1903118400@nordmalingsrk.se
SUMMARY:Lektioner
DESCRIPTION:
URL:https://nordmalingsrk.se/evenemang/lektioner-4/2030-04-22/
LOCATION:Ridhuset\, Torsbäcken 14\, Nordmaling\, Västerbotten\, 914 91\, Sverige
CATEGORIES:Interna bokningar,Ridskola
END:VEVENT
BEGIN:VEVENT
DTSTART;TZID=Europe/Stockholm:20300423T165500
DTEND;TZID=Europe/Stockholm:20300423T210000
DTSTAMP:20260422T012829
CREATED:20260222T195332Z
LAST-MODIFIED:20260222T200426Z
UID:10011300-1903193700-1903208400@nordmalingsrk.se
SUMMARY:Lektioner
DESCRIPTION:
URL:https://nordmalingsrk.se/evenemang/lektioner/2030-04-23/
LOCATION:Ridhuset\, Torsbäcken 14\, Nordmaling\, Västerbotten\, 914 91\, Sverige
CATEGORIES:Interna bokningar,Ridskola
END:VEVENT
BEGIN:VEVENT
DTSTART;TZID=Europe/Stockholm:20300424T130000
DTEND;TZID=Europe/Stockholm:20300424T140000
DTSTAMP:20260422T012829
CREATED:20260302T072223Z
LAST-MODIFIED:20260302T072227Z
UID:10012090-1903266000-1903269600@nordmalingsrk.se
SUMMARY:Underlagsskötsel
DESCRIPTION:Vattning och harvning av ridhus.
URL:https://nordmalingsrk.se/evenemang/underlagsskotsel-3/2030-04-24/
END:VEVENT
BEGIN:VEVENT
DTSTART;TZID=Europe/Stockholm:20300424T171000
DTEND;TZID=Europe/Stockholm:20300424T211500
DTSTAMP:20260422T012829
CREATED:20260222T195332Z
LAST-MODIFIED:20260222T200426Z
UID:10011035-1903281000-1903295700@nordmalingsrk.se
SUMMARY:Lektioner
DESCRIPTION:
URL:https://nordmalingsrk.se/evenemang/lektioner-2/2030-04-24/
LOCATION:Ridhuset\, Torsbäcken 14\, Nordmaling\, Västerbotten\, 914 91\, Sverige
CATEGORIES:Interna bokningar,Ridskola
END:VEVENT
BEGIN:VEVENT
DTSTART;TZID=Europe/Stockholm:20300425T173000
DTEND;TZID=Europe/Stockholm:20300425T204500
DTSTAMP:20260422T012829
CREATED:20260222T195332Z
LAST-MODIFIED:20260222T200425Z
UID:10010770-1903368600-1903380300@nordmalingsrk.se
SUMMARY:Lektioner
DESCRIPTION:
URL:https://nordmalingsrk.se/evenemang/lektioner-3/2030-04-25/
CATEGORIES:Interna bokningar,Ridskola
END:VEVENT
BEGIN:VEVENT
DTSTART;TZID=Europe/Stockholm:20300429T100000
DTEND;TZID=Europe/Stockholm:20300429T110000
DTSTAMP:20260422T012829
CREATED:20260302T072033Z
LAST-MODIFIED:20260302T072037Z
UID:10011830-1903687200-1903690800@nordmalingsrk.se
SUMMARY:Underlagsskötsel
DESCRIPTION:Harvning av ridhus
URL:https://nordmalingsrk.se/evenemang/underlagsskotsel-2/2030-04-29/
END:VEVENT
BEGIN:VEVENT
DTSTART;TZID=Europe/Stockholm:20300429T173000
DTEND;TZID=Europe/Stockholm:20300429T200000
DTSTAMP:20260422T012829
CREATED:20260222T195332Z
LAST-MODIFIED:20260222T200427Z
UID:10011566-1903714200-1903723200@nordmalingsrk.se
SUMMARY:Lektioner
DESCRIPTION:
URL:https://nordmalingsrk.se/evenemang/lektioner-4/2030-04-29/
LOCATION:Ridhuset\, Torsbäcken 14\, Nordmaling\, Västerbotten\, 914 91\, Sverige
CATEGORIES:Interna bokningar,Ridskola
END:VEVENT
BEGIN:VEVENT
DTSTART;TZID=Europe/Stockholm:20300430T165500
DTEND;TZID=Europe/Stockholm:20300430T210000
DTSTAMP:20260422T012829
CREATED:20260222T195332Z
LAST-MODIFIED:20260222T200426Z
UID:10011301-1903798500-1903813200@nordmalingsrk.se
SUMMARY:Lektioner
DESCRIPTION:
URL:https://nordmalingsrk.se/evenemang/lektioner/2030-04-30/
LOCATION:Ridhuset\, Torsbäcken 14\, Nordmaling\, Västerbotten\, 914 91\, Sverige
CATEGORIES:Interna bokningar,Ridskola
END:VEVENT
BEGIN:VEVENT
DTSTART;TZID=Europe/Stockholm:20300501T130000
DTEND;TZID=Europe/Stockholm:20300501T140000
DTSTAMP:20260422T012829
CREATED:20260302T072223Z
LAST-MODIFIED:20260302T072227Z
UID:10012091-1903870800-1903874400@nordmalingsrk.se
SUMMARY:Underlagsskötsel
DESCRIPTION:Vattning och harvning av ridhus.
URL:https://nordmalingsrk.se/evenemang/underlagsskotsel-3/2030-05-01/
END:VEVENT
BEGIN:VEVENT
DTSTART;TZID=Europe/Stockholm:20300501T171000
DTEND;TZID=Europe/Stockholm:20300501T211500
DTSTAMP:20260422T012829
CREATED:20260222T195332Z
LAST-MODIFIED:20260222T200426Z
UID:10011036-1903885800-1903900500@nordmalingsrk.se
SUMMARY:Lektioner
DESCRIPTION:
URL:https://nordmalingsrk.se/evenemang/lektioner-2/2030-05-01/
LOCATION:Ridhuset\, Torsbäcken 14\, Nordmaling\, Västerbotten\, 914 91\, Sverige
CATEGORIES:Interna bokningar,Ridskola
END:VEVENT
BEGIN:VEVENT
DTSTART;TZID=Europe/Stockholm:20300502T173000
DTEND;TZID=Europe/Stockholm:20300502T204500
DTSTAMP:20260422T012829
CREATED:20260222T195332Z
LAST-MODIFIED:20260222T200425Z
UID:10010771-1903973400-1903985100@nordmalingsrk.se
SUMMARY:Lektioner
DESCRIPTION:
URL:https://nordmalingsrk.se/evenemang/lektioner-3/2030-05-02/
CATEGORIES:Interna bokningar,Ridskola
END:VEVENT
BEGIN:VEVENT
DTSTART;TZID=Europe/Stockholm:20300506T100000
DTEND;TZID=Europe/Stockholm:20300506T110000
DTSTAMP:20260422T012829
CREATED:20260302T072033Z
LAST-MODIFIED:20260302T072037Z
UID:10011831-1904292000-1904295600@nordmalingsrk.se
SUMMARY:Underlagsskötsel
DESCRIPTION:Harvning av ridhus
URL:https://nordmalingsrk.se/evenemang/underlagsskotsel-2/2030-05-06/
END:VEVENT
BEGIN:VEVENT
DTSTART;TZID=Europe/Stockholm:20300506T173000
DTEND;TZID=Europe/Stockholm:20300506T200000
DTSTAMP:20260422T012829
CREATED:20260222T195332Z
LAST-MODIFIED:20260222T200427Z
UID:10011567-1904319000-1904328000@nordmalingsrk.se
SUMMARY:Lektioner
DESCRIPTION:
URL:https://nordmalingsrk.se/evenemang/lektioner-4/2030-05-06/
LOCATION:Ridhuset\, Torsbäcken 14\, Nordmaling\, Västerbotten\, 914 91\, Sverige
CATEGORIES:Interna bokningar,Ridskola
END:VEVENT
BEGIN:VEVENT
DTSTART;TZID=Europe/Stockholm:20300507T165500
DTEND;TZID=Europe/Stockholm:20300507T210000
DTSTAMP:20260422T012829
CREATED:20260222T195332Z
LAST-MODIFIED:20260222T200426Z
UID:10011302-1904403300-1904418000@nordmalingsrk.se
SUMMARY:Lektioner
DESCRIPTION:
URL:https://nordmalingsrk.se/evenemang/lektioner/2030-05-07/
LOCATION:Ridhuset\, Torsbäcken 14\, Nordmaling\, Västerbotten\, 914 91\, Sverige
CATEGORIES:Interna bokningar,Ridskola
END:VEVENT
BEGIN:VEVENT
DTSTART;TZID=Europe/Stockholm:20300508T130000
DTEND;TZID=Europe/Stockholm:20300508T140000
DTSTAMP:20260422T012829
CREATED:20260302T072223Z
LAST-MODIFIED:20260302T072227Z
UID:10012092-1904475600-1904479200@nordmalingsrk.se
SUMMARY:Underlagsskötsel
DESCRIPTION:Vattning och harvning av ridhus.
URL:https://nordmalingsrk.se/evenemang/underlagsskotsel-3/2030-05-08/
END:VEVENT
BEGIN:VEVENT
DTSTART;TZID=Europe/Stockholm:20300508T171000
DTEND;TZID=Europe/Stockholm:20300508T211500
DTSTAMP:20260422T012829
CREATED:20260222T195332Z
LAST-MODIFIED:20260222T200426Z
UID:10011037-1904490600-1904505300@nordmalingsrk.se
SUMMARY:Lektioner
DESCRIPTION:
URL:https://nordmalingsrk.se/evenemang/lektioner-2/2030-05-08/
LOCATION:Ridhuset\, Torsbäcken 14\, Nordmaling\, Västerbotten\, 914 91\, Sverige
CATEGORIES:Interna bokningar,Ridskola
END:VEVENT
BEGIN:VEVENT
DTSTART;TZID=Europe/Stockholm:20300509T173000
DTEND;TZID=Europe/Stockholm:20300509T204500
DTSTAMP:20260422T012829
CREATED:20260222T195332Z
LAST-MODIFIED:20260222T200425Z
UID:10010772-1904578200-1904589900@nordmalingsrk.se
SUMMARY:Lektioner
DESCRIPTION:
URL:https://nordmalingsrk.se/evenemang/lektioner-3/2030-05-09/
CATEGORIES:Interna bokningar,Ridskola
END:VEVENT
BEGIN:VEVENT
DTSTART;TZID=Europe/Stockholm:20300513T100000
DTEND;TZID=Europe/Stockholm:20300513T110000
DTSTAMP:20260422T012829
CREATED:20260302T072033Z
LAST-MODIFIED:20260302T072037Z
UID:10011832-1904896800-1904900400@nordmalingsrk.se
SUMMARY:Underlagsskötsel
DESCRIPTION:Harvning av ridhus
URL:https://nordmalingsrk.se/evenemang/underlagsskotsel-2/2030-05-13/
END:VEVENT
BEGIN:VEVENT
DTSTART;TZID=Europe/Stockholm:20300513T173000
DTEND;TZID=Europe/Stockholm:20300513T200000
DTSTAMP:20260422T012829
CREATED:20260222T195332Z
LAST-MODIFIED:20260222T200427Z
UID:10011568-1904923800-1904932800@nordmalingsrk.se
SUMMARY:Lektioner
DESCRIPTION:
URL:https://nordmalingsrk.se/evenemang/lektioner-4/2030-05-13/
LOCATION:Ridhuset\, Torsbäcken 14\, Nordmaling\, Västerbotten\, 914 91\, Sverige
CATEGORIES:Interna bokningar,Ridskola
END:VEVENT
BEGIN:VEVENT
DTSTART;TZID=Europe/Stockholm:20300514T165500
DTEND;TZID=Europe/Stockholm:20300514T210000
DTSTAMP:20260422T012829
CREATED:20260222T195332Z
LAST-MODIFIED:20260222T200426Z
UID:10011303-1905008100-1905022800@nordmalingsrk.se
SUMMARY:Lektioner
DESCRIPTION:
URL:https://nordmalingsrk.se/evenemang/lektioner/2030-05-14/
LOCATION:Ridhuset\, Torsbäcken 14\, Nordmaling\, Västerbotten\, 914 91\, Sverige
CATEGORIES:Interna bokningar,Ridskola
END:VEVENT
BEGIN:VEVENT
DTSTART;TZID=Europe/Stockholm:20300515T130000
DTEND;TZID=Europe/Stockholm:20300515T140000
DTSTAMP:20260422T012829
CREATED:20260302T072223Z
LAST-MODIFIED:20260302T072227Z
UID:10012093-1905080400-1905084000@nordmalingsrk.se
SUMMARY:Underlagsskötsel
DESCRIPTION:Vattning och harvning av ridhus.
URL:https://nordmalingsrk.se/evenemang/underlagsskotsel-3/2030-05-15/
END:VEVENT
BEGIN:VEVENT
DTSTART;TZID=Europe/Stockholm:20300515T171000
DTEND;TZID=Europe/Stockholm:20300515T211500
DTSTAMP:20260422T012829
CREATED:20260222T195332Z
LAST-MODIFIED:20260222T200426Z
UID:10011038-1905095400-1905110100@nordmalingsrk.se
SUMMARY:Lektioner
DESCRIPTION:
URL:https://nordmalingsrk.se/evenemang/lektioner-2/2030-05-15/
LOCATION:Ridhuset\, Torsbäcken 14\, Nordmaling\, Västerbotten\, 914 91\, Sverige
CATEGORIES:Interna bokningar,Ridskola
END:VEVENT
BEGIN:VEVENT
DTSTART;TZID=Europe/Stockholm:20300516T173000
DTEND;TZID=Europe/Stockholm:20300516T204500
DTSTAMP:20260422T012829
CREATED:20260222T195332Z
LAST-MODIFIED:20260222T200425Z
UID:10010773-1905183000-1905194700@nordmalingsrk.se
SUMMARY:Lektioner
DESCRIPTION:
URL:https://nordmalingsrk.se/evenemang/lektioner-3/2030-05-16/
CATEGORIES:Interna bokningar,Ridskola
END:VEVENT
BEGIN:VEVENT
DTSTART;TZID=Europe/Stockholm:20300520T100000
DTEND;TZID=Europe/Stockholm:20300520T110000
DTSTAMP:20260422T012829
CREATED:20260302T072033Z
LAST-MODIFIED:20260302T072037Z
UID:10011833-1905501600-1905505200@nordmalingsrk.se
SUMMARY:Underlagsskötsel
DESCRIPTION:Harvning av ridhus
URL:https://nordmalingsrk.se/evenemang/underlagsskotsel-2/2030-05-20/
END:VEVENT
BEGIN:VEVENT
DTSTART;TZID=Europe/Stockholm:20300520T173000
DTEND;TZID=Europe/Stockholm:20300520T200000
DTSTAMP:20260422T012829
CREATED:20260222T195332Z
LAST-MODIFIED:20260222T200427Z
UID:10011569-1905528600-1905537600@nordmalingsrk.se
SUMMARY:Lektioner
DESCRIPTION:
URL:https://nordmalingsrk.se/evenemang/lektioner-4/2030-05-20/
LOCATION:Ridhuset\, Torsbäcken 14\, Nordmaling\, Västerbotten\, 914 91\, Sverige
CATEGORIES:Interna bokningar,Ridskola
END:VEVENT
BEGIN:VEVENT
DTSTART;TZID=Europe/Stockholm:20300521T165500
DTEND;TZID=Europe/Stockholm:20300521T210000
DTSTAMP:20260422T012829
CREATED:20260222T195332Z
LAST-MODIFIED:20260222T200426Z
UID:10011304-1905612900-1905627600@nordmalingsrk.se
SUMMARY:Lektioner
DESCRIPTION:
URL:https://nordmalingsrk.se/evenemang/lektioner/2030-05-21/
LOCATION:Ridhuset\, Torsbäcken 14\, Nordmaling\, Västerbotten\, 914 91\, Sverige
CATEGORIES:Interna bokningar,Ridskola
END:VEVENT
END:VCALENDAR