BEGIN:VCALENDAR
VERSION:2.0
PRODID:-//Nordmalings Ridklubb - ECPv6.15.13//NONSGML v1.0//EN
CALSCALE:GREGORIAN
METHOD:PUBLISH
X-WR-CALNAME:Nordmalings Ridklubb
X-ORIGINAL-URL:https://nordmalingsrk.se
X-WR-CALDESC:Händelser för Nordmalings Ridklubb
REFRESH-INTERVAL;VALUE=DURATION:PT1H
X-Robots-Tag:noindex
X-PUBLISHED-TTL:PT1H
BEGIN:VTIMEZONE
TZID:Europe/Stockholm
BEGIN:DAYLIGHT
TZOFFSETFROM:+0100
TZOFFSETTO:+0200
TZNAME:CEST
DTSTART:20290325T010000
END:DAYLIGHT
BEGIN:STANDARD
TZOFFSETFROM:+0200
TZOFFSETTO:+0100
TZNAME:CET
DTSTART:20291028T010000
END:STANDARD
BEGIN:DAYLIGHT
TZOFFSETFROM:+0100
TZOFFSETTO:+0200
TZNAME:CEST
DTSTART:20300331T010000
END:DAYLIGHT
BEGIN:STANDARD
TZOFFSETFROM:+0200
TZOFFSETTO:+0100
TZNAME:CET
DTSTART:20301027T010000
END:STANDARD
BEGIN:DAYLIGHT
TZOFFSETFROM:+0100
TZOFFSETTO:+0200
TZNAME:CEST
DTSTART:20310330T010000
END:DAYLIGHT
BEGIN:STANDARD
TZOFFSETFROM:+0200
TZOFFSETTO:+0100
TZNAME:CET
DTSTART:20311026T010000
END:STANDARD
END:VTIMEZONE
BEGIN:VEVENT
DTSTART;TZID=Europe/Stockholm:20300819T100000
DTEND;TZID=Europe/Stockholm:20300819T110000
DTSTAMP:20260422T110902
CREATED:20260302T072033Z
LAST-MODIFIED:20260302T072037Z
UID:10011846-1913364000-1913367600@nordmalingsrk.se
SUMMARY:Underlagsskötsel
DESCRIPTION:Harvning av ridhus
URL:https://nordmalingsrk.se/evenemang/underlagsskotsel-2/2030-08-19/
END:VEVENT
BEGIN:VEVENT
DTSTART;TZID=Europe/Stockholm:20300819T173000
DTEND;TZID=Europe/Stockholm:20300819T200000
DTSTAMP:20260422T110902
CREATED:20260222T195332Z
LAST-MODIFIED:20260222T200427Z
UID:10011582-1913391000-1913400000@nordmalingsrk.se
SUMMARY:Lektioner
DESCRIPTION:
URL:https://nordmalingsrk.se/evenemang/lektioner-4/2030-08-19/
LOCATION:Ridhuset\, Torsbäcken 14\, Nordmaling\, Västerbotten\, 914 91\, Sverige
CATEGORIES:Interna bokningar,Ridskola
END:VEVENT
BEGIN:VEVENT
DTSTART;TZID=Europe/Stockholm:20300820T165500
DTEND;TZID=Europe/Stockholm:20300820T210000
DTSTAMP:20260422T110902
CREATED:20260222T195332Z
LAST-MODIFIED:20260222T200426Z
UID:10011317-1913475300-1913490000@nordmalingsrk.se
SUMMARY:Lektioner
DESCRIPTION:
URL:https://nordmalingsrk.se/evenemang/lektioner/2030-08-20/
LOCATION:Ridhuset\, Torsbäcken 14\, Nordmaling\, Västerbotten\, 914 91\, Sverige
CATEGORIES:Interna bokningar,Ridskola
END:VEVENT
BEGIN:VEVENT
DTSTART;TZID=Europe/Stockholm:20300821T130000
DTEND;TZID=Europe/Stockholm:20300821T140000
DTSTAMP:20260422T110902
CREATED:20260302T072223Z
LAST-MODIFIED:20260302T072227Z
UID:10012107-1913547600-1913551200@nordmalingsrk.se
SUMMARY:Underlagsskötsel
DESCRIPTION:Vattning och harvning av ridhus.
URL:https://nordmalingsrk.se/evenemang/underlagsskotsel-3/2030-08-21/
END:VEVENT
BEGIN:VEVENT
DTSTART;TZID=Europe/Stockholm:20300821T171000
DTEND;TZID=Europe/Stockholm:20300821T211500
DTSTAMP:20260422T110902
CREATED:20260222T195332Z
LAST-MODIFIED:20260222T200426Z
UID:10011052-1913562600-1913577300@nordmalingsrk.se
SUMMARY:Lektioner
DESCRIPTION:
URL:https://nordmalingsrk.se/evenemang/lektioner-2/2030-08-21/
LOCATION:Ridhuset\, Torsbäcken 14\, Nordmaling\, Västerbotten\, 914 91\, Sverige
CATEGORIES:Interna bokningar,Ridskola
END:VEVENT
BEGIN:VEVENT
DTSTART;TZID=Europe/Stockholm:20300822T173000
DTEND;TZID=Europe/Stockholm:20300822T204500
DTSTAMP:20260422T110902
CREATED:20260222T195332Z
LAST-MODIFIED:20260222T200425Z
UID:10010787-1913650200-1913661900@nordmalingsrk.se
SUMMARY:Lektioner
DESCRIPTION:
URL:https://nordmalingsrk.se/evenemang/lektioner-3/2030-08-22/
CATEGORIES:Interna bokningar,Ridskola
END:VEVENT
BEGIN:VEVENT
DTSTART;TZID=Europe/Stockholm:20300826T100000
DTEND;TZID=Europe/Stockholm:20300826T110000
DTSTAMP:20260422T110902
CREATED:20260302T072033Z
LAST-MODIFIED:20260302T072037Z
UID:10011847-1913968800-1913972400@nordmalingsrk.se
SUMMARY:Underlagsskötsel
DESCRIPTION:Harvning av ridhus
URL:https://nordmalingsrk.se/evenemang/underlagsskotsel-2/2030-08-26/
END:VEVENT
BEGIN:VEVENT
DTSTART;TZID=Europe/Stockholm:20300826T173000
DTEND;TZID=Europe/Stockholm:20300826T200000
DTSTAMP:20260422T110902
CREATED:20260222T195332Z
LAST-MODIFIED:20260222T200427Z
UID:10011583-1913995800-1914004800@nordmalingsrk.se
SUMMARY:Lektioner
DESCRIPTION:
URL:https://nordmalingsrk.se/evenemang/lektioner-4/2030-08-26/
LOCATION:Ridhuset\, Torsbäcken 14\, Nordmaling\, Västerbotten\, 914 91\, Sverige
CATEGORIES:Interna bokningar,Ridskola
END:VEVENT
BEGIN:VEVENT
DTSTART;TZID=Europe/Stockholm:20300827T165500
DTEND;TZID=Europe/Stockholm:20300827T210000
DTSTAMP:20260422T110902
CREATED:20260222T195332Z
LAST-MODIFIED:20260222T200426Z
UID:10011318-1914080100-1914094800@nordmalingsrk.se
SUMMARY:Lektioner
DESCRIPTION:
URL:https://nordmalingsrk.se/evenemang/lektioner/2030-08-27/
LOCATION:Ridhuset\, Torsbäcken 14\, Nordmaling\, Västerbotten\, 914 91\, Sverige
CATEGORIES:Interna bokningar,Ridskola
END:VEVENT
BEGIN:VEVENT
DTSTART;TZID=Europe/Stockholm:20300828T130000
DTEND;TZID=Europe/Stockholm:20300828T140000
DTSTAMP:20260422T110902
CREATED:20260302T072223Z
LAST-MODIFIED:20260302T072227Z
UID:10012108-1914152400-1914156000@nordmalingsrk.se
SUMMARY:Underlagsskötsel
DESCRIPTION:Vattning och harvning av ridhus.
URL:https://nordmalingsrk.se/evenemang/underlagsskotsel-3/2030-08-28/
END:VEVENT
BEGIN:VEVENT
DTSTART;TZID=Europe/Stockholm:20300828T171000
DTEND;TZID=Europe/Stockholm:20300828T211500
DTSTAMP:20260422T110902
CREATED:20260222T195332Z
LAST-MODIFIED:20260222T200426Z
UID:10011053-1914167400-1914182100@nordmalingsrk.se
SUMMARY:Lektioner
DESCRIPTION:
URL:https://nordmalingsrk.se/evenemang/lektioner-2/2030-08-28/
LOCATION:Ridhuset\, Torsbäcken 14\, Nordmaling\, Västerbotten\, 914 91\, Sverige
CATEGORIES:Interna bokningar,Ridskola
END:VEVENT
BEGIN:VEVENT
DTSTART;TZID=Europe/Stockholm:20300829T173000
DTEND;TZID=Europe/Stockholm:20300829T204500
DTSTAMP:20260422T110902
CREATED:20260222T195332Z
LAST-MODIFIED:20260222T200425Z
UID:10010788-1914255000-1914266700@nordmalingsrk.se
SUMMARY:Lektioner
DESCRIPTION:
URL:https://nordmalingsrk.se/evenemang/lektioner-3/2030-08-29/
CATEGORIES:Interna bokningar,Ridskola
END:VEVENT
BEGIN:VEVENT
DTSTART;TZID=Europe/Stockholm:20300902T100000
DTEND;TZID=Europe/Stockholm:20300902T110000
DTSTAMP:20260422T110902
CREATED:20260302T072033Z
LAST-MODIFIED:20260302T072037Z
UID:10011848-1914573600-1914577200@nordmalingsrk.se
SUMMARY:Underlagsskötsel
DESCRIPTION:Harvning av ridhus
URL:https://nordmalingsrk.se/evenemang/underlagsskotsel-2/2030-09-02/
END:VEVENT
BEGIN:VEVENT
DTSTART;TZID=Europe/Stockholm:20300902T173000
DTEND;TZID=Europe/Stockholm:20300902T200000
DTSTAMP:20260422T110902
CREATED:20260222T195332Z
LAST-MODIFIED:20260222T200427Z
UID:10011584-1914600600-1914609600@nordmalingsrk.se
SUMMARY:Lektioner
DESCRIPTION:
URL:https://nordmalingsrk.se/evenemang/lektioner-4/2030-09-02/
LOCATION:Ridhuset\, Torsbäcken 14\, Nordmaling\, Västerbotten\, 914 91\, Sverige
CATEGORIES:Interna bokningar,Ridskola
END:VEVENT
BEGIN:VEVENT
DTSTART;TZID=Europe/Stockholm:20300903T165500
DTEND;TZID=Europe/Stockholm:20300903T210000
DTSTAMP:20260422T110902
CREATED:20260222T195332Z
LAST-MODIFIED:20260222T200426Z
UID:10011319-1914684900-1914699600@nordmalingsrk.se
SUMMARY:Lektioner
DESCRIPTION:
URL:https://nordmalingsrk.se/evenemang/lektioner/2030-09-03/
LOCATION:Ridhuset\, Torsbäcken 14\, Nordmaling\, Västerbotten\, 914 91\, Sverige
CATEGORIES:Interna bokningar,Ridskola
END:VEVENT
BEGIN:VEVENT
DTSTART;TZID=Europe/Stockholm:20300904T130000
DTEND;TZID=Europe/Stockholm:20300904T140000
DTSTAMP:20260422T110902
CREATED:20260302T072223Z
LAST-MODIFIED:20260302T072227Z
UID:10012109-1914757200-1914760800@nordmalingsrk.se
SUMMARY:Underlagsskötsel
DESCRIPTION:Vattning och harvning av ridhus.
URL:https://nordmalingsrk.se/evenemang/underlagsskotsel-3/2030-09-04/
END:VEVENT
BEGIN:VEVENT
DTSTART;TZID=Europe/Stockholm:20300904T171000
DTEND;TZID=Europe/Stockholm:20300904T211500
DTSTAMP:20260422T110902
CREATED:20260222T195332Z
LAST-MODIFIED:20260222T200426Z
UID:10011054-1914772200-1914786900@nordmalingsrk.se
SUMMARY:Lektioner
DESCRIPTION:
URL:https://nordmalingsrk.se/evenemang/lektioner-2/2030-09-04/
LOCATION:Ridhuset\, Torsbäcken 14\, Nordmaling\, Västerbotten\, 914 91\, Sverige
CATEGORIES:Interna bokningar,Ridskola
END:VEVENT
BEGIN:VEVENT
DTSTART;TZID=Europe/Stockholm:20300905T173000
DTEND;TZID=Europe/Stockholm:20300905T204500
DTSTAMP:20260422T110902
CREATED:20260222T195332Z
LAST-MODIFIED:20260222T200425Z
UID:10010789-1914859800-1914871500@nordmalingsrk.se
SUMMARY:Lektioner
DESCRIPTION:
URL:https://nordmalingsrk.se/evenemang/lektioner-3/2030-09-05/
CATEGORIES:Interna bokningar,Ridskola
END:VEVENT
BEGIN:VEVENT
DTSTART;TZID=Europe/Stockholm:20300909T100000
DTEND;TZID=Europe/Stockholm:20300909T110000
DTSTAMP:20260422T110902
CREATED:20260302T072033Z
LAST-MODIFIED:20260302T072037Z
UID:10011849-1915178400-1915182000@nordmalingsrk.se
SUMMARY:Underlagsskötsel
DESCRIPTION:Harvning av ridhus
URL:https://nordmalingsrk.se/evenemang/underlagsskotsel-2/2030-09-09/
END:VEVENT
BEGIN:VEVENT
DTSTART;TZID=Europe/Stockholm:20300909T173000
DTEND;TZID=Europe/Stockholm:20300909T200000
DTSTAMP:20260422T110902
CREATED:20260222T195332Z
LAST-MODIFIED:20260222T200427Z
UID:10011585-1915205400-1915214400@nordmalingsrk.se
SUMMARY:Lektioner
DESCRIPTION:
URL:https://nordmalingsrk.se/evenemang/lektioner-4/2030-09-09/
LOCATION:Ridhuset\, Torsbäcken 14\, Nordmaling\, Västerbotten\, 914 91\, Sverige
CATEGORIES:Interna bokningar,Ridskola
END:VEVENT
BEGIN:VEVENT
DTSTART;TZID=Europe/Stockholm:20300910T165500
DTEND;TZID=Europe/Stockholm:20300910T210000
DTSTAMP:20260422T110902
CREATED:20260222T195332Z
LAST-MODIFIED:20260222T200426Z
UID:10011320-1915289700-1915304400@nordmalingsrk.se
SUMMARY:Lektioner
DESCRIPTION:
URL:https://nordmalingsrk.se/evenemang/lektioner/2030-09-10/
LOCATION:Ridhuset\, Torsbäcken 14\, Nordmaling\, Västerbotten\, 914 91\, Sverige
CATEGORIES:Interna bokningar,Ridskola
END:VEVENT
BEGIN:VEVENT
DTSTART;TZID=Europe/Stockholm:20300911T130000
DTEND;TZID=Europe/Stockholm:20300911T140000
DTSTAMP:20260422T110902
CREATED:20260302T072223Z
LAST-MODIFIED:20260302T072227Z
UID:10012110-1915362000-1915365600@nordmalingsrk.se
SUMMARY:Underlagsskötsel
DESCRIPTION:Vattning och harvning av ridhus.
URL:https://nordmalingsrk.se/evenemang/underlagsskotsel-3/2030-09-11/
END:VEVENT
BEGIN:VEVENT
DTSTART;TZID=Europe/Stockholm:20300911T171000
DTEND;TZID=Europe/Stockholm:20300911T211500
DTSTAMP:20260422T110902
CREATED:20260222T195332Z
LAST-MODIFIED:20260222T200426Z
UID:10011055-1915377000-1915391700@nordmalingsrk.se
SUMMARY:Lektioner
DESCRIPTION:
URL:https://nordmalingsrk.se/evenemang/lektioner-2/2030-09-11/
LOCATION:Ridhuset\, Torsbäcken 14\, Nordmaling\, Västerbotten\, 914 91\, Sverige
CATEGORIES:Interna bokningar,Ridskola
END:VEVENT
BEGIN:VEVENT
DTSTART;TZID=Europe/Stockholm:20300912T173000
DTEND;TZID=Europe/Stockholm:20300912T204500
DTSTAMP:20260422T110902
CREATED:20260222T195332Z
LAST-MODIFIED:20260222T200425Z
UID:10010790-1915464600-1915476300@nordmalingsrk.se
SUMMARY:Lektioner
DESCRIPTION:
URL:https://nordmalingsrk.se/evenemang/lektioner-3/2030-09-12/
CATEGORIES:Interna bokningar,Ridskola
END:VEVENT
BEGIN:VEVENT
DTSTART;TZID=Europe/Stockholm:20300916T100000
DTEND;TZID=Europe/Stockholm:20300916T110000
DTSTAMP:20260422T110902
CREATED:20260302T072033Z
LAST-MODIFIED:20260302T072037Z
UID:10011850-1915783200-1915786800@nordmalingsrk.se
SUMMARY:Underlagsskötsel
DESCRIPTION:Harvning av ridhus
URL:https://nordmalingsrk.se/evenemang/underlagsskotsel-2/2030-09-16/
END:VEVENT
BEGIN:VEVENT
DTSTART;TZID=Europe/Stockholm:20300916T173000
DTEND;TZID=Europe/Stockholm:20300916T200000
DTSTAMP:20260422T110902
CREATED:20260222T195332Z
LAST-MODIFIED:20260222T200427Z
UID:10011586-1915810200-1915819200@nordmalingsrk.se
SUMMARY:Lektioner
DESCRIPTION:
URL:https://nordmalingsrk.se/evenemang/lektioner-4/2030-09-16/
LOCATION:Ridhuset\, Torsbäcken 14\, Nordmaling\, Västerbotten\, 914 91\, Sverige
CATEGORIES:Interna bokningar,Ridskola
END:VEVENT
BEGIN:VEVENT
DTSTART;TZID=Europe/Stockholm:20300917T165500
DTEND;TZID=Europe/Stockholm:20300917T210000
DTSTAMP:20260422T110902
CREATED:20260222T195332Z
LAST-MODIFIED:20260222T200426Z
UID:10011321-1915894500-1915909200@nordmalingsrk.se
SUMMARY:Lektioner
DESCRIPTION:
URL:https://nordmalingsrk.se/evenemang/lektioner/2030-09-17/
LOCATION:Ridhuset\, Torsbäcken 14\, Nordmaling\, Västerbotten\, 914 91\, Sverige
CATEGORIES:Interna bokningar,Ridskola
END:VEVENT
BEGIN:VEVENT
DTSTART;TZID=Europe/Stockholm:20300918T130000
DTEND;TZID=Europe/Stockholm:20300918T140000
DTSTAMP:20260422T110902
CREATED:20260302T072223Z
LAST-MODIFIED:20260302T072227Z
UID:10012111-1915966800-1915970400@nordmalingsrk.se
SUMMARY:Underlagsskötsel
DESCRIPTION:Vattning och harvning av ridhus.
URL:https://nordmalingsrk.se/evenemang/underlagsskotsel-3/2030-09-18/
END:VEVENT
BEGIN:VEVENT
DTSTART;TZID=Europe/Stockholm:20300918T171000
DTEND;TZID=Europe/Stockholm:20300918T211500
DTSTAMP:20260422T110902
CREATED:20260222T195332Z
LAST-MODIFIED:20260222T200426Z
UID:10011056-1915981800-1915996500@nordmalingsrk.se
SUMMARY:Lektioner
DESCRIPTION:
URL:https://nordmalingsrk.se/evenemang/lektioner-2/2030-09-18/
LOCATION:Ridhuset\, Torsbäcken 14\, Nordmaling\, Västerbotten\, 914 91\, Sverige
CATEGORIES:Interna bokningar,Ridskola
END:VEVENT
BEGIN:VEVENT
DTSTART;TZID=Europe/Stockholm:20300919T173000
DTEND;TZID=Europe/Stockholm:20300919T204500
DTSTAMP:20260422T110902
CREATED:20260222T195332Z
LAST-MODIFIED:20260222T200425Z
UID:10010791-1916069400-1916081100@nordmalingsrk.se
SUMMARY:Lektioner
DESCRIPTION:
URL:https://nordmalingsrk.se/evenemang/lektioner-3/2030-09-19/
CATEGORIES:Interna bokningar,Ridskola
END:VEVENT
END:VCALENDAR