BEGIN:VCALENDAR
VERSION:2.0
PRODID:-//Nordmalings Ridklubb - ECPv6.15.13//NONSGML v1.0//EN
CALSCALE:GREGORIAN
METHOD:PUBLISH
X-WR-CALNAME:Nordmalings Ridklubb
X-ORIGINAL-URL:https://nordmalingsrk.se
X-WR-CALDESC:Händelser för Nordmalings Ridklubb
REFRESH-INTERVAL;VALUE=DURATION:PT1H
X-Robots-Tag:noindex
X-PUBLISHED-TTL:PT1H
BEGIN:VTIMEZONE
TZID:Europe/Stockholm
BEGIN:DAYLIGHT
TZOFFSETFROM:+0100
TZOFFSETTO:+0200
TZNAME:CEST
DTSTART:20290325T010000
END:DAYLIGHT
BEGIN:STANDARD
TZOFFSETFROM:+0200
TZOFFSETTO:+0100
TZNAME:CET
DTSTART:20291028T010000
END:STANDARD
BEGIN:DAYLIGHT
TZOFFSETFROM:+0100
TZOFFSETTO:+0200
TZNAME:CEST
DTSTART:20300331T010000
END:DAYLIGHT
BEGIN:STANDARD
TZOFFSETFROM:+0200
TZOFFSETTO:+0100
TZNAME:CET
DTSTART:20301027T010000
END:STANDARD
BEGIN:DAYLIGHT
TZOFFSETFROM:+0100
TZOFFSETTO:+0200
TZNAME:CEST
DTSTART:20310330T010000
END:DAYLIGHT
BEGIN:STANDARD
TZOFFSETFROM:+0200
TZOFFSETTO:+0100
TZNAME:CET
DTSTART:20311026T010000
END:STANDARD
END:VTIMEZONE
BEGIN:VEVENT
DTSTART;TZID=Europe/Stockholm:20301008T165500
DTEND;TZID=Europe/Stockholm:20301008T210000
DTSTAMP:20260422T124521
CREATED:20260222T195332Z
LAST-MODIFIED:20260222T200426Z
UID:10011324-1917708900-1917723600@nordmalingsrk.se
SUMMARY:Lektioner
DESCRIPTION:
URL:https://nordmalingsrk.se/evenemang/lektioner/2030-10-08/
LOCATION:Ridhuset\, Torsbäcken 14\, Nordmaling\, Västerbotten\, 914 91\, Sverige
CATEGORIES:Interna bokningar,Ridskola
END:VEVENT
BEGIN:VEVENT
DTSTART;TZID=Europe/Stockholm:20301009T130000
DTEND;TZID=Europe/Stockholm:20301009T140000
DTSTAMP:20260422T124521
CREATED:20260302T072223Z
LAST-MODIFIED:20260302T072227Z
UID:10012114-1917781200-1917784800@nordmalingsrk.se
SUMMARY:Underlagsskötsel
DESCRIPTION:Vattning och harvning av ridhus.
URL:https://nordmalingsrk.se/evenemang/underlagsskotsel-3/2030-10-09/
END:VEVENT
BEGIN:VEVENT
DTSTART;TZID=Europe/Stockholm:20301009T171000
DTEND;TZID=Europe/Stockholm:20301009T211500
DTSTAMP:20260422T124521
CREATED:20260222T195332Z
LAST-MODIFIED:20260222T200426Z
UID:10011059-1917796200-1917810900@nordmalingsrk.se
SUMMARY:Lektioner
DESCRIPTION:
URL:https://nordmalingsrk.se/evenemang/lektioner-2/2030-10-09/
LOCATION:Ridhuset\, Torsbäcken 14\, Nordmaling\, Västerbotten\, 914 91\, Sverige
CATEGORIES:Interna bokningar,Ridskola
END:VEVENT
BEGIN:VEVENT
DTSTART;TZID=Europe/Stockholm:20301010T173000
DTEND;TZID=Europe/Stockholm:20301010T204500
DTSTAMP:20260422T124521
CREATED:20260222T195332Z
LAST-MODIFIED:20260222T200425Z
UID:10010794-1917883800-1917895500@nordmalingsrk.se
SUMMARY:Lektioner
DESCRIPTION:
URL:https://nordmalingsrk.se/evenemang/lektioner-3/2030-10-10/
CATEGORIES:Interna bokningar,Ridskola
END:VEVENT
BEGIN:VEVENT
DTSTART;TZID=Europe/Stockholm:20301014T100000
DTEND;TZID=Europe/Stockholm:20301014T110000
DTSTAMP:20260422T124521
CREATED:20260302T072033Z
LAST-MODIFIED:20260302T072037Z
UID:10011854-1918202400-1918206000@nordmalingsrk.se
SUMMARY:Underlagsskötsel
DESCRIPTION:Harvning av ridhus
URL:https://nordmalingsrk.se/evenemang/underlagsskotsel-2/2030-10-14/
END:VEVENT
BEGIN:VEVENT
DTSTART;TZID=Europe/Stockholm:20301014T173000
DTEND;TZID=Europe/Stockholm:20301014T200000
DTSTAMP:20260422T124521
CREATED:20260222T195332Z
LAST-MODIFIED:20260222T200427Z
UID:10011590-1918229400-1918238400@nordmalingsrk.se
SUMMARY:Lektioner
DESCRIPTION:
URL:https://nordmalingsrk.se/evenemang/lektioner-4/2030-10-14/
LOCATION:Ridhuset\, Torsbäcken 14\, Nordmaling\, Västerbotten\, 914 91\, Sverige
CATEGORIES:Interna bokningar,Ridskola
END:VEVENT
BEGIN:VEVENT
DTSTART;TZID=Europe/Stockholm:20301015T165500
DTEND;TZID=Europe/Stockholm:20301015T210000
DTSTAMP:20260422T124521
CREATED:20260222T195332Z
LAST-MODIFIED:20260222T200426Z
UID:10011325-1918313700-1918328400@nordmalingsrk.se
SUMMARY:Lektioner
DESCRIPTION:
URL:https://nordmalingsrk.se/evenemang/lektioner/2030-10-15/
LOCATION:Ridhuset\, Torsbäcken 14\, Nordmaling\, Västerbotten\, 914 91\, Sverige
CATEGORIES:Interna bokningar,Ridskola
END:VEVENT
BEGIN:VEVENT
DTSTART;TZID=Europe/Stockholm:20301016T130000
DTEND;TZID=Europe/Stockholm:20301016T140000
DTSTAMP:20260422T124521
CREATED:20260302T072223Z
LAST-MODIFIED:20260302T072227Z
UID:10012115-1918386000-1918389600@nordmalingsrk.se
SUMMARY:Underlagsskötsel
DESCRIPTION:Vattning och harvning av ridhus.
URL:https://nordmalingsrk.se/evenemang/underlagsskotsel-3/2030-10-16/
END:VEVENT
BEGIN:VEVENT
DTSTART;TZID=Europe/Stockholm:20301016T171000
DTEND;TZID=Europe/Stockholm:20301016T211500
DTSTAMP:20260422T124521
CREATED:20260222T195332Z
LAST-MODIFIED:20260222T200426Z
UID:10011060-1918401000-1918415700@nordmalingsrk.se
SUMMARY:Lektioner
DESCRIPTION:
URL:https://nordmalingsrk.se/evenemang/lektioner-2/2030-10-16/
LOCATION:Ridhuset\, Torsbäcken 14\, Nordmaling\, Västerbotten\, 914 91\, Sverige
CATEGORIES:Interna bokningar,Ridskola
END:VEVENT
BEGIN:VEVENT
DTSTART;TZID=Europe/Stockholm:20301017T173000
DTEND;TZID=Europe/Stockholm:20301017T204500
DTSTAMP:20260422T124521
CREATED:20260222T195332Z
LAST-MODIFIED:20260222T200425Z
UID:10010795-1918488600-1918500300@nordmalingsrk.se
SUMMARY:Lektioner
DESCRIPTION:
URL:https://nordmalingsrk.se/evenemang/lektioner-3/2030-10-17/
CATEGORIES:Interna bokningar,Ridskola
END:VEVENT
BEGIN:VEVENT
DTSTART;TZID=Europe/Stockholm:20301021T100000
DTEND;TZID=Europe/Stockholm:20301021T110000
DTSTAMP:20260422T124521
CREATED:20260302T072033Z
LAST-MODIFIED:20260302T072037Z
UID:10011855-1918807200-1918810800@nordmalingsrk.se
SUMMARY:Underlagsskötsel
DESCRIPTION:Harvning av ridhus
URL:https://nordmalingsrk.se/evenemang/underlagsskotsel-2/2030-10-21/
END:VEVENT
BEGIN:VEVENT
DTSTART;TZID=Europe/Stockholm:20301021T173000
DTEND;TZID=Europe/Stockholm:20301021T200000
DTSTAMP:20260422T124521
CREATED:20260222T195332Z
LAST-MODIFIED:20260222T200427Z
UID:10011591-1918834200-1918843200@nordmalingsrk.se
SUMMARY:Lektioner
DESCRIPTION:
URL:https://nordmalingsrk.se/evenemang/lektioner-4/2030-10-21/
LOCATION:Ridhuset\, Torsbäcken 14\, Nordmaling\, Västerbotten\, 914 91\, Sverige
CATEGORIES:Interna bokningar,Ridskola
END:VEVENT
BEGIN:VEVENT
DTSTART;TZID=Europe/Stockholm:20301022T165500
DTEND;TZID=Europe/Stockholm:20301022T210000
DTSTAMP:20260422T124521
CREATED:20260222T195332Z
LAST-MODIFIED:20260222T200426Z
UID:10011326-1918918500-1918933200@nordmalingsrk.se
SUMMARY:Lektioner
DESCRIPTION:
URL:https://nordmalingsrk.se/evenemang/lektioner/2030-10-22/
LOCATION:Ridhuset\, Torsbäcken 14\, Nordmaling\, Västerbotten\, 914 91\, Sverige
CATEGORIES:Interna bokningar,Ridskola
END:VEVENT
BEGIN:VEVENT
DTSTART;TZID=Europe/Stockholm:20301023T130000
DTEND;TZID=Europe/Stockholm:20301023T140000
DTSTAMP:20260422T124521
CREATED:20260302T072223Z
LAST-MODIFIED:20260302T072227Z
UID:10012116-1918990800-1918994400@nordmalingsrk.se
SUMMARY:Underlagsskötsel
DESCRIPTION:Vattning och harvning av ridhus.
URL:https://nordmalingsrk.se/evenemang/underlagsskotsel-3/2030-10-23/
END:VEVENT
BEGIN:VEVENT
DTSTART;TZID=Europe/Stockholm:20301023T171000
DTEND;TZID=Europe/Stockholm:20301023T211500
DTSTAMP:20260422T124521
CREATED:20260222T195332Z
LAST-MODIFIED:20260222T200426Z
UID:10011061-1919005800-1919020500@nordmalingsrk.se
SUMMARY:Lektioner
DESCRIPTION:
URL:https://nordmalingsrk.se/evenemang/lektioner-2/2030-10-23/
LOCATION:Ridhuset\, Torsbäcken 14\, Nordmaling\, Västerbotten\, 914 91\, Sverige
CATEGORIES:Interna bokningar,Ridskola
END:VEVENT
BEGIN:VEVENT
DTSTART;TZID=Europe/Stockholm:20301024T173000
DTEND;TZID=Europe/Stockholm:20301024T204500
DTSTAMP:20260422T124521
CREATED:20260222T195332Z
LAST-MODIFIED:20260222T200425Z
UID:10010796-1919093400-1919105100@nordmalingsrk.se
SUMMARY:Lektioner
DESCRIPTION:
URL:https://nordmalingsrk.se/evenemang/lektioner-3/2030-10-24/
CATEGORIES:Interna bokningar,Ridskola
END:VEVENT
BEGIN:VEVENT
DTSTART;TZID=Europe/Stockholm:20301028T100000
DTEND;TZID=Europe/Stockholm:20301028T110000
DTSTAMP:20260422T124521
CREATED:20260302T072033Z
LAST-MODIFIED:20260302T072037Z
UID:10011856-1919412000-1919415600@nordmalingsrk.se
SUMMARY:Underlagsskötsel
DESCRIPTION:Harvning av ridhus
URL:https://nordmalingsrk.se/evenemang/underlagsskotsel-2/2030-10-28/
END:VEVENT
BEGIN:VEVENT
DTSTART;TZID=Europe/Stockholm:20301028T173000
DTEND;TZID=Europe/Stockholm:20301028T200000
DTSTAMP:20260422T124521
CREATED:20260222T195332Z
LAST-MODIFIED:20260222T200427Z
UID:10011592-1919439000-1919448000@nordmalingsrk.se
SUMMARY:Lektioner
DESCRIPTION:
URL:https://nordmalingsrk.se/evenemang/lektioner-4/2030-10-28/
LOCATION:Ridhuset\, Torsbäcken 14\, Nordmaling\, Västerbotten\, 914 91\, Sverige
CATEGORIES:Interna bokningar,Ridskola
END:VEVENT
BEGIN:VEVENT
DTSTART;TZID=Europe/Stockholm:20301029T165500
DTEND;TZID=Europe/Stockholm:20301029T210000
DTSTAMP:20260422T124521
CREATED:20260222T195332Z
LAST-MODIFIED:20260222T200426Z
UID:10011327-1919523300-1919538000@nordmalingsrk.se
SUMMARY:Lektioner
DESCRIPTION:
URL:https://nordmalingsrk.se/evenemang/lektioner/2030-10-29/
LOCATION:Ridhuset\, Torsbäcken 14\, Nordmaling\, Västerbotten\, 914 91\, Sverige
CATEGORIES:Interna bokningar,Ridskola
END:VEVENT
BEGIN:VEVENT
DTSTART;TZID=Europe/Stockholm:20301030T130000
DTEND;TZID=Europe/Stockholm:20301030T140000
DTSTAMP:20260422T124521
CREATED:20260302T072223Z
LAST-MODIFIED:20260302T072227Z
UID:10012117-1919595600-1919599200@nordmalingsrk.se
SUMMARY:Underlagsskötsel
DESCRIPTION:Vattning och harvning av ridhus.
URL:https://nordmalingsrk.se/evenemang/underlagsskotsel-3/2030-10-30/
END:VEVENT
BEGIN:VEVENT
DTSTART;TZID=Europe/Stockholm:20301030T171000
DTEND;TZID=Europe/Stockholm:20301030T211500
DTSTAMP:20260422T124521
CREATED:20260222T195332Z
LAST-MODIFIED:20260222T200426Z
UID:10011062-1919610600-1919625300@nordmalingsrk.se
SUMMARY:Lektioner
DESCRIPTION:
URL:https://nordmalingsrk.se/evenemang/lektioner-2/2030-10-30/
LOCATION:Ridhuset\, Torsbäcken 14\, Nordmaling\, Västerbotten\, 914 91\, Sverige
CATEGORIES:Interna bokningar,Ridskola
END:VEVENT
BEGIN:VEVENT
DTSTART;TZID=Europe/Stockholm:20301031T173000
DTEND;TZID=Europe/Stockholm:20301031T204500
DTSTAMP:20260422T124521
CREATED:20260222T195332Z
LAST-MODIFIED:20260222T200425Z
UID:10010797-1919698200-1919709900@nordmalingsrk.se
SUMMARY:Lektioner
DESCRIPTION:
URL:https://nordmalingsrk.se/evenemang/lektioner-3/2030-10-31/
CATEGORIES:Interna bokningar,Ridskola
END:VEVENT
BEGIN:VEVENT
DTSTART;TZID=Europe/Stockholm:20301104T100000
DTEND;TZID=Europe/Stockholm:20301104T110000
DTSTAMP:20260422T124521
CREATED:20260302T072033Z
LAST-MODIFIED:20260302T072037Z
UID:10011857-1920016800-1920020400@nordmalingsrk.se
SUMMARY:Underlagsskötsel
DESCRIPTION:Harvning av ridhus
URL:https://nordmalingsrk.se/evenemang/underlagsskotsel-2/2030-11-04/
END:VEVENT
BEGIN:VEVENT
DTSTART;TZID=Europe/Stockholm:20301104T173000
DTEND;TZID=Europe/Stockholm:20301104T200000
DTSTAMP:20260422T124521
CREATED:20260222T195332Z
LAST-MODIFIED:20260222T200427Z
UID:10011593-1920043800-1920052800@nordmalingsrk.se
SUMMARY:Lektioner
DESCRIPTION:
URL:https://nordmalingsrk.se/evenemang/lektioner-4/2030-11-04/
LOCATION:Ridhuset\, Torsbäcken 14\, Nordmaling\, Västerbotten\, 914 91\, Sverige
CATEGORIES:Interna bokningar,Ridskola
END:VEVENT
BEGIN:VEVENT
DTSTART;TZID=Europe/Stockholm:20301105T165500
DTEND;TZID=Europe/Stockholm:20301105T210000
DTSTAMP:20260422T124521
CREATED:20260222T195332Z
LAST-MODIFIED:20260222T200426Z
UID:10011328-1920128100-1920142800@nordmalingsrk.se
SUMMARY:Lektioner
DESCRIPTION:
URL:https://nordmalingsrk.se/evenemang/lektioner/2030-11-05/
LOCATION:Ridhuset\, Torsbäcken 14\, Nordmaling\, Västerbotten\, 914 91\, Sverige
CATEGORIES:Interna bokningar,Ridskola
END:VEVENT
BEGIN:VEVENT
DTSTART;TZID=Europe/Stockholm:20301106T130000
DTEND;TZID=Europe/Stockholm:20301106T140000
DTSTAMP:20260422T124521
CREATED:20260302T072223Z
LAST-MODIFIED:20260302T072227Z
UID:10012118-1920200400-1920204000@nordmalingsrk.se
SUMMARY:Underlagsskötsel
DESCRIPTION:Vattning och harvning av ridhus.
URL:https://nordmalingsrk.se/evenemang/underlagsskotsel-3/2030-11-06/
END:VEVENT
BEGIN:VEVENT
DTSTART;TZID=Europe/Stockholm:20301106T171000
DTEND;TZID=Europe/Stockholm:20301106T211500
DTSTAMP:20260422T124521
CREATED:20260222T195332Z
LAST-MODIFIED:20260222T200426Z
UID:10011063-1920215400-1920230100@nordmalingsrk.se
SUMMARY:Lektioner
DESCRIPTION:
URL:https://nordmalingsrk.se/evenemang/lektioner-2/2030-11-06/
LOCATION:Ridhuset\, Torsbäcken 14\, Nordmaling\, Västerbotten\, 914 91\, Sverige
CATEGORIES:Interna bokningar,Ridskola
END:VEVENT
BEGIN:VEVENT
DTSTART;TZID=Europe/Stockholm:20301107T173000
DTEND;TZID=Europe/Stockholm:20301107T204500
DTSTAMP:20260422T124521
CREATED:20260222T195332Z
LAST-MODIFIED:20260222T200425Z
UID:10010798-1920303000-1920314700@nordmalingsrk.se
SUMMARY:Lektioner
DESCRIPTION:
URL:https://nordmalingsrk.se/evenemang/lektioner-3/2030-11-07/
CATEGORIES:Interna bokningar,Ridskola
END:VEVENT
BEGIN:VEVENT
DTSTART;TZID=Europe/Stockholm:20301111T100000
DTEND;TZID=Europe/Stockholm:20301111T110000
DTSTAMP:20260422T124521
CREATED:20260302T072033Z
LAST-MODIFIED:20260302T072037Z
UID:10011858-1920621600-1920625200@nordmalingsrk.se
SUMMARY:Underlagsskötsel
DESCRIPTION:Harvning av ridhus
URL:https://nordmalingsrk.se/evenemang/underlagsskotsel-2/2030-11-11/
END:VEVENT
BEGIN:VEVENT
DTSTART;TZID=Europe/Stockholm:20301111T173000
DTEND;TZID=Europe/Stockholm:20301111T200000
DTSTAMP:20260422T124521
CREATED:20260222T195332Z
LAST-MODIFIED:20260222T200427Z
UID:10011594-1920648600-1920657600@nordmalingsrk.se
SUMMARY:Lektioner
DESCRIPTION:
URL:https://nordmalingsrk.se/evenemang/lektioner-4/2030-11-11/
LOCATION:Ridhuset\, Torsbäcken 14\, Nordmaling\, Västerbotten\, 914 91\, Sverige
CATEGORIES:Interna bokningar,Ridskola
END:VEVENT
END:VCALENDAR