BEGIN:VCALENDAR
VERSION:2.0
PRODID:-//Nordmalings Ridklubb - ECPv6.15.13//NONSGML v1.0//EN
CALSCALE:GREGORIAN
METHOD:PUBLISH
X-WR-CALNAME:Nordmalings Ridklubb
X-ORIGINAL-URL:https://nordmalingsrk.se
X-WR-CALDESC:Händelser för Nordmalings Ridklubb
REFRESH-INTERVAL;VALUE=DURATION:PT1H
X-Robots-Tag:noindex
X-PUBLISHED-TTL:PT1H
BEGIN:VTIMEZONE
TZID:Europe/Stockholm
BEGIN:DAYLIGHT
TZOFFSETFROM:+0100
TZOFFSETTO:+0200
TZNAME:CEST
DTSTART:20290325T010000
END:DAYLIGHT
BEGIN:STANDARD
TZOFFSETFROM:+0200
TZOFFSETTO:+0100
TZNAME:CET
DTSTART:20291028T010000
END:STANDARD
BEGIN:DAYLIGHT
TZOFFSETFROM:+0100
TZOFFSETTO:+0200
TZNAME:CEST
DTSTART:20300331T010000
END:DAYLIGHT
BEGIN:STANDARD
TZOFFSETFROM:+0200
TZOFFSETTO:+0100
TZNAME:CET
DTSTART:20301027T010000
END:STANDARD
BEGIN:DAYLIGHT
TZOFFSETFROM:+0100
TZOFFSETTO:+0200
TZNAME:CEST
DTSTART:20310330T010000
END:DAYLIGHT
BEGIN:STANDARD
TZOFFSETFROM:+0200
TZOFFSETTO:+0100
TZNAME:CET
DTSTART:20311026T010000
END:STANDARD
BEGIN:DAYLIGHT
TZOFFSETFROM:+0100
TZOFFSETTO:+0200
TZNAME:CEST
DTSTART:20320328T010000
END:DAYLIGHT
BEGIN:STANDARD
TZOFFSETFROM:+0200
TZOFFSETTO:+0100
TZNAME:CET
DTSTART:20321031T010000
END:STANDARD
END:VTIMEZONE
BEGIN:VEVENT
DTSTART;TZID=Europe/Stockholm:20301212T173000
DTEND;TZID=Europe/Stockholm:20301212T204500
DTSTAMP:20260422T154845
CREATED:20260222T195332Z
LAST-MODIFIED:20260222T200425Z
UID:10010803-1923327000-1923338700@nordmalingsrk.se
SUMMARY:Lektioner
DESCRIPTION:
URL:https://nordmalingsrk.se/evenemang/lektioner-3/2030-12-12/
CATEGORIES:Interna bokningar,Ridskola
END:VEVENT
BEGIN:VEVENT
DTSTART;TZID=Europe/Stockholm:20301216T100000
DTEND;TZID=Europe/Stockholm:20301216T110000
DTSTAMP:20260422T154845
CREATED:20260302T072033Z
LAST-MODIFIED:20260302T072037Z
UID:10011863-1923645600-1923649200@nordmalingsrk.se
SUMMARY:Underlagsskötsel
DESCRIPTION:Harvning av ridhus
URL:https://nordmalingsrk.se/evenemang/underlagsskotsel-2/2030-12-16/
END:VEVENT
BEGIN:VEVENT
DTSTART;TZID=Europe/Stockholm:20301216T173000
DTEND;TZID=Europe/Stockholm:20301216T200000
DTSTAMP:20260422T154845
CREATED:20260222T195332Z
LAST-MODIFIED:20260222T200427Z
UID:10011599-1923672600-1923681600@nordmalingsrk.se
SUMMARY:Lektioner
DESCRIPTION:
URL:https://nordmalingsrk.se/evenemang/lektioner-4/2030-12-16/
LOCATION:Ridhuset\, Torsbäcken 14\, Nordmaling\, Västerbotten\, 914 91\, Sverige
CATEGORIES:Interna bokningar,Ridskola
END:VEVENT
BEGIN:VEVENT
DTSTART;TZID=Europe/Stockholm:20301217T165500
DTEND;TZID=Europe/Stockholm:20301217T210000
DTSTAMP:20260422T154845
CREATED:20260222T195332Z
LAST-MODIFIED:20260222T200426Z
UID:10011334-1923756900-1923771600@nordmalingsrk.se
SUMMARY:Lektioner
DESCRIPTION:
URL:https://nordmalingsrk.se/evenemang/lektioner/2030-12-17/
LOCATION:Ridhuset\, Torsbäcken 14\, Nordmaling\, Västerbotten\, 914 91\, Sverige
CATEGORIES:Interna bokningar,Ridskola
END:VEVENT
BEGIN:VEVENT
DTSTART;TZID=Europe/Stockholm:20301218T130000
DTEND;TZID=Europe/Stockholm:20301218T140000
DTSTAMP:20260422T154845
CREATED:20260302T072223Z
LAST-MODIFIED:20260302T072227Z
UID:10012124-1923829200-1923832800@nordmalingsrk.se
SUMMARY:Underlagsskötsel
DESCRIPTION:Vattning och harvning av ridhus.
URL:https://nordmalingsrk.se/evenemang/underlagsskotsel-3/2030-12-18/
END:VEVENT
BEGIN:VEVENT
DTSTART;TZID=Europe/Stockholm:20301218T171000
DTEND;TZID=Europe/Stockholm:20301218T211500
DTSTAMP:20260422T154845
CREATED:20260222T195332Z
LAST-MODIFIED:20260222T200426Z
UID:10011069-1923844200-1923858900@nordmalingsrk.se
SUMMARY:Lektioner
DESCRIPTION:
URL:https://nordmalingsrk.se/evenemang/lektioner-2/2030-12-18/
LOCATION:Ridhuset\, Torsbäcken 14\, Nordmaling\, Västerbotten\, 914 91\, Sverige
CATEGORIES:Interna bokningar,Ridskola
END:VEVENT
BEGIN:VEVENT
DTSTART;TZID=Europe/Stockholm:20301219T173000
DTEND;TZID=Europe/Stockholm:20301219T204500
DTSTAMP:20260422T154845
CREATED:20260222T195332Z
LAST-MODIFIED:20260222T200425Z
UID:10010804-1923931800-1923943500@nordmalingsrk.se
SUMMARY:Lektioner
DESCRIPTION:
URL:https://nordmalingsrk.se/evenemang/lektioner-3/2030-12-19/
CATEGORIES:Interna bokningar,Ridskola
END:VEVENT
BEGIN:VEVENT
DTSTART;TZID=Europe/Stockholm:20301223T100000
DTEND;TZID=Europe/Stockholm:20301223T110000
DTSTAMP:20260422T154845
CREATED:20260302T072033Z
LAST-MODIFIED:20260302T072037Z
UID:10011864-1924250400-1924254000@nordmalingsrk.se
SUMMARY:Underlagsskötsel
DESCRIPTION:Harvning av ridhus
URL:https://nordmalingsrk.se/evenemang/underlagsskotsel-2/2030-12-23/
END:VEVENT
BEGIN:VEVENT
DTSTART;TZID=Europe/Stockholm:20301223T173000
DTEND;TZID=Europe/Stockholm:20301223T200000
DTSTAMP:20260422T154845
CREATED:20260222T195332Z
LAST-MODIFIED:20260222T200427Z
UID:10011600-1924277400-1924286400@nordmalingsrk.se
SUMMARY:Lektioner
DESCRIPTION:
URL:https://nordmalingsrk.se/evenemang/lektioner-4/2030-12-23/
LOCATION:Ridhuset\, Torsbäcken 14\, Nordmaling\, Västerbotten\, 914 91\, Sverige
CATEGORIES:Interna bokningar,Ridskola
END:VEVENT
BEGIN:VEVENT
DTSTART;TZID=Europe/Stockholm:20301224T165500
DTEND;TZID=Europe/Stockholm:20301224T210000
DTSTAMP:20260422T154845
CREATED:20260222T195332Z
LAST-MODIFIED:20260222T200426Z
UID:10011335-1924361700-1924376400@nordmalingsrk.se
SUMMARY:Lektioner
DESCRIPTION:
URL:https://nordmalingsrk.se/evenemang/lektioner/2030-12-24/
LOCATION:Ridhuset\, Torsbäcken 14\, Nordmaling\, Västerbotten\, 914 91\, Sverige
CATEGORIES:Interna bokningar,Ridskola
END:VEVENT
BEGIN:VEVENT
DTSTART;TZID=Europe/Stockholm:20301225T130000
DTEND;TZID=Europe/Stockholm:20301225T140000
DTSTAMP:20260422T154845
CREATED:20260302T072223Z
LAST-MODIFIED:20260302T072227Z
UID:10012125-1924434000-1924437600@nordmalingsrk.se
SUMMARY:Underlagsskötsel
DESCRIPTION:Vattning och harvning av ridhus.
URL:https://nordmalingsrk.se/evenemang/underlagsskotsel-3/2030-12-25/
END:VEVENT
BEGIN:VEVENT
DTSTART;TZID=Europe/Stockholm:20301225T171000
DTEND;TZID=Europe/Stockholm:20301225T211500
DTSTAMP:20260422T154845
CREATED:20260222T195332Z
LAST-MODIFIED:20260222T200426Z
UID:10011070-1924449000-1924463700@nordmalingsrk.se
SUMMARY:Lektioner
DESCRIPTION:
URL:https://nordmalingsrk.se/evenemang/lektioner-2/2030-12-25/
LOCATION:Ridhuset\, Torsbäcken 14\, Nordmaling\, Västerbotten\, 914 91\, Sverige
CATEGORIES:Interna bokningar,Ridskola
END:VEVENT
BEGIN:VEVENT
DTSTART;TZID=Europe/Stockholm:20301226T173000
DTEND;TZID=Europe/Stockholm:20301226T204500
DTSTAMP:20260422T154845
CREATED:20260222T195332Z
LAST-MODIFIED:20260222T200425Z
UID:10010805-1924536600-1924548300@nordmalingsrk.se
SUMMARY:Lektioner
DESCRIPTION:
URL:https://nordmalingsrk.se/evenemang/lektioner-3/2030-12-26/
CATEGORIES:Interna bokningar,Ridskola
END:VEVENT
BEGIN:VEVENT
DTSTART;TZID=Europe/Stockholm:20301230T100000
DTEND;TZID=Europe/Stockholm:20301230T110000
DTSTAMP:20260422T154845
CREATED:20260302T072033Z
LAST-MODIFIED:20260302T072037Z
UID:10011865-1924855200-1924858800@nordmalingsrk.se
SUMMARY:Underlagsskötsel
DESCRIPTION:Harvning av ridhus
URL:https://nordmalingsrk.se/evenemang/underlagsskotsel-2/2030-12-30/
END:VEVENT
BEGIN:VEVENT
DTSTART;TZID=Europe/Stockholm:20301230T173000
DTEND;TZID=Europe/Stockholm:20301230T200000
DTSTAMP:20260422T154845
CREATED:20260222T195332Z
LAST-MODIFIED:20260222T200427Z
UID:10011601-1924882200-1924891200@nordmalingsrk.se
SUMMARY:Lektioner
DESCRIPTION:
URL:https://nordmalingsrk.se/evenemang/lektioner-4/2030-12-30/
LOCATION:Ridhuset\, Torsbäcken 14\, Nordmaling\, Västerbotten\, 914 91\, Sverige
CATEGORIES:Interna bokningar,Ridskola
END:VEVENT
BEGIN:VEVENT
DTSTART;TZID=Europe/Stockholm:20301231T165500
DTEND;TZID=Europe/Stockholm:20301231T210000
DTSTAMP:20260422T154845
CREATED:20260222T195332Z
LAST-MODIFIED:20260222T200426Z
UID:10011336-1924966500-1924981200@nordmalingsrk.se
SUMMARY:Lektioner
DESCRIPTION:
URL:https://nordmalingsrk.se/evenemang/lektioner/2030-12-31/
LOCATION:Ridhuset\, Torsbäcken 14\, Nordmaling\, Västerbotten\, 914 91\, Sverige
CATEGORIES:Interna bokningar,Ridskola
END:VEVENT
BEGIN:VEVENT
DTSTART;TZID=Europe/Stockholm:20310101T130000
DTEND;TZID=Europe/Stockholm:20310101T140000
DTSTAMP:20260422T154845
CREATED:20260302T072223Z
LAST-MODIFIED:20260302T072227Z
UID:10012126-1925038800-1925042400@nordmalingsrk.se
SUMMARY:Underlagsskötsel
DESCRIPTION:Vattning och harvning av ridhus.
URL:https://nordmalingsrk.se/evenemang/underlagsskotsel-3/2031-01-01/
END:VEVENT
BEGIN:VEVENT
DTSTART;TZID=Europe/Stockholm:20310101T171000
DTEND;TZID=Europe/Stockholm:20310101T211500
DTSTAMP:20260422T154845
CREATED:20260222T195332Z
LAST-MODIFIED:20260222T200426Z
UID:10011071-1925053800-1925068500@nordmalingsrk.se
SUMMARY:Lektioner
DESCRIPTION:
URL:https://nordmalingsrk.se/evenemang/lektioner-2/2031-01-01/
LOCATION:Ridhuset\, Torsbäcken 14\, Nordmaling\, Västerbotten\, 914 91\, Sverige
CATEGORIES:Interna bokningar,Ridskola
END:VEVENT
BEGIN:VEVENT
DTSTART;TZID=Europe/Stockholm:20310102T173000
DTEND;TZID=Europe/Stockholm:20310102T204500
DTSTAMP:20260422T154845
CREATED:20260222T195332Z
LAST-MODIFIED:20260222T200425Z
UID:10010806-1925141400-1925153100@nordmalingsrk.se
SUMMARY:Lektioner
DESCRIPTION:
URL:https://nordmalingsrk.se/evenemang/lektioner-3/2031-01-02/
CATEGORIES:Interna bokningar,Ridskola
END:VEVENT
BEGIN:VEVENT
DTSTART;TZID=Europe/Stockholm:20310106T100000
DTEND;TZID=Europe/Stockholm:20310106T110000
DTSTAMP:20260422T154845
CREATED:20260302T072033Z
LAST-MODIFIED:20260302T072037Z
UID:10011866-1925460000-1925463600@nordmalingsrk.se
SUMMARY:Underlagsskötsel
DESCRIPTION:Harvning av ridhus
URL:https://nordmalingsrk.se/evenemang/underlagsskotsel-2/2031-01-06/
END:VEVENT
BEGIN:VEVENT
DTSTART;TZID=Europe/Stockholm:20310106T173000
DTEND;TZID=Europe/Stockholm:20310106T200000
DTSTAMP:20260422T154845
CREATED:20260222T195332Z
LAST-MODIFIED:20260222T200427Z
UID:10011602-1925487000-1925496000@nordmalingsrk.se
SUMMARY:Lektioner
DESCRIPTION:
URL:https://nordmalingsrk.se/evenemang/lektioner-4/2031-01-06/
LOCATION:Ridhuset\, Torsbäcken 14\, Nordmaling\, Västerbotten\, 914 91\, Sverige
CATEGORIES:Interna bokningar,Ridskola
END:VEVENT
BEGIN:VEVENT
DTSTART;TZID=Europe/Stockholm:20310107T165500
DTEND;TZID=Europe/Stockholm:20310107T210000
DTSTAMP:20260422T154845
CREATED:20260222T195332Z
LAST-MODIFIED:20260222T200426Z
UID:10011337-1925571300-1925586000@nordmalingsrk.se
SUMMARY:Lektioner
DESCRIPTION:
URL:https://nordmalingsrk.se/evenemang/lektioner/2031-01-07/
LOCATION:Ridhuset\, Torsbäcken 14\, Nordmaling\, Västerbotten\, 914 91\, Sverige
CATEGORIES:Interna bokningar,Ridskola
END:VEVENT
BEGIN:VEVENT
DTSTART;TZID=Europe/Stockholm:20310108T130000
DTEND;TZID=Europe/Stockholm:20310108T140000
DTSTAMP:20260422T154845
CREATED:20260302T072223Z
LAST-MODIFIED:20260302T072227Z
UID:10012127-1925643600-1925647200@nordmalingsrk.se
SUMMARY:Underlagsskötsel
DESCRIPTION:Vattning och harvning av ridhus.
URL:https://nordmalingsrk.se/evenemang/underlagsskotsel-3/2031-01-08/
END:VEVENT
BEGIN:VEVENT
DTSTART;TZID=Europe/Stockholm:20310108T171000
DTEND;TZID=Europe/Stockholm:20310108T211500
DTSTAMP:20260422T154845
CREATED:20260222T195332Z
LAST-MODIFIED:20260222T200426Z
UID:10011072-1925658600-1925673300@nordmalingsrk.se
SUMMARY:Lektioner
DESCRIPTION:
URL:https://nordmalingsrk.se/evenemang/lektioner-2/2031-01-08/
LOCATION:Ridhuset\, Torsbäcken 14\, Nordmaling\, Västerbotten\, 914 91\, Sverige
CATEGORIES:Interna bokningar,Ridskola
END:VEVENT
BEGIN:VEVENT
DTSTART;TZID=Europe/Stockholm:20310109T173000
DTEND;TZID=Europe/Stockholm:20310109T204500
DTSTAMP:20260422T154845
CREATED:20260222T195332Z
LAST-MODIFIED:20260222T200425Z
UID:10010807-1925746200-1925757900@nordmalingsrk.se
SUMMARY:Lektioner
DESCRIPTION:
URL:https://nordmalingsrk.se/evenemang/lektioner-3/2031-01-09/
CATEGORIES:Interna bokningar,Ridskola
END:VEVENT
BEGIN:VEVENT
DTSTART;TZID=Europe/Stockholm:20310113T100000
DTEND;TZID=Europe/Stockholm:20310113T110000
DTSTAMP:20260422T154845
CREATED:20260302T072033Z
LAST-MODIFIED:20260302T072037Z
UID:10011867-1926064800-1926068400@nordmalingsrk.se
SUMMARY:Underlagsskötsel
DESCRIPTION:Harvning av ridhus
URL:https://nordmalingsrk.se/evenemang/underlagsskotsel-2/2031-01-13/
END:VEVENT
BEGIN:VEVENT
DTSTART;TZID=Europe/Stockholm:20310113T173000
DTEND;TZID=Europe/Stockholm:20310113T200000
DTSTAMP:20260422T154845
CREATED:20260222T195332Z
LAST-MODIFIED:20260222T200427Z
UID:10011603-1926091800-1926100800@nordmalingsrk.se
SUMMARY:Lektioner
DESCRIPTION:
URL:https://nordmalingsrk.se/evenemang/lektioner-4/2031-01-13/
LOCATION:Ridhuset\, Torsbäcken 14\, Nordmaling\, Västerbotten\, 914 91\, Sverige
CATEGORIES:Interna bokningar,Ridskola
END:VEVENT
BEGIN:VEVENT
DTSTART;TZID=Europe/Stockholm:20310114T165500
DTEND;TZID=Europe/Stockholm:20310114T210000
DTSTAMP:20260422T154845
CREATED:20260222T195332Z
LAST-MODIFIED:20260222T200426Z
UID:10011338-1926176100-1926190800@nordmalingsrk.se
SUMMARY:Lektioner
DESCRIPTION:
URL:https://nordmalingsrk.se/evenemang/lektioner/2031-01-14/
LOCATION:Ridhuset\, Torsbäcken 14\, Nordmaling\, Västerbotten\, 914 91\, Sverige
CATEGORIES:Interna bokningar,Ridskola
END:VEVENT
BEGIN:VEVENT
DTSTART;TZID=Europe/Stockholm:20310115T130000
DTEND;TZID=Europe/Stockholm:20310115T140000
DTSTAMP:20260422T154845
CREATED:20260302T072223Z
LAST-MODIFIED:20260302T072227Z
UID:10012128-1926248400-1926252000@nordmalingsrk.se
SUMMARY:Underlagsskötsel
DESCRIPTION:Vattning och harvning av ridhus.
URL:https://nordmalingsrk.se/evenemang/underlagsskotsel-3/2031-01-15/
END:VEVENT
BEGIN:VEVENT
DTSTART;TZID=Europe/Stockholm:20310115T171000
DTEND;TZID=Europe/Stockholm:20310115T211500
DTSTAMP:20260422T154845
CREATED:20260222T195332Z
LAST-MODIFIED:20260222T200426Z
UID:10011073-1926263400-1926278100@nordmalingsrk.se
SUMMARY:Lektioner
DESCRIPTION:
URL:https://nordmalingsrk.se/evenemang/lektioner-2/2031-01-15/
LOCATION:Ridhuset\, Torsbäcken 14\, Nordmaling\, Västerbotten\, 914 91\, Sverige
CATEGORIES:Interna bokningar,Ridskola
END:VEVENT
END:VCALENDAR