BEGIN:VCALENDAR
VERSION:2.0
PRODID:-//Nordmalings Ridklubb - ECPv6.15.13//NONSGML v1.0//EN
CALSCALE:GREGORIAN
METHOD:PUBLISH
X-WR-CALNAME:Nordmalings Ridklubb
X-ORIGINAL-URL:https://nordmalingsrk.se
X-WR-CALDESC:Händelser för Nordmalings Ridklubb
REFRESH-INTERVAL;VALUE=DURATION:PT1H
X-Robots-Tag:noindex
X-PUBLISHED-TTL:PT1H
BEGIN:VTIMEZONE
TZID:Europe/Stockholm
BEGIN:DAYLIGHT
TZOFFSETFROM:+0100
TZOFFSETTO:+0200
TZNAME:CEST
DTSTART:20300331T010000
END:DAYLIGHT
BEGIN:STANDARD
TZOFFSETFROM:+0200
TZOFFSETTO:+0100
TZNAME:CET
DTSTART:20301027T010000
END:STANDARD
BEGIN:DAYLIGHT
TZOFFSETFROM:+0100
TZOFFSETTO:+0200
TZNAME:CEST
DTSTART:20310330T010000
END:DAYLIGHT
BEGIN:STANDARD
TZOFFSETFROM:+0200
TZOFFSETTO:+0100
TZNAME:CET
DTSTART:20311026T010000
END:STANDARD
BEGIN:DAYLIGHT
TZOFFSETFROM:+0100
TZOFFSETTO:+0200
TZNAME:CEST
DTSTART:20320328T010000
END:DAYLIGHT
BEGIN:STANDARD
TZOFFSETFROM:+0200
TZOFFSETTO:+0100
TZNAME:CET
DTSTART:20321031T010000
END:STANDARD
END:VTIMEZONE
BEGIN:VEVENT
DTSTART;TZID=Europe/Stockholm:20310224T100000
DTEND;TZID=Europe/Stockholm:20310224T110000
DTSTAMP:20260422T220238
CREATED:20260302T072033Z
LAST-MODIFIED:20260302T072037Z
UID:10011873-1929693600-1929697200@nordmalingsrk.se
SUMMARY:Underlagsskötsel
DESCRIPTION:Harvning av ridhus
URL:https://nordmalingsrk.se/evenemang/underlagsskotsel-2/2031-02-24/
END:VEVENT
BEGIN:VEVENT
DTSTART;TZID=Europe/Stockholm:20310226T130000
DTEND;TZID=Europe/Stockholm:20310226T140000
DTSTAMP:20260422T220238
CREATED:20260302T072223Z
LAST-MODIFIED:20260302T072227Z
UID:10012134-1929877200-1929880800@nordmalingsrk.se
SUMMARY:Underlagsskötsel
DESCRIPTION:Vattning och harvning av ridhus.
URL:https://nordmalingsrk.se/evenemang/underlagsskotsel-3/2031-02-26/
END:VEVENT
END:VCALENDAR