BEGIN:VCALENDAR
VERSION:2.0
PRODID:-//Nordmalings Ridklubb - ECPv6.15.13//NONSGML v1.0//EN
CALSCALE:GREGORIAN
METHOD:PUBLISH
X-ORIGINAL-URL:https://nordmalingsrk.se
X-WR-CALDESC:Händelser för Nordmalings Ridklubb
REFRESH-INTERVAL;VALUE=DURATION:PT1H
X-Robots-Tag:noindex
X-PUBLISHED-TTL:PT1H
BEGIN:VTIMEZONE
TZID:Europe/Stockholm
BEGIN:DAYLIGHT
TZOFFSETFROM:+0100
TZOFFSETTO:+0200
TZNAME:CEST
DTSTART:20280326T010000
END:DAYLIGHT
BEGIN:STANDARD
TZOFFSETFROM:+0200
TZOFFSETTO:+0100
TZNAME:CET
DTSTART:20281029T010000
END:STANDARD
BEGIN:DAYLIGHT
TZOFFSETFROM:+0100
TZOFFSETTO:+0200
TZNAME:CEST
DTSTART:20290325T010000
END:DAYLIGHT
BEGIN:STANDARD
TZOFFSETFROM:+0200
TZOFFSETTO:+0100
TZNAME:CET
DTSTART:20291028T010000
END:STANDARD
BEGIN:DAYLIGHT
TZOFFSETFROM:+0100
TZOFFSETTO:+0200
TZNAME:CEST
DTSTART:20300331T010000
END:DAYLIGHT
BEGIN:STANDARD
TZOFFSETFROM:+0200
TZOFFSETTO:+0100
TZNAME:CET
DTSTART:20301027T010000
END:STANDARD
END:VTIMEZONE
BEGIN:VEVENT
DTSTART;TZID=Europe/Stockholm:20291113T165500
DTEND;TZID=Europe/Stockholm:20291113T210000
DTSTAMP:20260421T175659
CREATED:20260222T195332Z
LAST-MODIFIED:20260222T200426Z
UID:10011277-1889283300-1889298000@nordmalingsrk.se
SUMMARY:Lektioner
DESCRIPTION:
URL:https://nordmalingsrk.se/evenemang/lektioner/2029-11-13/
LOCATION:Ridhuset\, Torsbäcken 14\, Nordmaling\, Västerbotten\, 914 91\, Sverige
CATEGORIES:Interna bokningar,Ridskola
END:VEVENT
BEGIN:VEVENT
DTSTART;TZID=Europe/Stockholm:20291114T130000
DTEND;TZID=Europe/Stockholm:20291114T140000
DTSTAMP:20260421T175659
CREATED:20260302T072223Z
LAST-MODIFIED:20260302T072227Z
UID:10012067-1889355600-1889359200@nordmalingsrk.se
SUMMARY:Underlagsskötsel
DESCRIPTION:Vattning och harvning av ridhus.
URL:https://nordmalingsrk.se/evenemang/underlagsskotsel-3/2029-11-14/
END:VEVENT
BEGIN:VEVENT
DTSTART;TZID=Europe/Stockholm:20291114T171000
DTEND;TZID=Europe/Stockholm:20291114T211500
DTSTAMP:20260421T175659
CREATED:20260222T195332Z
LAST-MODIFIED:20260222T200426Z
UID:10011012-1889370600-1889385300@nordmalingsrk.se
SUMMARY:Lektioner
DESCRIPTION:
URL:https://nordmalingsrk.se/evenemang/lektioner-2/2029-11-14/
LOCATION:Ridhuset\, Torsbäcken 14\, Nordmaling\, Västerbotten\, 914 91\, Sverige
CATEGORIES:Interna bokningar,Ridskola
END:VEVENT
BEGIN:VEVENT
DTSTART;TZID=Europe/Stockholm:20291115T173000
DTEND;TZID=Europe/Stockholm:20291115T204500
DTSTAMP:20260421T175659
CREATED:20260222T195332Z
LAST-MODIFIED:20260222T200425Z
UID:10010747-1889458200-1889469900@nordmalingsrk.se
SUMMARY:Lektioner
DESCRIPTION:
URL:https://nordmalingsrk.se/evenemang/lektioner-3/2029-11-15/
CATEGORIES:Interna bokningar,Ridskola
END:VEVENT
BEGIN:VEVENT
DTSTART;TZID=Europe/Stockholm:20291119T100000
DTEND;TZID=Europe/Stockholm:20291119T110000
DTSTAMP:20260421T175659
CREATED:20260302T072033Z
LAST-MODIFIED:20260302T072037Z
UID:10011807-1889776800-1889780400@nordmalingsrk.se
SUMMARY:Underlagsskötsel
DESCRIPTION:Harvning av ridhus
URL:https://nordmalingsrk.se/evenemang/underlagsskotsel-2/2029-11-19/
END:VEVENT
BEGIN:VEVENT
DTSTART;TZID=Europe/Stockholm:20291119T173000
DTEND;TZID=Europe/Stockholm:20291119T200000
DTSTAMP:20260421T175659
CREATED:20260222T195332Z
LAST-MODIFIED:20260222T200427Z
UID:10011543-1889803800-1889812800@nordmalingsrk.se
SUMMARY:Lektioner
DESCRIPTION:
URL:https://nordmalingsrk.se/evenemang/lektioner-4/2029-11-19/
LOCATION:Ridhuset\, Torsbäcken 14\, Nordmaling\, Västerbotten\, 914 91\, Sverige
CATEGORIES:Interna bokningar,Ridskola
END:VEVENT
BEGIN:VEVENT
DTSTART;TZID=Europe/Stockholm:20291120T165500
DTEND;TZID=Europe/Stockholm:20291120T210000
DTSTAMP:20260421T175659
CREATED:20260222T195332Z
LAST-MODIFIED:20260222T200426Z
UID:10011278-1889888100-1889902800@nordmalingsrk.se
SUMMARY:Lektioner
DESCRIPTION:
URL:https://nordmalingsrk.se/evenemang/lektioner/2029-11-20/
LOCATION:Ridhuset\, Torsbäcken 14\, Nordmaling\, Västerbotten\, 914 91\, Sverige
CATEGORIES:Interna bokningar,Ridskola
END:VEVENT
BEGIN:VEVENT
DTSTART;TZID=Europe/Stockholm:20291121T130000
DTEND;TZID=Europe/Stockholm:20291121T140000
DTSTAMP:20260421T175659
CREATED:20260302T072223Z
LAST-MODIFIED:20260302T072227Z
UID:10012068-1889960400-1889964000@nordmalingsrk.se
SUMMARY:Underlagsskötsel
DESCRIPTION:Vattning och harvning av ridhus.
URL:https://nordmalingsrk.se/evenemang/underlagsskotsel-3/2029-11-21/
END:VEVENT
BEGIN:VEVENT
DTSTART;TZID=Europe/Stockholm:20291121T171000
DTEND;TZID=Europe/Stockholm:20291121T211500
DTSTAMP:20260421T175659
CREATED:20260222T195332Z
LAST-MODIFIED:20260222T200426Z
UID:10011013-1889975400-1889990100@nordmalingsrk.se
SUMMARY:Lektioner
DESCRIPTION:
URL:https://nordmalingsrk.se/evenemang/lektioner-2/2029-11-21/
LOCATION:Ridhuset\, Torsbäcken 14\, Nordmaling\, Västerbotten\, 914 91\, Sverige
CATEGORIES:Interna bokningar,Ridskola
END:VEVENT
BEGIN:VEVENT
DTSTART;TZID=Europe/Stockholm:20291122T173000
DTEND;TZID=Europe/Stockholm:20291122T204500
DTSTAMP:20260421T175659
CREATED:20260222T195332Z
LAST-MODIFIED:20260222T200425Z
UID:10010748-1890063000-1890074700@nordmalingsrk.se
SUMMARY:Lektioner
DESCRIPTION:
URL:https://nordmalingsrk.se/evenemang/lektioner-3/2029-11-22/
CATEGORIES:Interna bokningar,Ridskola
END:VEVENT
BEGIN:VEVENT
DTSTART;TZID=Europe/Stockholm:20291126T100000
DTEND;TZID=Europe/Stockholm:20291126T110000
DTSTAMP:20260421T175659
CREATED:20260302T072033Z
LAST-MODIFIED:20260302T072037Z
UID:10011808-1890381600-1890385200@nordmalingsrk.se
SUMMARY:Underlagsskötsel
DESCRIPTION:Harvning av ridhus
URL:https://nordmalingsrk.se/evenemang/underlagsskotsel-2/2029-11-26/
END:VEVENT
BEGIN:VEVENT
DTSTART;TZID=Europe/Stockholm:20291126T173000
DTEND;TZID=Europe/Stockholm:20291126T200000
DTSTAMP:20260421T175659
CREATED:20260222T195332Z
LAST-MODIFIED:20260222T200427Z
UID:10011544-1890408600-1890417600@nordmalingsrk.se
SUMMARY:Lektioner
DESCRIPTION:
URL:https://nordmalingsrk.se/evenemang/lektioner-4/2029-11-26/
LOCATION:Ridhuset\, Torsbäcken 14\, Nordmaling\, Västerbotten\, 914 91\, Sverige
CATEGORIES:Interna bokningar,Ridskola
END:VEVENT
BEGIN:VEVENT
DTSTART;TZID=Europe/Stockholm:20291127T165500
DTEND;TZID=Europe/Stockholm:20291127T210000
DTSTAMP:20260421T175659
CREATED:20260222T195332Z
LAST-MODIFIED:20260222T200426Z
UID:10011279-1890492900-1890507600@nordmalingsrk.se
SUMMARY:Lektioner
DESCRIPTION:
URL:https://nordmalingsrk.se/evenemang/lektioner/2029-11-27/
LOCATION:Ridhuset\, Torsbäcken 14\, Nordmaling\, Västerbotten\, 914 91\, Sverige
CATEGORIES:Interna bokningar,Ridskola
END:VEVENT
BEGIN:VEVENT
DTSTART;TZID=Europe/Stockholm:20291128T130000
DTEND;TZID=Europe/Stockholm:20291128T140000
DTSTAMP:20260421T175659
CREATED:20260302T072223Z
LAST-MODIFIED:20260302T072227Z
UID:10012069-1890565200-1890568800@nordmalingsrk.se
SUMMARY:Underlagsskötsel
DESCRIPTION:Vattning och harvning av ridhus.
URL:https://nordmalingsrk.se/evenemang/underlagsskotsel-3/2029-11-28/
END:VEVENT
BEGIN:VEVENT
DTSTART;TZID=Europe/Stockholm:20291128T171000
DTEND;TZID=Europe/Stockholm:20291128T211500
DTSTAMP:20260421T175659
CREATED:20260222T195332Z
LAST-MODIFIED:20260222T200426Z
UID:10011014-1890580200-1890594900@nordmalingsrk.se
SUMMARY:Lektioner
DESCRIPTION:
URL:https://nordmalingsrk.se/evenemang/lektioner-2/2029-11-28/
LOCATION:Ridhuset\, Torsbäcken 14\, Nordmaling\, Västerbotten\, 914 91\, Sverige
CATEGORIES:Interna bokningar,Ridskola
END:VEVENT
BEGIN:VEVENT
DTSTART;TZID=Europe/Stockholm:20291129T173000
DTEND;TZID=Europe/Stockholm:20291129T204500
DTSTAMP:20260421T175659
CREATED:20260222T195332Z
LAST-MODIFIED:20260222T200425Z
UID:10010749-1890667800-1890679500@nordmalingsrk.se
SUMMARY:Lektioner
DESCRIPTION:
URL:https://nordmalingsrk.se/evenemang/lektioner-3/2029-11-29/
CATEGORIES:Interna bokningar,Ridskola
END:VEVENT
BEGIN:VEVENT
DTSTART;TZID=Europe/Stockholm:20291203T100000
DTEND;TZID=Europe/Stockholm:20291203T110000
DTSTAMP:20260421T175659
CREATED:20260302T072033Z
LAST-MODIFIED:20260302T072037Z
UID:10011809-1890986400-1890990000@nordmalingsrk.se
SUMMARY:Underlagsskötsel
DESCRIPTION:Harvning av ridhus
URL:https://nordmalingsrk.se/evenemang/underlagsskotsel-2/2029-12-03/
END:VEVENT
BEGIN:VEVENT
DTSTART;TZID=Europe/Stockholm:20291203T173000
DTEND;TZID=Europe/Stockholm:20291203T200000
DTSTAMP:20260421T175659
CREATED:20260222T195332Z
LAST-MODIFIED:20260222T200427Z
UID:10011545-1891013400-1891022400@nordmalingsrk.se
SUMMARY:Lektioner
DESCRIPTION:
URL:https://nordmalingsrk.se/evenemang/lektioner-4/2029-12-03/
LOCATION:Ridhuset\, Torsbäcken 14\, Nordmaling\, Västerbotten\, 914 91\, Sverige
CATEGORIES:Interna bokningar,Ridskola
END:VEVENT
BEGIN:VEVENT
DTSTART;TZID=Europe/Stockholm:20291204T165500
DTEND;TZID=Europe/Stockholm:20291204T210000
DTSTAMP:20260421T175659
CREATED:20260222T195332Z
LAST-MODIFIED:20260222T200426Z
UID:10011280-1891097700-1891112400@nordmalingsrk.se
SUMMARY:Lektioner
DESCRIPTION:
URL:https://nordmalingsrk.se/evenemang/lektioner/2029-12-04/
LOCATION:Ridhuset\, Torsbäcken 14\, Nordmaling\, Västerbotten\, 914 91\, Sverige
CATEGORIES:Interna bokningar,Ridskola
END:VEVENT
BEGIN:VEVENT
DTSTART;TZID=Europe/Stockholm:20291205T130000
DTEND;TZID=Europe/Stockholm:20291205T140000
DTSTAMP:20260421T175659
CREATED:20260302T072223Z
LAST-MODIFIED:20260302T072227Z
UID:10012070-1891170000-1891173600@nordmalingsrk.se
SUMMARY:Underlagsskötsel
DESCRIPTION:Vattning och harvning av ridhus.
URL:https://nordmalingsrk.se/evenemang/underlagsskotsel-3/2029-12-05/
END:VEVENT
BEGIN:VEVENT
DTSTART;TZID=Europe/Stockholm:20291205T171000
DTEND;TZID=Europe/Stockholm:20291205T211500
DTSTAMP:20260421T175659
CREATED:20260222T195332Z
LAST-MODIFIED:20260222T200426Z
UID:10011015-1891185000-1891199700@nordmalingsrk.se
SUMMARY:Lektioner
DESCRIPTION:
URL:https://nordmalingsrk.se/evenemang/lektioner-2/2029-12-05/
LOCATION:Ridhuset\, Torsbäcken 14\, Nordmaling\, Västerbotten\, 914 91\, Sverige
CATEGORIES:Interna bokningar,Ridskola
END:VEVENT
BEGIN:VEVENT
DTSTART;TZID=Europe/Stockholm:20291206T173000
DTEND;TZID=Europe/Stockholm:20291206T204500
DTSTAMP:20260421T175659
CREATED:20260222T195332Z
LAST-MODIFIED:20260222T200425Z
UID:10010750-1891272600-1891284300@nordmalingsrk.se
SUMMARY:Lektioner
DESCRIPTION:
URL:https://nordmalingsrk.se/evenemang/lektioner-3/2029-12-06/
CATEGORIES:Interna bokningar,Ridskola
END:VEVENT
BEGIN:VEVENT
DTSTART;TZID=Europe/Stockholm:20291210T100000
DTEND;TZID=Europe/Stockholm:20291210T110000
DTSTAMP:20260421T175659
CREATED:20260302T072033Z
LAST-MODIFIED:20260302T072037Z
UID:10011810-1891591200-1891594800@nordmalingsrk.se
SUMMARY:Underlagsskötsel
DESCRIPTION:Harvning av ridhus
URL:https://nordmalingsrk.se/evenemang/underlagsskotsel-2/2029-12-10/
END:VEVENT
BEGIN:VEVENT
DTSTART;TZID=Europe/Stockholm:20291210T173000
DTEND;TZID=Europe/Stockholm:20291210T200000
DTSTAMP:20260421T175659
CREATED:20260222T195332Z
LAST-MODIFIED:20260222T200427Z
UID:10011546-1891618200-1891627200@nordmalingsrk.se
SUMMARY:Lektioner
DESCRIPTION:
URL:https://nordmalingsrk.se/evenemang/lektioner-4/2029-12-10/
LOCATION:Ridhuset\, Torsbäcken 14\, Nordmaling\, Västerbotten\, 914 91\, Sverige
CATEGORIES:Interna bokningar,Ridskola
END:VEVENT
BEGIN:VEVENT
DTSTART;TZID=Europe/Stockholm:20291211T165500
DTEND;TZID=Europe/Stockholm:20291211T210000
DTSTAMP:20260421T175659
CREATED:20260222T195332Z
LAST-MODIFIED:20260222T200426Z
UID:10011281-1891702500-1891717200@nordmalingsrk.se
SUMMARY:Lektioner
DESCRIPTION:
URL:https://nordmalingsrk.se/evenemang/lektioner/2029-12-11/
LOCATION:Ridhuset\, Torsbäcken 14\, Nordmaling\, Västerbotten\, 914 91\, Sverige
CATEGORIES:Interna bokningar,Ridskola
END:VEVENT
BEGIN:VEVENT
DTSTART;TZID=Europe/Stockholm:20291212T130000
DTEND;TZID=Europe/Stockholm:20291212T140000
DTSTAMP:20260421T175659
CREATED:20260302T072223Z
LAST-MODIFIED:20260302T072227Z
UID:10012071-1891774800-1891778400@nordmalingsrk.se
SUMMARY:Underlagsskötsel
DESCRIPTION:Vattning och harvning av ridhus.
URL:https://nordmalingsrk.se/evenemang/underlagsskotsel-3/2029-12-12/
END:VEVENT
BEGIN:VEVENT
DTSTART;TZID=Europe/Stockholm:20291212T171000
DTEND;TZID=Europe/Stockholm:20291212T211500
DTSTAMP:20260421T175659
CREATED:20260222T195332Z
LAST-MODIFIED:20260222T200426Z
UID:10011016-1891789800-1891804500@nordmalingsrk.se
SUMMARY:Lektioner
DESCRIPTION:
URL:https://nordmalingsrk.se/evenemang/lektioner-2/2029-12-12/
LOCATION:Ridhuset\, Torsbäcken 14\, Nordmaling\, Västerbotten\, 914 91\, Sverige
CATEGORIES:Interna bokningar,Ridskola
END:VEVENT
BEGIN:VEVENT
DTSTART;TZID=Europe/Stockholm:20291213T173000
DTEND;TZID=Europe/Stockholm:20291213T204500
DTSTAMP:20260421T175659
CREATED:20260222T195332Z
LAST-MODIFIED:20260222T200425Z
UID:10010751-1891877400-1891889100@nordmalingsrk.se
SUMMARY:Lektioner
DESCRIPTION:
URL:https://nordmalingsrk.se/evenemang/lektioner-3/2029-12-13/
CATEGORIES:Interna bokningar,Ridskola
END:VEVENT
BEGIN:VEVENT
DTSTART;TZID=Europe/Stockholm:20291217T100000
DTEND;TZID=Europe/Stockholm:20291217T110000
DTSTAMP:20260421T175659
CREATED:20260302T072033Z
LAST-MODIFIED:20260302T072037Z
UID:10011811-1892196000-1892199600@nordmalingsrk.se
SUMMARY:Underlagsskötsel
DESCRIPTION:Harvning av ridhus
URL:https://nordmalingsrk.se/evenemang/underlagsskotsel-2/2029-12-17/
END:VEVENT
BEGIN:VEVENT
DTSTART;TZID=Europe/Stockholm:20291217T173000
DTEND;TZID=Europe/Stockholm:20291217T200000
DTSTAMP:20260421T175659
CREATED:20260222T195332Z
LAST-MODIFIED:20260222T200427Z
UID:10011547-1892223000-1892232000@nordmalingsrk.se
SUMMARY:Lektioner
DESCRIPTION:
URL:https://nordmalingsrk.se/evenemang/lektioner-4/2029-12-17/
LOCATION:Ridhuset\, Torsbäcken 14\, Nordmaling\, Västerbotten\, 914 91\, Sverige
CATEGORIES:Interna bokningar,Ridskola
END:VEVENT
END:VCALENDAR