BEGIN:VCALENDAR
VERSION:2.0
PRODID:-//Nordmalings Ridklubb - ECPv6.15.13//NONSGML v1.0//EN
CALSCALE:GREGORIAN
METHOD:PUBLISH
X-ORIGINAL-URL:https://nordmalingsrk.se
X-WR-CALDESC:Händelser för Nordmalings Ridklubb
REFRESH-INTERVAL;VALUE=DURATION:PT1H
X-Robots-Tag:noindex
X-PUBLISHED-TTL:PT1H
BEGIN:VTIMEZONE
TZID:Europe/Stockholm
BEGIN:DAYLIGHT
TZOFFSETFROM:+0100
TZOFFSETTO:+0200
TZNAME:CEST
DTSTART:20280326T010000
END:DAYLIGHT
BEGIN:STANDARD
TZOFFSETFROM:+0200
TZOFFSETTO:+0100
TZNAME:CET
DTSTART:20281029T010000
END:STANDARD
BEGIN:DAYLIGHT
TZOFFSETFROM:+0100
TZOFFSETTO:+0200
TZNAME:CEST
DTSTART:20290325T010000
END:DAYLIGHT
BEGIN:STANDARD
TZOFFSETFROM:+0200
TZOFFSETTO:+0100
TZNAME:CET
DTSTART:20291028T010000
END:STANDARD
BEGIN:DAYLIGHT
TZOFFSETFROM:+0100
TZOFFSETTO:+0200
TZNAME:CEST
DTSTART:20300331T010000
END:DAYLIGHT
BEGIN:STANDARD
TZOFFSETFROM:+0200
TZOFFSETTO:+0100
TZNAME:CET
DTSTART:20301027T010000
END:STANDARD
BEGIN:DAYLIGHT
TZOFFSETFROM:+0100
TZOFFSETTO:+0200
TZNAME:CEST
DTSTART:20310330T010000
END:DAYLIGHT
BEGIN:STANDARD
TZOFFSETFROM:+0200
TZOFFSETTO:+0100
TZNAME:CET
DTSTART:20311026T010000
END:STANDARD
END:VTIMEZONE
BEGIN:VEVENT
DTSTART;TZID=Europe/Stockholm:20291203T100000
DTEND;TZID=Europe/Stockholm:20291203T110000
DTSTAMP:20260421T203819
CREATED:20260302T072033Z
LAST-MODIFIED:20260302T072037Z
UID:10011809-1890986400-1890990000@nordmalingsrk.se
SUMMARY:Underlagsskötsel
DESCRIPTION:Harvning av ridhus
URL:https://nordmalingsrk.se/evenemang/underlagsskotsel-2/2029-12-03/
END:VEVENT
BEGIN:VEVENT
DTSTART;TZID=Europe/Stockholm:20291203T173000
DTEND;TZID=Europe/Stockholm:20291203T200000
DTSTAMP:20260421T203819
CREATED:20260222T195332Z
LAST-MODIFIED:20260222T200427Z
UID:10011545-1891013400-1891022400@nordmalingsrk.se
SUMMARY:Lektioner
DESCRIPTION:
URL:https://nordmalingsrk.se/evenemang/lektioner-4/2029-12-03/
LOCATION:Ridhuset\, Torsbäcken 14\, Nordmaling\, Västerbotten\, 914 91\, Sverige
CATEGORIES:Interna bokningar,Ridskola
END:VEVENT
BEGIN:VEVENT
DTSTART;TZID=Europe/Stockholm:20291204T165500
DTEND;TZID=Europe/Stockholm:20291204T210000
DTSTAMP:20260421T203819
CREATED:20260222T195332Z
LAST-MODIFIED:20260222T200426Z
UID:10011280-1891097700-1891112400@nordmalingsrk.se
SUMMARY:Lektioner
DESCRIPTION:
URL:https://nordmalingsrk.se/evenemang/lektioner/2029-12-04/
LOCATION:Ridhuset\, Torsbäcken 14\, Nordmaling\, Västerbotten\, 914 91\, Sverige
CATEGORIES:Interna bokningar,Ridskola
END:VEVENT
BEGIN:VEVENT
DTSTART;TZID=Europe/Stockholm:20291205T130000
DTEND;TZID=Europe/Stockholm:20291205T140000
DTSTAMP:20260421T203819
CREATED:20260302T072223Z
LAST-MODIFIED:20260302T072227Z
UID:10012070-1891170000-1891173600@nordmalingsrk.se
SUMMARY:Underlagsskötsel
DESCRIPTION:Vattning och harvning av ridhus.
URL:https://nordmalingsrk.se/evenemang/underlagsskotsel-3/2029-12-05/
END:VEVENT
BEGIN:VEVENT
DTSTART;TZID=Europe/Stockholm:20291205T171000
DTEND;TZID=Europe/Stockholm:20291205T211500
DTSTAMP:20260421T203819
CREATED:20260222T195332Z
LAST-MODIFIED:20260222T200426Z
UID:10011015-1891185000-1891199700@nordmalingsrk.se
SUMMARY:Lektioner
DESCRIPTION:
URL:https://nordmalingsrk.se/evenemang/lektioner-2/2029-12-05/
LOCATION:Ridhuset\, Torsbäcken 14\, Nordmaling\, Västerbotten\, 914 91\, Sverige
CATEGORIES:Interna bokningar,Ridskola
END:VEVENT
BEGIN:VEVENT
DTSTART;TZID=Europe/Stockholm:20291206T173000
DTEND;TZID=Europe/Stockholm:20291206T204500
DTSTAMP:20260421T203819
CREATED:20260222T195332Z
LAST-MODIFIED:20260222T200425Z
UID:10010750-1891272600-1891284300@nordmalingsrk.se
SUMMARY:Lektioner
DESCRIPTION:
URL:https://nordmalingsrk.se/evenemang/lektioner-3/2029-12-06/
CATEGORIES:Interna bokningar,Ridskola
END:VEVENT
BEGIN:VEVENT
DTSTART;TZID=Europe/Stockholm:20291210T100000
DTEND;TZID=Europe/Stockholm:20291210T110000
DTSTAMP:20260421T203819
CREATED:20260302T072033Z
LAST-MODIFIED:20260302T072037Z
UID:10011810-1891591200-1891594800@nordmalingsrk.se
SUMMARY:Underlagsskötsel
DESCRIPTION:Harvning av ridhus
URL:https://nordmalingsrk.se/evenemang/underlagsskotsel-2/2029-12-10/
END:VEVENT
BEGIN:VEVENT
DTSTART;TZID=Europe/Stockholm:20291210T173000
DTEND;TZID=Europe/Stockholm:20291210T200000
DTSTAMP:20260421T203819
CREATED:20260222T195332Z
LAST-MODIFIED:20260222T200427Z
UID:10011546-1891618200-1891627200@nordmalingsrk.se
SUMMARY:Lektioner
DESCRIPTION:
URL:https://nordmalingsrk.se/evenemang/lektioner-4/2029-12-10/
LOCATION:Ridhuset\, Torsbäcken 14\, Nordmaling\, Västerbotten\, 914 91\, Sverige
CATEGORIES:Interna bokningar,Ridskola
END:VEVENT
BEGIN:VEVENT
DTSTART;TZID=Europe/Stockholm:20291211T165500
DTEND;TZID=Europe/Stockholm:20291211T210000
DTSTAMP:20260421T203819
CREATED:20260222T195332Z
LAST-MODIFIED:20260222T200426Z
UID:10011281-1891702500-1891717200@nordmalingsrk.se
SUMMARY:Lektioner
DESCRIPTION:
URL:https://nordmalingsrk.se/evenemang/lektioner/2029-12-11/
LOCATION:Ridhuset\, Torsbäcken 14\, Nordmaling\, Västerbotten\, 914 91\, Sverige
CATEGORIES:Interna bokningar,Ridskola
END:VEVENT
BEGIN:VEVENT
DTSTART;TZID=Europe/Stockholm:20291212T130000
DTEND;TZID=Europe/Stockholm:20291212T140000
DTSTAMP:20260421T203819
CREATED:20260302T072223Z
LAST-MODIFIED:20260302T072227Z
UID:10012071-1891774800-1891778400@nordmalingsrk.se
SUMMARY:Underlagsskötsel
DESCRIPTION:Vattning och harvning av ridhus.
URL:https://nordmalingsrk.se/evenemang/underlagsskotsel-3/2029-12-12/
END:VEVENT
BEGIN:VEVENT
DTSTART;TZID=Europe/Stockholm:20291212T171000
DTEND;TZID=Europe/Stockholm:20291212T211500
DTSTAMP:20260421T203819
CREATED:20260222T195332Z
LAST-MODIFIED:20260222T200426Z
UID:10011016-1891789800-1891804500@nordmalingsrk.se
SUMMARY:Lektioner
DESCRIPTION:
URL:https://nordmalingsrk.se/evenemang/lektioner-2/2029-12-12/
LOCATION:Ridhuset\, Torsbäcken 14\, Nordmaling\, Västerbotten\, 914 91\, Sverige
CATEGORIES:Interna bokningar,Ridskola
END:VEVENT
BEGIN:VEVENT
DTSTART;TZID=Europe/Stockholm:20291213T173000
DTEND;TZID=Europe/Stockholm:20291213T204500
DTSTAMP:20260421T203819
CREATED:20260222T195332Z
LAST-MODIFIED:20260222T200425Z
UID:10010751-1891877400-1891889100@nordmalingsrk.se
SUMMARY:Lektioner
DESCRIPTION:
URL:https://nordmalingsrk.se/evenemang/lektioner-3/2029-12-13/
CATEGORIES:Interna bokningar,Ridskola
END:VEVENT
BEGIN:VEVENT
DTSTART;TZID=Europe/Stockholm:20291217T100000
DTEND;TZID=Europe/Stockholm:20291217T110000
DTSTAMP:20260421T203819
CREATED:20260302T072033Z
LAST-MODIFIED:20260302T072037Z
UID:10011811-1892196000-1892199600@nordmalingsrk.se
SUMMARY:Underlagsskötsel
DESCRIPTION:Harvning av ridhus
URL:https://nordmalingsrk.se/evenemang/underlagsskotsel-2/2029-12-17/
END:VEVENT
BEGIN:VEVENT
DTSTART;TZID=Europe/Stockholm:20291217T173000
DTEND;TZID=Europe/Stockholm:20291217T200000
DTSTAMP:20260421T203819
CREATED:20260222T195332Z
LAST-MODIFIED:20260222T200427Z
UID:10011547-1892223000-1892232000@nordmalingsrk.se
SUMMARY:Lektioner
DESCRIPTION:
URL:https://nordmalingsrk.se/evenemang/lektioner-4/2029-12-17/
LOCATION:Ridhuset\, Torsbäcken 14\, Nordmaling\, Västerbotten\, 914 91\, Sverige
CATEGORIES:Interna bokningar,Ridskola
END:VEVENT
BEGIN:VEVENT
DTSTART;TZID=Europe/Stockholm:20291218T165500
DTEND;TZID=Europe/Stockholm:20291218T210000
DTSTAMP:20260421T203819
CREATED:20260222T195332Z
LAST-MODIFIED:20260222T200426Z
UID:10011282-1892307300-1892322000@nordmalingsrk.se
SUMMARY:Lektioner
DESCRIPTION:
URL:https://nordmalingsrk.se/evenemang/lektioner/2029-12-18/
LOCATION:Ridhuset\, Torsbäcken 14\, Nordmaling\, Västerbotten\, 914 91\, Sverige
CATEGORIES:Interna bokningar,Ridskola
END:VEVENT
BEGIN:VEVENT
DTSTART;TZID=Europe/Stockholm:20291219T130000
DTEND;TZID=Europe/Stockholm:20291219T140000
DTSTAMP:20260421T203819
CREATED:20260302T072223Z
LAST-MODIFIED:20260302T072227Z
UID:10012072-1892379600-1892383200@nordmalingsrk.se
SUMMARY:Underlagsskötsel
DESCRIPTION:Vattning och harvning av ridhus.
URL:https://nordmalingsrk.se/evenemang/underlagsskotsel-3/2029-12-19/
END:VEVENT
BEGIN:VEVENT
DTSTART;TZID=Europe/Stockholm:20291219T171000
DTEND;TZID=Europe/Stockholm:20291219T211500
DTSTAMP:20260421T203819
CREATED:20260222T195332Z
LAST-MODIFIED:20260222T200426Z
UID:10011017-1892394600-1892409300@nordmalingsrk.se
SUMMARY:Lektioner
DESCRIPTION:
URL:https://nordmalingsrk.se/evenemang/lektioner-2/2029-12-19/
LOCATION:Ridhuset\, Torsbäcken 14\, Nordmaling\, Västerbotten\, 914 91\, Sverige
CATEGORIES:Interna bokningar,Ridskola
END:VEVENT
BEGIN:VEVENT
DTSTART;TZID=Europe/Stockholm:20291220T173000
DTEND;TZID=Europe/Stockholm:20291220T204500
DTSTAMP:20260421T203819
CREATED:20260222T195332Z
LAST-MODIFIED:20260222T200425Z
UID:10010752-1892482200-1892493900@nordmalingsrk.se
SUMMARY:Lektioner
DESCRIPTION:
URL:https://nordmalingsrk.se/evenemang/lektioner-3/2029-12-20/
CATEGORIES:Interna bokningar,Ridskola
END:VEVENT
BEGIN:VEVENT
DTSTART;TZID=Europe/Stockholm:20291224T100000
DTEND;TZID=Europe/Stockholm:20291224T110000
DTSTAMP:20260421T203819
CREATED:20260302T072033Z
LAST-MODIFIED:20260302T072037Z
UID:10011812-1892800800-1892804400@nordmalingsrk.se
SUMMARY:Underlagsskötsel
DESCRIPTION:Harvning av ridhus
URL:https://nordmalingsrk.se/evenemang/underlagsskotsel-2/2029-12-24/
END:VEVENT
BEGIN:VEVENT
DTSTART;TZID=Europe/Stockholm:20291224T173000
DTEND;TZID=Europe/Stockholm:20291224T200000
DTSTAMP:20260421T203819
CREATED:20260222T195332Z
LAST-MODIFIED:20260222T200427Z
UID:10011548-1892827800-1892836800@nordmalingsrk.se
SUMMARY:Lektioner
DESCRIPTION:
URL:https://nordmalingsrk.se/evenemang/lektioner-4/2029-12-24/
LOCATION:Ridhuset\, Torsbäcken 14\, Nordmaling\, Västerbotten\, 914 91\, Sverige
CATEGORIES:Interna bokningar,Ridskola
END:VEVENT
BEGIN:VEVENT
DTSTART;TZID=Europe/Stockholm:20291225T165500
DTEND;TZID=Europe/Stockholm:20291225T210000
DTSTAMP:20260421T203819
CREATED:20260222T195332Z
LAST-MODIFIED:20260222T200426Z
UID:10011283-1892912100-1892926800@nordmalingsrk.se
SUMMARY:Lektioner
DESCRIPTION:
URL:https://nordmalingsrk.se/evenemang/lektioner/2029-12-25/
LOCATION:Ridhuset\, Torsbäcken 14\, Nordmaling\, Västerbotten\, 914 91\, Sverige
CATEGORIES:Interna bokningar,Ridskola
END:VEVENT
BEGIN:VEVENT
DTSTART;TZID=Europe/Stockholm:20291226T130000
DTEND;TZID=Europe/Stockholm:20291226T140000
DTSTAMP:20260421T203819
CREATED:20260302T072223Z
LAST-MODIFIED:20260302T072227Z
UID:10012073-1892984400-1892988000@nordmalingsrk.se
SUMMARY:Underlagsskötsel
DESCRIPTION:Vattning och harvning av ridhus.
URL:https://nordmalingsrk.se/evenemang/underlagsskotsel-3/2029-12-26/
END:VEVENT
BEGIN:VEVENT
DTSTART;TZID=Europe/Stockholm:20291226T171000
DTEND;TZID=Europe/Stockholm:20291226T211500
DTSTAMP:20260421T203819
CREATED:20260222T195332Z
LAST-MODIFIED:20260222T200426Z
UID:10011018-1892999400-1893014100@nordmalingsrk.se
SUMMARY:Lektioner
DESCRIPTION:
URL:https://nordmalingsrk.se/evenemang/lektioner-2/2029-12-26/
LOCATION:Ridhuset\, Torsbäcken 14\, Nordmaling\, Västerbotten\, 914 91\, Sverige
CATEGORIES:Interna bokningar,Ridskola
END:VEVENT
BEGIN:VEVENT
DTSTART;TZID=Europe/Stockholm:20291227T173000
DTEND;TZID=Europe/Stockholm:20291227T204500
DTSTAMP:20260421T203819
CREATED:20260222T195332Z
LAST-MODIFIED:20260222T200425Z
UID:10010753-1893087000-1893098700@nordmalingsrk.se
SUMMARY:Lektioner
DESCRIPTION:
URL:https://nordmalingsrk.se/evenemang/lektioner-3/2029-12-27/
CATEGORIES:Interna bokningar,Ridskola
END:VEVENT
BEGIN:VEVENT
DTSTART;TZID=Europe/Stockholm:20291231T100000
DTEND;TZID=Europe/Stockholm:20291231T110000
DTSTAMP:20260421T203819
CREATED:20260302T072033Z
LAST-MODIFIED:20260302T072037Z
UID:10011813-1893405600-1893409200@nordmalingsrk.se
SUMMARY:Underlagsskötsel
DESCRIPTION:Harvning av ridhus
URL:https://nordmalingsrk.se/evenemang/underlagsskotsel-2/2029-12-31/
END:VEVENT
BEGIN:VEVENT
DTSTART;TZID=Europe/Stockholm:20291231T173000
DTEND;TZID=Europe/Stockholm:20291231T200000
DTSTAMP:20260421T203819
CREATED:20260222T195332Z
LAST-MODIFIED:20260222T200427Z
UID:10011549-1893432600-1893441600@nordmalingsrk.se
SUMMARY:Lektioner
DESCRIPTION:
URL:https://nordmalingsrk.se/evenemang/lektioner-4/2029-12-31/
LOCATION:Ridhuset\, Torsbäcken 14\, Nordmaling\, Västerbotten\, 914 91\, Sverige
CATEGORIES:Interna bokningar,Ridskola
END:VEVENT
BEGIN:VEVENT
DTSTART;TZID=Europe/Stockholm:20300101T165500
DTEND;TZID=Europe/Stockholm:20300101T210000
DTSTAMP:20260421T203819
CREATED:20260222T195332Z
LAST-MODIFIED:20260222T200426Z
UID:10011284-1893516900-1893531600@nordmalingsrk.se
SUMMARY:Lektioner
DESCRIPTION:
URL:https://nordmalingsrk.se/evenemang/lektioner/2030-01-01/
LOCATION:Ridhuset\, Torsbäcken 14\, Nordmaling\, Västerbotten\, 914 91\, Sverige
CATEGORIES:Interna bokningar,Ridskola
END:VEVENT
BEGIN:VEVENT
DTSTART;TZID=Europe/Stockholm:20300102T130000
DTEND;TZID=Europe/Stockholm:20300102T140000
DTSTAMP:20260421T203819
CREATED:20260302T072223Z
LAST-MODIFIED:20260302T072227Z
UID:10012074-1893589200-1893592800@nordmalingsrk.se
SUMMARY:Underlagsskötsel
DESCRIPTION:Vattning och harvning av ridhus.
URL:https://nordmalingsrk.se/evenemang/underlagsskotsel-3/2030-01-02/
END:VEVENT
BEGIN:VEVENT
DTSTART;TZID=Europe/Stockholm:20300102T171000
DTEND;TZID=Europe/Stockholm:20300102T211500
DTSTAMP:20260421T203819
CREATED:20260222T195332Z
LAST-MODIFIED:20260222T200426Z
UID:10011019-1893604200-1893618900@nordmalingsrk.se
SUMMARY:Lektioner
DESCRIPTION:
URL:https://nordmalingsrk.se/evenemang/lektioner-2/2030-01-02/
LOCATION:Ridhuset\, Torsbäcken 14\, Nordmaling\, Västerbotten\, 914 91\, Sverige
CATEGORIES:Interna bokningar,Ridskola
END:VEVENT
BEGIN:VEVENT
DTSTART;TZID=Europe/Stockholm:20300103T173000
DTEND;TZID=Europe/Stockholm:20300103T204500
DTSTAMP:20260421T203819
CREATED:20260222T195332Z
LAST-MODIFIED:20260222T200425Z
UID:10010754-1893691800-1893703500@nordmalingsrk.se
SUMMARY:Lektioner
DESCRIPTION:
URL:https://nordmalingsrk.se/evenemang/lektioner-3/2030-01-03/
CATEGORIES:Interna bokningar,Ridskola
END:VEVENT
END:VCALENDAR