BEGIN:VCALENDAR
VERSION:2.0
PRODID:-//Nordmalings Ridklubb - ECPv6.15.13//NONSGML v1.0//EN
CALSCALE:GREGORIAN
METHOD:PUBLISH
X-ORIGINAL-URL:https://nordmalingsrk.se
X-WR-CALDESC:Händelser för Nordmalings Ridklubb
REFRESH-INTERVAL;VALUE=DURATION:PT1H
X-Robots-Tag:noindex
X-PUBLISHED-TTL:PT1H
BEGIN:VTIMEZONE
TZID:Europe/Stockholm
BEGIN:DAYLIGHT
TZOFFSETFROM:+0100
TZOFFSETTO:+0200
TZNAME:CEST
DTSTART:20280326T010000
END:DAYLIGHT
BEGIN:STANDARD
TZOFFSETFROM:+0200
TZOFFSETTO:+0100
TZNAME:CET
DTSTART:20281029T010000
END:STANDARD
BEGIN:DAYLIGHT
TZOFFSETFROM:+0100
TZOFFSETTO:+0200
TZNAME:CEST
DTSTART:20290325T010000
END:DAYLIGHT
BEGIN:STANDARD
TZOFFSETFROM:+0200
TZOFFSETTO:+0100
TZNAME:CET
DTSTART:20291028T010000
END:STANDARD
BEGIN:DAYLIGHT
TZOFFSETFROM:+0100
TZOFFSETTO:+0200
TZNAME:CEST
DTSTART:20300331T010000
END:DAYLIGHT
BEGIN:STANDARD
TZOFFSETFROM:+0200
TZOFFSETTO:+0100
TZNAME:CET
DTSTART:20301027T010000
END:STANDARD
BEGIN:DAYLIGHT
TZOFFSETFROM:+0100
TZOFFSETTO:+0200
TZNAME:CEST
DTSTART:20310330T010000
END:DAYLIGHT
BEGIN:STANDARD
TZOFFSETFROM:+0200
TZOFFSETTO:+0100
TZNAME:CET
DTSTART:20311026T010000
END:STANDARD
END:VTIMEZONE
BEGIN:VEVENT
DTSTART;TZID=Europe/Stockholm:20291231T100000
DTEND;TZID=Europe/Stockholm:20291231T110000
DTSTAMP:20260421T221210
CREATED:20260302T072033Z
LAST-MODIFIED:20260302T072037Z
UID:10011813-1893405600-1893409200@nordmalingsrk.se
SUMMARY:Underlagsskötsel
DESCRIPTION:Harvning av ridhus
URL:https://nordmalingsrk.se/evenemang/underlagsskotsel-2/2029-12-31/
END:VEVENT
BEGIN:VEVENT
DTSTART;TZID=Europe/Stockholm:20291231T173000
DTEND;TZID=Europe/Stockholm:20291231T200000
DTSTAMP:20260421T221210
CREATED:20260222T195332Z
LAST-MODIFIED:20260222T200427Z
UID:10011549-1893432600-1893441600@nordmalingsrk.se
SUMMARY:Lektioner
DESCRIPTION:
URL:https://nordmalingsrk.se/evenemang/lektioner-4/2029-12-31/
LOCATION:Ridhuset\, Torsbäcken 14\, Nordmaling\, Västerbotten\, 914 91\, Sverige
CATEGORIES:Interna bokningar,Ridskola
END:VEVENT
BEGIN:VEVENT
DTSTART;TZID=Europe/Stockholm:20300101T165500
DTEND;TZID=Europe/Stockholm:20300101T210000
DTSTAMP:20260421T221210
CREATED:20260222T195332Z
LAST-MODIFIED:20260222T200426Z
UID:10011284-1893516900-1893531600@nordmalingsrk.se
SUMMARY:Lektioner
DESCRIPTION:
URL:https://nordmalingsrk.se/evenemang/lektioner/2030-01-01/
LOCATION:Ridhuset\, Torsbäcken 14\, Nordmaling\, Västerbotten\, 914 91\, Sverige
CATEGORIES:Interna bokningar,Ridskola
END:VEVENT
BEGIN:VEVENT
DTSTART;TZID=Europe/Stockholm:20300102T130000
DTEND;TZID=Europe/Stockholm:20300102T140000
DTSTAMP:20260421T221210
CREATED:20260302T072223Z
LAST-MODIFIED:20260302T072227Z
UID:10012074-1893589200-1893592800@nordmalingsrk.se
SUMMARY:Underlagsskötsel
DESCRIPTION:Vattning och harvning av ridhus.
URL:https://nordmalingsrk.se/evenemang/underlagsskotsel-3/2030-01-02/
END:VEVENT
BEGIN:VEVENT
DTSTART;TZID=Europe/Stockholm:20300102T171000
DTEND;TZID=Europe/Stockholm:20300102T211500
DTSTAMP:20260421T221210
CREATED:20260222T195332Z
LAST-MODIFIED:20260222T200426Z
UID:10011019-1893604200-1893618900@nordmalingsrk.se
SUMMARY:Lektioner
DESCRIPTION:
URL:https://nordmalingsrk.se/evenemang/lektioner-2/2030-01-02/
LOCATION:Ridhuset\, Torsbäcken 14\, Nordmaling\, Västerbotten\, 914 91\, Sverige
CATEGORIES:Interna bokningar,Ridskola
END:VEVENT
BEGIN:VEVENT
DTSTART;TZID=Europe/Stockholm:20300103T173000
DTEND;TZID=Europe/Stockholm:20300103T204500
DTSTAMP:20260421T221210
CREATED:20260222T195332Z
LAST-MODIFIED:20260222T200425Z
UID:10010754-1893691800-1893703500@nordmalingsrk.se
SUMMARY:Lektioner
DESCRIPTION:
URL:https://nordmalingsrk.se/evenemang/lektioner-3/2030-01-03/
CATEGORIES:Interna bokningar,Ridskola
END:VEVENT
BEGIN:VEVENT
DTSTART;TZID=Europe/Stockholm:20300107T100000
DTEND;TZID=Europe/Stockholm:20300107T110000
DTSTAMP:20260421T221210
CREATED:20260302T072033Z
LAST-MODIFIED:20260302T072037Z
UID:10011814-1894010400-1894014000@nordmalingsrk.se
SUMMARY:Underlagsskötsel
DESCRIPTION:Harvning av ridhus
URL:https://nordmalingsrk.se/evenemang/underlagsskotsel-2/2030-01-07/
END:VEVENT
BEGIN:VEVENT
DTSTART;TZID=Europe/Stockholm:20300107T173000
DTEND;TZID=Europe/Stockholm:20300107T200000
DTSTAMP:20260421T221210
CREATED:20260222T195332Z
LAST-MODIFIED:20260222T200427Z
UID:10011550-1894037400-1894046400@nordmalingsrk.se
SUMMARY:Lektioner
DESCRIPTION:
URL:https://nordmalingsrk.se/evenemang/lektioner-4/2030-01-07/
LOCATION:Ridhuset\, Torsbäcken 14\, Nordmaling\, Västerbotten\, 914 91\, Sverige
CATEGORIES:Interna bokningar,Ridskola
END:VEVENT
BEGIN:VEVENT
DTSTART;TZID=Europe/Stockholm:20300108T165500
DTEND;TZID=Europe/Stockholm:20300108T210000
DTSTAMP:20260421T221210
CREATED:20260222T195332Z
LAST-MODIFIED:20260222T200426Z
UID:10011285-1894121700-1894136400@nordmalingsrk.se
SUMMARY:Lektioner
DESCRIPTION:
URL:https://nordmalingsrk.se/evenemang/lektioner/2030-01-08/
LOCATION:Ridhuset\, Torsbäcken 14\, Nordmaling\, Västerbotten\, 914 91\, Sverige
CATEGORIES:Interna bokningar,Ridskola
END:VEVENT
BEGIN:VEVENT
DTSTART;TZID=Europe/Stockholm:20300109T130000
DTEND;TZID=Europe/Stockholm:20300109T140000
DTSTAMP:20260421T221210
CREATED:20260302T072223Z
LAST-MODIFIED:20260302T072227Z
UID:10012075-1894194000-1894197600@nordmalingsrk.se
SUMMARY:Underlagsskötsel
DESCRIPTION:Vattning och harvning av ridhus.
URL:https://nordmalingsrk.se/evenemang/underlagsskotsel-3/2030-01-09/
END:VEVENT
BEGIN:VEVENT
DTSTART;TZID=Europe/Stockholm:20300109T171000
DTEND;TZID=Europe/Stockholm:20300109T211500
DTSTAMP:20260421T221210
CREATED:20260222T195332Z
LAST-MODIFIED:20260222T200426Z
UID:10011020-1894209000-1894223700@nordmalingsrk.se
SUMMARY:Lektioner
DESCRIPTION:
URL:https://nordmalingsrk.se/evenemang/lektioner-2/2030-01-09/
LOCATION:Ridhuset\, Torsbäcken 14\, Nordmaling\, Västerbotten\, 914 91\, Sverige
CATEGORIES:Interna bokningar,Ridskola
END:VEVENT
BEGIN:VEVENT
DTSTART;TZID=Europe/Stockholm:20300110T173000
DTEND;TZID=Europe/Stockholm:20300110T204500
DTSTAMP:20260421T221210
CREATED:20260222T195332Z
LAST-MODIFIED:20260222T200425Z
UID:10010755-1894296600-1894308300@nordmalingsrk.se
SUMMARY:Lektioner
DESCRIPTION:
URL:https://nordmalingsrk.se/evenemang/lektioner-3/2030-01-10/
CATEGORIES:Interna bokningar,Ridskola
END:VEVENT
BEGIN:VEVENT
DTSTART;TZID=Europe/Stockholm:20300114T100000
DTEND;TZID=Europe/Stockholm:20300114T110000
DTSTAMP:20260421T221210
CREATED:20260302T072033Z
LAST-MODIFIED:20260302T072037Z
UID:10011815-1894615200-1894618800@nordmalingsrk.se
SUMMARY:Underlagsskötsel
DESCRIPTION:Harvning av ridhus
URL:https://nordmalingsrk.se/evenemang/underlagsskotsel-2/2030-01-14/
END:VEVENT
BEGIN:VEVENT
DTSTART;TZID=Europe/Stockholm:20300114T173000
DTEND;TZID=Europe/Stockholm:20300114T200000
DTSTAMP:20260421T221210
CREATED:20260222T195332Z
LAST-MODIFIED:20260222T200427Z
UID:10011551-1894642200-1894651200@nordmalingsrk.se
SUMMARY:Lektioner
DESCRIPTION:
URL:https://nordmalingsrk.se/evenemang/lektioner-4/2030-01-14/
LOCATION:Ridhuset\, Torsbäcken 14\, Nordmaling\, Västerbotten\, 914 91\, Sverige
CATEGORIES:Interna bokningar,Ridskola
END:VEVENT
BEGIN:VEVENT
DTSTART;TZID=Europe/Stockholm:20300115T165500
DTEND;TZID=Europe/Stockholm:20300115T210000
DTSTAMP:20260421T221210
CREATED:20260222T195332Z
LAST-MODIFIED:20260222T200426Z
UID:10011286-1894726500-1894741200@nordmalingsrk.se
SUMMARY:Lektioner
DESCRIPTION:
URL:https://nordmalingsrk.se/evenemang/lektioner/2030-01-15/
LOCATION:Ridhuset\, Torsbäcken 14\, Nordmaling\, Västerbotten\, 914 91\, Sverige
CATEGORIES:Interna bokningar,Ridskola
END:VEVENT
BEGIN:VEVENT
DTSTART;TZID=Europe/Stockholm:20300116T130000
DTEND;TZID=Europe/Stockholm:20300116T140000
DTSTAMP:20260421T221210
CREATED:20260302T072223Z
LAST-MODIFIED:20260302T072227Z
UID:10012076-1894798800-1894802400@nordmalingsrk.se
SUMMARY:Underlagsskötsel
DESCRIPTION:Vattning och harvning av ridhus.
URL:https://nordmalingsrk.se/evenemang/underlagsskotsel-3/2030-01-16/
END:VEVENT
BEGIN:VEVENT
DTSTART;TZID=Europe/Stockholm:20300116T171000
DTEND;TZID=Europe/Stockholm:20300116T211500
DTSTAMP:20260421T221210
CREATED:20260222T195332Z
LAST-MODIFIED:20260222T200426Z
UID:10011021-1894813800-1894828500@nordmalingsrk.se
SUMMARY:Lektioner
DESCRIPTION:
URL:https://nordmalingsrk.se/evenemang/lektioner-2/2030-01-16/
LOCATION:Ridhuset\, Torsbäcken 14\, Nordmaling\, Västerbotten\, 914 91\, Sverige
CATEGORIES:Interna bokningar,Ridskola
END:VEVENT
BEGIN:VEVENT
DTSTART;TZID=Europe/Stockholm:20300117T173000
DTEND;TZID=Europe/Stockholm:20300117T204500
DTSTAMP:20260421T221210
CREATED:20260222T195332Z
LAST-MODIFIED:20260222T200425Z
UID:10010756-1894901400-1894913100@nordmalingsrk.se
SUMMARY:Lektioner
DESCRIPTION:
URL:https://nordmalingsrk.se/evenemang/lektioner-3/2030-01-17/
CATEGORIES:Interna bokningar,Ridskola
END:VEVENT
BEGIN:VEVENT
DTSTART;TZID=Europe/Stockholm:20300121T100000
DTEND;TZID=Europe/Stockholm:20300121T110000
DTSTAMP:20260421T221210
CREATED:20260302T072033Z
LAST-MODIFIED:20260302T072037Z
UID:10011816-1895220000-1895223600@nordmalingsrk.se
SUMMARY:Underlagsskötsel
DESCRIPTION:Harvning av ridhus
URL:https://nordmalingsrk.se/evenemang/underlagsskotsel-2/2030-01-21/
END:VEVENT
BEGIN:VEVENT
DTSTART;TZID=Europe/Stockholm:20300121T173000
DTEND;TZID=Europe/Stockholm:20300121T200000
DTSTAMP:20260421T221210
CREATED:20260222T195332Z
LAST-MODIFIED:20260222T200427Z
UID:10011552-1895247000-1895256000@nordmalingsrk.se
SUMMARY:Lektioner
DESCRIPTION:
URL:https://nordmalingsrk.se/evenemang/lektioner-4/2030-01-21/
LOCATION:Ridhuset\, Torsbäcken 14\, Nordmaling\, Västerbotten\, 914 91\, Sverige
CATEGORIES:Interna bokningar,Ridskola
END:VEVENT
BEGIN:VEVENT
DTSTART;TZID=Europe/Stockholm:20300122T165500
DTEND;TZID=Europe/Stockholm:20300122T210000
DTSTAMP:20260421T221210
CREATED:20260222T195332Z
LAST-MODIFIED:20260222T200426Z
UID:10011287-1895331300-1895346000@nordmalingsrk.se
SUMMARY:Lektioner
DESCRIPTION:
URL:https://nordmalingsrk.se/evenemang/lektioner/2030-01-22/
LOCATION:Ridhuset\, Torsbäcken 14\, Nordmaling\, Västerbotten\, 914 91\, Sverige
CATEGORIES:Interna bokningar,Ridskola
END:VEVENT
BEGIN:VEVENT
DTSTART;TZID=Europe/Stockholm:20300123T130000
DTEND;TZID=Europe/Stockholm:20300123T140000
DTSTAMP:20260421T221210
CREATED:20260302T072223Z
LAST-MODIFIED:20260302T072227Z
UID:10012077-1895403600-1895407200@nordmalingsrk.se
SUMMARY:Underlagsskötsel
DESCRIPTION:Vattning och harvning av ridhus.
URL:https://nordmalingsrk.se/evenemang/underlagsskotsel-3/2030-01-23/
END:VEVENT
BEGIN:VEVENT
DTSTART;TZID=Europe/Stockholm:20300123T171000
DTEND;TZID=Europe/Stockholm:20300123T211500
DTSTAMP:20260421T221210
CREATED:20260222T195332Z
LAST-MODIFIED:20260222T200426Z
UID:10011022-1895418600-1895433300@nordmalingsrk.se
SUMMARY:Lektioner
DESCRIPTION:
URL:https://nordmalingsrk.se/evenemang/lektioner-2/2030-01-23/
LOCATION:Ridhuset\, Torsbäcken 14\, Nordmaling\, Västerbotten\, 914 91\, Sverige
CATEGORIES:Interna bokningar,Ridskola
END:VEVENT
BEGIN:VEVENT
DTSTART;TZID=Europe/Stockholm:20300124T173000
DTEND;TZID=Europe/Stockholm:20300124T204500
DTSTAMP:20260421T221210
CREATED:20260222T195332Z
LAST-MODIFIED:20260222T200425Z
UID:10010757-1895506200-1895517900@nordmalingsrk.se
SUMMARY:Lektioner
DESCRIPTION:
URL:https://nordmalingsrk.se/evenemang/lektioner-3/2030-01-24/
CATEGORIES:Interna bokningar,Ridskola
END:VEVENT
BEGIN:VEVENT
DTSTART;TZID=Europe/Stockholm:20300128T100000
DTEND;TZID=Europe/Stockholm:20300128T110000
DTSTAMP:20260421T221210
CREATED:20260302T072033Z
LAST-MODIFIED:20260302T072037Z
UID:10011817-1895824800-1895828400@nordmalingsrk.se
SUMMARY:Underlagsskötsel
DESCRIPTION:Harvning av ridhus
URL:https://nordmalingsrk.se/evenemang/underlagsskotsel-2/2030-01-28/
END:VEVENT
BEGIN:VEVENT
DTSTART;TZID=Europe/Stockholm:20300128T173000
DTEND;TZID=Europe/Stockholm:20300128T200000
DTSTAMP:20260421T221210
CREATED:20260222T195332Z
LAST-MODIFIED:20260222T200427Z
UID:10011553-1895851800-1895860800@nordmalingsrk.se
SUMMARY:Lektioner
DESCRIPTION:
URL:https://nordmalingsrk.se/evenemang/lektioner-4/2030-01-28/
LOCATION:Ridhuset\, Torsbäcken 14\, Nordmaling\, Västerbotten\, 914 91\, Sverige
CATEGORIES:Interna bokningar,Ridskola
END:VEVENT
BEGIN:VEVENT
DTSTART;TZID=Europe/Stockholm:20300129T165500
DTEND;TZID=Europe/Stockholm:20300129T210000
DTSTAMP:20260421T221210
CREATED:20260222T195332Z
LAST-MODIFIED:20260222T200426Z
UID:10011288-1895936100-1895950800@nordmalingsrk.se
SUMMARY:Lektioner
DESCRIPTION:
URL:https://nordmalingsrk.se/evenemang/lektioner/2030-01-29/
LOCATION:Ridhuset\, Torsbäcken 14\, Nordmaling\, Västerbotten\, 914 91\, Sverige
CATEGORIES:Interna bokningar,Ridskola
END:VEVENT
BEGIN:VEVENT
DTSTART;TZID=Europe/Stockholm:20300130T130000
DTEND;TZID=Europe/Stockholm:20300130T140000
DTSTAMP:20260421T221210
CREATED:20260302T072223Z
LAST-MODIFIED:20260302T072227Z
UID:10012078-1896008400-1896012000@nordmalingsrk.se
SUMMARY:Underlagsskötsel
DESCRIPTION:Vattning och harvning av ridhus.
URL:https://nordmalingsrk.se/evenemang/underlagsskotsel-3/2030-01-30/
END:VEVENT
BEGIN:VEVENT
DTSTART;TZID=Europe/Stockholm:20300130T171000
DTEND;TZID=Europe/Stockholm:20300130T211500
DTSTAMP:20260421T221210
CREATED:20260222T195332Z
LAST-MODIFIED:20260222T200426Z
UID:10011023-1896023400-1896038100@nordmalingsrk.se
SUMMARY:Lektioner
DESCRIPTION:
URL:https://nordmalingsrk.se/evenemang/lektioner-2/2030-01-30/
LOCATION:Ridhuset\, Torsbäcken 14\, Nordmaling\, Västerbotten\, 914 91\, Sverige
CATEGORIES:Interna bokningar,Ridskola
END:VEVENT
BEGIN:VEVENT
DTSTART;TZID=Europe/Stockholm:20300131T173000
DTEND;TZID=Europe/Stockholm:20300131T204500
DTSTAMP:20260421T221210
CREATED:20260222T195332Z
LAST-MODIFIED:20260222T200425Z
UID:10010758-1896111000-1896122700@nordmalingsrk.se
SUMMARY:Lektioner
DESCRIPTION:
URL:https://nordmalingsrk.se/evenemang/lektioner-3/2030-01-31/
CATEGORIES:Interna bokningar,Ridskola
END:VEVENT
END:VCALENDAR