BEGIN:VCALENDAR
VERSION:2.0
PRODID:-//Nordmalings Ridklubb - ECPv6.15.13//NONSGML v1.0//EN
CALSCALE:GREGORIAN
METHOD:PUBLISH
X-ORIGINAL-URL:https://nordmalingsrk.se
X-WR-CALDESC:Händelser för Nordmalings Ridklubb
REFRESH-INTERVAL;VALUE=DURATION:PT1H
X-Robots-Tag:noindex
X-PUBLISHED-TTL:PT1H
BEGIN:VTIMEZONE
TZID:Europe/Stockholm
BEGIN:DAYLIGHT
TZOFFSETFROM:+0100
TZOFFSETTO:+0200
TZNAME:CEST
DTSTART:20290325T010000
END:DAYLIGHT
BEGIN:STANDARD
TZOFFSETFROM:+0200
TZOFFSETTO:+0100
TZNAME:CET
DTSTART:20291028T010000
END:STANDARD
BEGIN:DAYLIGHT
TZOFFSETFROM:+0100
TZOFFSETTO:+0200
TZNAME:CEST
DTSTART:20300331T010000
END:DAYLIGHT
BEGIN:STANDARD
TZOFFSETFROM:+0200
TZOFFSETTO:+0100
TZNAME:CET
DTSTART:20301027T010000
END:STANDARD
BEGIN:DAYLIGHT
TZOFFSETFROM:+0100
TZOFFSETTO:+0200
TZNAME:CEST
DTSTART:20310330T010000
END:DAYLIGHT
BEGIN:STANDARD
TZOFFSETFROM:+0200
TZOFFSETTO:+0100
TZNAME:CET
DTSTART:20311026T010000
END:STANDARD
END:VTIMEZONE
BEGIN:VEVENT
DTSTART;TZID=Europe/Stockholm:20300611T165500
DTEND;TZID=Europe/Stockholm:20300611T210000
DTSTAMP:20260422T055351
CREATED:20260222T195332Z
LAST-MODIFIED:20260222T200426Z
UID:10011307-1907427300-1907442000@nordmalingsrk.se
SUMMARY:Lektioner
DESCRIPTION:
URL:https://nordmalingsrk.se/evenemang/lektioner/2030-06-11/
LOCATION:Ridhuset\, Torsbäcken 14\, Nordmaling\, Västerbotten\, 914 91\, Sverige
CATEGORIES:Interna bokningar,Ridskola
END:VEVENT
BEGIN:VEVENT
DTSTART;TZID=Europe/Stockholm:20300612T130000
DTEND;TZID=Europe/Stockholm:20300612T140000
DTSTAMP:20260422T055351
CREATED:20260302T072223Z
LAST-MODIFIED:20260302T072227Z
UID:10012097-1907499600-1907503200@nordmalingsrk.se
SUMMARY:Underlagsskötsel
DESCRIPTION:Vattning och harvning av ridhus.
URL:https://nordmalingsrk.se/evenemang/underlagsskotsel-3/2030-06-12/
END:VEVENT
BEGIN:VEVENT
DTSTART;TZID=Europe/Stockholm:20300612T171000
DTEND;TZID=Europe/Stockholm:20300612T211500
DTSTAMP:20260422T055351
CREATED:20260222T195332Z
LAST-MODIFIED:20260222T200426Z
UID:10011042-1907514600-1907529300@nordmalingsrk.se
SUMMARY:Lektioner
DESCRIPTION:
URL:https://nordmalingsrk.se/evenemang/lektioner-2/2030-06-12/
LOCATION:Ridhuset\, Torsbäcken 14\, Nordmaling\, Västerbotten\, 914 91\, Sverige
CATEGORIES:Interna bokningar,Ridskola
END:VEVENT
BEGIN:VEVENT
DTSTART;TZID=Europe/Stockholm:20300613T173000
DTEND;TZID=Europe/Stockholm:20300613T204500
DTSTAMP:20260422T055351
CREATED:20260222T195332Z
LAST-MODIFIED:20260222T200425Z
UID:10010777-1907602200-1907613900@nordmalingsrk.se
SUMMARY:Lektioner
DESCRIPTION:
URL:https://nordmalingsrk.se/evenemang/lektioner-3/2030-06-13/
CATEGORIES:Interna bokningar,Ridskola
END:VEVENT
BEGIN:VEVENT
DTSTART;TZID=Europe/Stockholm:20300617T100000
DTEND;TZID=Europe/Stockholm:20300617T110000
DTSTAMP:20260422T055351
CREATED:20260302T072033Z
LAST-MODIFIED:20260302T072037Z
UID:10011837-1907920800-1907924400@nordmalingsrk.se
SUMMARY:Underlagsskötsel
DESCRIPTION:Harvning av ridhus
URL:https://nordmalingsrk.se/evenemang/underlagsskotsel-2/2030-06-17/
END:VEVENT
BEGIN:VEVENT
DTSTART;TZID=Europe/Stockholm:20300617T173000
DTEND;TZID=Europe/Stockholm:20300617T200000
DTSTAMP:20260422T055351
CREATED:20260222T195332Z
LAST-MODIFIED:20260222T200427Z
UID:10011573-1907947800-1907956800@nordmalingsrk.se
SUMMARY:Lektioner
DESCRIPTION:
URL:https://nordmalingsrk.se/evenemang/lektioner-4/2030-06-17/
LOCATION:Ridhuset\, Torsbäcken 14\, Nordmaling\, Västerbotten\, 914 91\, Sverige
CATEGORIES:Interna bokningar,Ridskola
END:VEVENT
BEGIN:VEVENT
DTSTART;TZID=Europe/Stockholm:20300618T165500
DTEND;TZID=Europe/Stockholm:20300618T210000
DTSTAMP:20260422T055351
CREATED:20260222T195332Z
LAST-MODIFIED:20260222T200426Z
UID:10011308-1908032100-1908046800@nordmalingsrk.se
SUMMARY:Lektioner
DESCRIPTION:
URL:https://nordmalingsrk.se/evenemang/lektioner/2030-06-18/
LOCATION:Ridhuset\, Torsbäcken 14\, Nordmaling\, Västerbotten\, 914 91\, Sverige
CATEGORIES:Interna bokningar,Ridskola
END:VEVENT
BEGIN:VEVENT
DTSTART;TZID=Europe/Stockholm:20300619T130000
DTEND;TZID=Europe/Stockholm:20300619T140000
DTSTAMP:20260422T055351
CREATED:20260302T072223Z
LAST-MODIFIED:20260302T072227Z
UID:10012098-1908104400-1908108000@nordmalingsrk.se
SUMMARY:Underlagsskötsel
DESCRIPTION:Vattning och harvning av ridhus.
URL:https://nordmalingsrk.se/evenemang/underlagsskotsel-3/2030-06-19/
END:VEVENT
BEGIN:VEVENT
DTSTART;TZID=Europe/Stockholm:20300619T171000
DTEND;TZID=Europe/Stockholm:20300619T211500
DTSTAMP:20260422T055351
CREATED:20260222T195332Z
LAST-MODIFIED:20260222T200426Z
UID:10011043-1908119400-1908134100@nordmalingsrk.se
SUMMARY:Lektioner
DESCRIPTION:
URL:https://nordmalingsrk.se/evenemang/lektioner-2/2030-06-19/
LOCATION:Ridhuset\, Torsbäcken 14\, Nordmaling\, Västerbotten\, 914 91\, Sverige
CATEGORIES:Interna bokningar,Ridskola
END:VEVENT
BEGIN:VEVENT
DTSTART;TZID=Europe/Stockholm:20300620T173000
DTEND;TZID=Europe/Stockholm:20300620T204500
DTSTAMP:20260422T055351
CREATED:20260222T195332Z
LAST-MODIFIED:20260222T200425Z
UID:10010778-1908207000-1908218700@nordmalingsrk.se
SUMMARY:Lektioner
DESCRIPTION:
URL:https://nordmalingsrk.se/evenemang/lektioner-3/2030-06-20/
CATEGORIES:Interna bokningar,Ridskola
END:VEVENT
BEGIN:VEVENT
DTSTART;TZID=Europe/Stockholm:20300624T100000
DTEND;TZID=Europe/Stockholm:20300624T110000
DTSTAMP:20260422T055351
CREATED:20260302T072033Z
LAST-MODIFIED:20260302T072037Z
UID:10011838-1908525600-1908529200@nordmalingsrk.se
SUMMARY:Underlagsskötsel
DESCRIPTION:Harvning av ridhus
URL:https://nordmalingsrk.se/evenemang/underlagsskotsel-2/2030-06-24/
END:VEVENT
BEGIN:VEVENT
DTSTART;TZID=Europe/Stockholm:20300624T173000
DTEND;TZID=Europe/Stockholm:20300624T200000
DTSTAMP:20260422T055351
CREATED:20260222T195332Z
LAST-MODIFIED:20260222T200427Z
UID:10011574-1908552600-1908561600@nordmalingsrk.se
SUMMARY:Lektioner
DESCRIPTION:
URL:https://nordmalingsrk.se/evenemang/lektioner-4/2030-06-24/
LOCATION:Ridhuset\, Torsbäcken 14\, Nordmaling\, Västerbotten\, 914 91\, Sverige
CATEGORIES:Interna bokningar,Ridskola
END:VEVENT
BEGIN:VEVENT
DTSTART;TZID=Europe/Stockholm:20300625T165500
DTEND;TZID=Europe/Stockholm:20300625T210000
DTSTAMP:20260422T055351
CREATED:20260222T195332Z
LAST-MODIFIED:20260222T200426Z
UID:10011309-1908636900-1908651600@nordmalingsrk.se
SUMMARY:Lektioner
DESCRIPTION:
URL:https://nordmalingsrk.se/evenemang/lektioner/2030-06-25/
LOCATION:Ridhuset\, Torsbäcken 14\, Nordmaling\, Västerbotten\, 914 91\, Sverige
CATEGORIES:Interna bokningar,Ridskola
END:VEVENT
BEGIN:VEVENT
DTSTART;TZID=Europe/Stockholm:20300626T130000
DTEND;TZID=Europe/Stockholm:20300626T140000
DTSTAMP:20260422T055351
CREATED:20260302T072223Z
LAST-MODIFIED:20260302T072227Z
UID:10012099-1908709200-1908712800@nordmalingsrk.se
SUMMARY:Underlagsskötsel
DESCRIPTION:Vattning och harvning av ridhus.
URL:https://nordmalingsrk.se/evenemang/underlagsskotsel-3/2030-06-26/
END:VEVENT
BEGIN:VEVENT
DTSTART;TZID=Europe/Stockholm:20300626T171000
DTEND;TZID=Europe/Stockholm:20300626T211500
DTSTAMP:20260422T055351
CREATED:20260222T195332Z
LAST-MODIFIED:20260222T200426Z
UID:10011044-1908724200-1908738900@nordmalingsrk.se
SUMMARY:Lektioner
DESCRIPTION:
URL:https://nordmalingsrk.se/evenemang/lektioner-2/2030-06-26/
LOCATION:Ridhuset\, Torsbäcken 14\, Nordmaling\, Västerbotten\, 914 91\, Sverige
CATEGORIES:Interna bokningar,Ridskola
END:VEVENT
BEGIN:VEVENT
DTSTART;TZID=Europe/Stockholm:20300627T173000
DTEND;TZID=Europe/Stockholm:20300627T204500
DTSTAMP:20260422T055351
CREATED:20260222T195332Z
LAST-MODIFIED:20260222T200425Z
UID:10010779-1908811800-1908823500@nordmalingsrk.se
SUMMARY:Lektioner
DESCRIPTION:
URL:https://nordmalingsrk.se/evenemang/lektioner-3/2030-06-27/
CATEGORIES:Interna bokningar,Ridskola
END:VEVENT
BEGIN:VEVENT
DTSTART;TZID=Europe/Stockholm:20300701T100000
DTEND;TZID=Europe/Stockholm:20300701T110000
DTSTAMP:20260422T055351
CREATED:20260302T072033Z
LAST-MODIFIED:20260302T072037Z
UID:10011839-1909130400-1909134000@nordmalingsrk.se
SUMMARY:Underlagsskötsel
DESCRIPTION:Harvning av ridhus
URL:https://nordmalingsrk.se/evenemang/underlagsskotsel-2/2030-07-01/
END:VEVENT
BEGIN:VEVENT
DTSTART;TZID=Europe/Stockholm:20300701T173000
DTEND;TZID=Europe/Stockholm:20300701T200000
DTSTAMP:20260422T055351
CREATED:20260222T195332Z
LAST-MODIFIED:20260222T200427Z
UID:10011575-1909157400-1909166400@nordmalingsrk.se
SUMMARY:Lektioner
DESCRIPTION:
URL:https://nordmalingsrk.se/evenemang/lektioner-4/2030-07-01/
LOCATION:Ridhuset\, Torsbäcken 14\, Nordmaling\, Västerbotten\, 914 91\, Sverige
CATEGORIES:Interna bokningar,Ridskola
END:VEVENT
BEGIN:VEVENT
DTSTART;TZID=Europe/Stockholm:20300702T165500
DTEND;TZID=Europe/Stockholm:20300702T210000
DTSTAMP:20260422T055351
CREATED:20260222T195332Z
LAST-MODIFIED:20260222T200426Z
UID:10011310-1909241700-1909256400@nordmalingsrk.se
SUMMARY:Lektioner
DESCRIPTION:
URL:https://nordmalingsrk.se/evenemang/lektioner/2030-07-02/
LOCATION:Ridhuset\, Torsbäcken 14\, Nordmaling\, Västerbotten\, 914 91\, Sverige
CATEGORIES:Interna bokningar,Ridskola
END:VEVENT
BEGIN:VEVENT
DTSTART;TZID=Europe/Stockholm:20300703T130000
DTEND;TZID=Europe/Stockholm:20300703T140000
DTSTAMP:20260422T055351
CREATED:20260302T072223Z
LAST-MODIFIED:20260302T072227Z
UID:10012100-1909314000-1909317600@nordmalingsrk.se
SUMMARY:Underlagsskötsel
DESCRIPTION:Vattning och harvning av ridhus.
URL:https://nordmalingsrk.se/evenemang/underlagsskotsel-3/2030-07-03/
END:VEVENT
BEGIN:VEVENT
DTSTART;TZID=Europe/Stockholm:20300703T171000
DTEND;TZID=Europe/Stockholm:20300703T211500
DTSTAMP:20260422T055351
CREATED:20260222T195332Z
LAST-MODIFIED:20260222T200426Z
UID:10011045-1909329000-1909343700@nordmalingsrk.se
SUMMARY:Lektioner
DESCRIPTION:
URL:https://nordmalingsrk.se/evenemang/lektioner-2/2030-07-03/
LOCATION:Ridhuset\, Torsbäcken 14\, Nordmaling\, Västerbotten\, 914 91\, Sverige
CATEGORIES:Interna bokningar,Ridskola
END:VEVENT
BEGIN:VEVENT
DTSTART;TZID=Europe/Stockholm:20300704T173000
DTEND;TZID=Europe/Stockholm:20300704T204500
DTSTAMP:20260422T055351
CREATED:20260222T195332Z
LAST-MODIFIED:20260222T200425Z
UID:10010780-1909416600-1909428300@nordmalingsrk.se
SUMMARY:Lektioner
DESCRIPTION:
URL:https://nordmalingsrk.se/evenemang/lektioner-3/2030-07-04/
CATEGORIES:Interna bokningar,Ridskola
END:VEVENT
BEGIN:VEVENT
DTSTART;TZID=Europe/Stockholm:20300708T100000
DTEND;TZID=Europe/Stockholm:20300708T110000
DTSTAMP:20260422T055351
CREATED:20260302T072033Z
LAST-MODIFIED:20260302T072037Z
UID:10011840-1909735200-1909738800@nordmalingsrk.se
SUMMARY:Underlagsskötsel
DESCRIPTION:Harvning av ridhus
URL:https://nordmalingsrk.se/evenemang/underlagsskotsel-2/2030-07-08/
END:VEVENT
BEGIN:VEVENT
DTSTART;TZID=Europe/Stockholm:20300708T173000
DTEND;TZID=Europe/Stockholm:20300708T200000
DTSTAMP:20260422T055351
CREATED:20260222T195332Z
LAST-MODIFIED:20260222T200427Z
UID:10011576-1909762200-1909771200@nordmalingsrk.se
SUMMARY:Lektioner
DESCRIPTION:
URL:https://nordmalingsrk.se/evenemang/lektioner-4/2030-07-08/
LOCATION:Ridhuset\, Torsbäcken 14\, Nordmaling\, Västerbotten\, 914 91\, Sverige
CATEGORIES:Interna bokningar,Ridskola
END:VEVENT
BEGIN:VEVENT
DTSTART;TZID=Europe/Stockholm:20300709T165500
DTEND;TZID=Europe/Stockholm:20300709T210000
DTSTAMP:20260422T055351
CREATED:20260222T195332Z
LAST-MODIFIED:20260222T200426Z
UID:10011311-1909846500-1909861200@nordmalingsrk.se
SUMMARY:Lektioner
DESCRIPTION:
URL:https://nordmalingsrk.se/evenemang/lektioner/2030-07-09/
LOCATION:Ridhuset\, Torsbäcken 14\, Nordmaling\, Västerbotten\, 914 91\, Sverige
CATEGORIES:Interna bokningar,Ridskola
END:VEVENT
BEGIN:VEVENT
DTSTART;TZID=Europe/Stockholm:20300710T130000
DTEND;TZID=Europe/Stockholm:20300710T140000
DTSTAMP:20260422T055351
CREATED:20260302T072223Z
LAST-MODIFIED:20260302T072227Z
UID:10012101-1909918800-1909922400@nordmalingsrk.se
SUMMARY:Underlagsskötsel
DESCRIPTION:Vattning och harvning av ridhus.
URL:https://nordmalingsrk.se/evenemang/underlagsskotsel-3/2030-07-10/
END:VEVENT
BEGIN:VEVENT
DTSTART;TZID=Europe/Stockholm:20300710T171000
DTEND;TZID=Europe/Stockholm:20300710T211500
DTSTAMP:20260422T055351
CREATED:20260222T195332Z
LAST-MODIFIED:20260222T200426Z
UID:10011046-1909933800-1909948500@nordmalingsrk.se
SUMMARY:Lektioner
DESCRIPTION:
URL:https://nordmalingsrk.se/evenemang/lektioner-2/2030-07-10/
LOCATION:Ridhuset\, Torsbäcken 14\, Nordmaling\, Västerbotten\, 914 91\, Sverige
CATEGORIES:Interna bokningar,Ridskola
END:VEVENT
BEGIN:VEVENT
DTSTART;TZID=Europe/Stockholm:20300711T173000
DTEND;TZID=Europe/Stockholm:20300711T204500
DTSTAMP:20260422T055351
CREATED:20260222T195332Z
LAST-MODIFIED:20260222T200425Z
UID:10010781-1910021400-1910033100@nordmalingsrk.se
SUMMARY:Lektioner
DESCRIPTION:
URL:https://nordmalingsrk.se/evenemang/lektioner-3/2030-07-11/
CATEGORIES:Interna bokningar,Ridskola
END:VEVENT
BEGIN:VEVENT
DTSTART;TZID=Europe/Stockholm:20300715T100000
DTEND;TZID=Europe/Stockholm:20300715T110000
DTSTAMP:20260422T055351
CREATED:20260302T072033Z
LAST-MODIFIED:20260302T072037Z
UID:10011841-1910340000-1910343600@nordmalingsrk.se
SUMMARY:Underlagsskötsel
DESCRIPTION:Harvning av ridhus
URL:https://nordmalingsrk.se/evenemang/underlagsskotsel-2/2030-07-15/
END:VEVENT
BEGIN:VEVENT
DTSTART;TZID=Europe/Stockholm:20300715T173000
DTEND;TZID=Europe/Stockholm:20300715T200000
DTSTAMP:20260422T055351
CREATED:20260222T195332Z
LAST-MODIFIED:20260222T200427Z
UID:10011577-1910367000-1910376000@nordmalingsrk.se
SUMMARY:Lektioner
DESCRIPTION:
URL:https://nordmalingsrk.se/evenemang/lektioner-4/2030-07-15/
LOCATION:Ridhuset\, Torsbäcken 14\, Nordmaling\, Västerbotten\, 914 91\, Sverige
CATEGORIES:Interna bokningar,Ridskola
END:VEVENT
END:VCALENDAR