BEGIN:VCALENDAR
VERSION:2.0
PRODID:-//Nordmalings Ridklubb - ECPv6.15.13//NONSGML v1.0//EN
CALSCALE:GREGORIAN
METHOD:PUBLISH
X-ORIGINAL-URL:https://nordmalingsrk.se
X-WR-CALDESC:Händelser för Nordmalings Ridklubb
REFRESH-INTERVAL;VALUE=DURATION:PT1H
X-Robots-Tag:noindex
X-PUBLISHED-TTL:PT1H
BEGIN:VTIMEZONE
TZID:Europe/Stockholm
BEGIN:DAYLIGHT
TZOFFSETFROM:+0100
TZOFFSETTO:+0200
TZNAME:CEST
DTSTART:20290325T010000
END:DAYLIGHT
BEGIN:STANDARD
TZOFFSETFROM:+0200
TZOFFSETTO:+0100
TZNAME:CET
DTSTART:20291028T010000
END:STANDARD
BEGIN:DAYLIGHT
TZOFFSETFROM:+0100
TZOFFSETTO:+0200
TZNAME:CEST
DTSTART:20300331T010000
END:DAYLIGHT
BEGIN:STANDARD
TZOFFSETFROM:+0200
TZOFFSETTO:+0100
TZNAME:CET
DTSTART:20301027T010000
END:STANDARD
BEGIN:DAYLIGHT
TZOFFSETFROM:+0100
TZOFFSETTO:+0200
TZNAME:CEST
DTSTART:20310330T010000
END:DAYLIGHT
BEGIN:STANDARD
TZOFFSETFROM:+0200
TZOFFSETTO:+0100
TZNAME:CET
DTSTART:20311026T010000
END:STANDARD
END:VTIMEZONE
BEGIN:VEVENT
DTSTART;TZID=Europe/Stockholm:20300718T173000
DTEND;TZID=Europe/Stockholm:20300718T204500
DTSTAMP:20260422T081044
CREATED:20260222T195332Z
LAST-MODIFIED:20260222T200425Z
UID:10010782-1910626200-1910637900@nordmalingsrk.se
SUMMARY:Lektioner
DESCRIPTION:
URL:https://nordmalingsrk.se/evenemang/lektioner-3/2030-07-18/
CATEGORIES:Interna bokningar,Ridskola
END:VEVENT
BEGIN:VEVENT
DTSTART;TZID=Europe/Stockholm:20300722T100000
DTEND;TZID=Europe/Stockholm:20300722T110000
DTSTAMP:20260422T081044
CREATED:20260302T072033Z
LAST-MODIFIED:20260302T072037Z
UID:10011842-1910944800-1910948400@nordmalingsrk.se
SUMMARY:Underlagsskötsel
DESCRIPTION:Harvning av ridhus
URL:https://nordmalingsrk.se/evenemang/underlagsskotsel-2/2030-07-22/
END:VEVENT
BEGIN:VEVENT
DTSTART;TZID=Europe/Stockholm:20300722T173000
DTEND;TZID=Europe/Stockholm:20300722T200000
DTSTAMP:20260422T081044
CREATED:20260222T195332Z
LAST-MODIFIED:20260222T200427Z
UID:10011578-1910971800-1910980800@nordmalingsrk.se
SUMMARY:Lektioner
DESCRIPTION:
URL:https://nordmalingsrk.se/evenemang/lektioner-4/2030-07-22/
LOCATION:Ridhuset\, Torsbäcken 14\, Nordmaling\, Västerbotten\, 914 91\, Sverige
CATEGORIES:Interna bokningar,Ridskola
END:VEVENT
BEGIN:VEVENT
DTSTART;TZID=Europe/Stockholm:20300723T165500
DTEND;TZID=Europe/Stockholm:20300723T210000
DTSTAMP:20260422T081044
CREATED:20260222T195332Z
LAST-MODIFIED:20260222T200426Z
UID:10011313-1911056100-1911070800@nordmalingsrk.se
SUMMARY:Lektioner
DESCRIPTION:
URL:https://nordmalingsrk.se/evenemang/lektioner/2030-07-23/
LOCATION:Ridhuset\, Torsbäcken 14\, Nordmaling\, Västerbotten\, 914 91\, Sverige
CATEGORIES:Interna bokningar,Ridskola
END:VEVENT
BEGIN:VEVENT
DTSTART;TZID=Europe/Stockholm:20300724T130000
DTEND;TZID=Europe/Stockholm:20300724T140000
DTSTAMP:20260422T081044
CREATED:20260302T072223Z
LAST-MODIFIED:20260302T072227Z
UID:10012103-1911128400-1911132000@nordmalingsrk.se
SUMMARY:Underlagsskötsel
DESCRIPTION:Vattning och harvning av ridhus.
URL:https://nordmalingsrk.se/evenemang/underlagsskotsel-3/2030-07-24/
END:VEVENT
BEGIN:VEVENT
DTSTART;TZID=Europe/Stockholm:20300724T171000
DTEND;TZID=Europe/Stockholm:20300724T211500
DTSTAMP:20260422T081044
CREATED:20260222T195332Z
LAST-MODIFIED:20260222T200426Z
UID:10011048-1911143400-1911158100@nordmalingsrk.se
SUMMARY:Lektioner
DESCRIPTION:
URL:https://nordmalingsrk.se/evenemang/lektioner-2/2030-07-24/
LOCATION:Ridhuset\, Torsbäcken 14\, Nordmaling\, Västerbotten\, 914 91\, Sverige
CATEGORIES:Interna bokningar,Ridskola
END:VEVENT
BEGIN:VEVENT
DTSTART;TZID=Europe/Stockholm:20300725T173000
DTEND;TZID=Europe/Stockholm:20300725T204500
DTSTAMP:20260422T081044
CREATED:20260222T195332Z
LAST-MODIFIED:20260222T200425Z
UID:10010783-1911231000-1911242700@nordmalingsrk.se
SUMMARY:Lektioner
DESCRIPTION:
URL:https://nordmalingsrk.se/evenemang/lektioner-3/2030-07-25/
CATEGORIES:Interna bokningar,Ridskola
END:VEVENT
BEGIN:VEVENT
DTSTART;TZID=Europe/Stockholm:20300729T100000
DTEND;TZID=Europe/Stockholm:20300729T110000
DTSTAMP:20260422T081044
CREATED:20260302T072033Z
LAST-MODIFIED:20260302T072037Z
UID:10011843-1911549600-1911553200@nordmalingsrk.se
SUMMARY:Underlagsskötsel
DESCRIPTION:Harvning av ridhus
URL:https://nordmalingsrk.se/evenemang/underlagsskotsel-2/2030-07-29/
END:VEVENT
BEGIN:VEVENT
DTSTART;TZID=Europe/Stockholm:20300729T173000
DTEND;TZID=Europe/Stockholm:20300729T200000
DTSTAMP:20260422T081044
CREATED:20260222T195332Z
LAST-MODIFIED:20260222T200427Z
UID:10011579-1911576600-1911585600@nordmalingsrk.se
SUMMARY:Lektioner
DESCRIPTION:
URL:https://nordmalingsrk.se/evenemang/lektioner-4/2030-07-29/
LOCATION:Ridhuset\, Torsbäcken 14\, Nordmaling\, Västerbotten\, 914 91\, Sverige
CATEGORIES:Interna bokningar,Ridskola
END:VEVENT
BEGIN:VEVENT
DTSTART;TZID=Europe/Stockholm:20300730T165500
DTEND;TZID=Europe/Stockholm:20300730T210000
DTSTAMP:20260422T081044
CREATED:20260222T195332Z
LAST-MODIFIED:20260222T200426Z
UID:10011314-1911660900-1911675600@nordmalingsrk.se
SUMMARY:Lektioner
DESCRIPTION:
URL:https://nordmalingsrk.se/evenemang/lektioner/2030-07-30/
LOCATION:Ridhuset\, Torsbäcken 14\, Nordmaling\, Västerbotten\, 914 91\, Sverige
CATEGORIES:Interna bokningar,Ridskola
END:VEVENT
BEGIN:VEVENT
DTSTART;TZID=Europe/Stockholm:20300731T130000
DTEND;TZID=Europe/Stockholm:20300731T140000
DTSTAMP:20260422T081044
CREATED:20260302T072223Z
LAST-MODIFIED:20260302T072227Z
UID:10012104-1911733200-1911736800@nordmalingsrk.se
SUMMARY:Underlagsskötsel
DESCRIPTION:Vattning och harvning av ridhus.
URL:https://nordmalingsrk.se/evenemang/underlagsskotsel-3/2030-07-31/
END:VEVENT
BEGIN:VEVENT
DTSTART;TZID=Europe/Stockholm:20300731T171000
DTEND;TZID=Europe/Stockholm:20300731T211500
DTSTAMP:20260422T081044
CREATED:20260222T195332Z
LAST-MODIFIED:20260222T200426Z
UID:10011049-1911748200-1911762900@nordmalingsrk.se
SUMMARY:Lektioner
DESCRIPTION:
URL:https://nordmalingsrk.se/evenemang/lektioner-2/2030-07-31/
LOCATION:Ridhuset\, Torsbäcken 14\, Nordmaling\, Västerbotten\, 914 91\, Sverige
CATEGORIES:Interna bokningar,Ridskola
END:VEVENT
BEGIN:VEVENT
DTSTART;TZID=Europe/Stockholm:20300801T173000
DTEND;TZID=Europe/Stockholm:20300801T204500
DTSTAMP:20260422T081044
CREATED:20260222T195332Z
LAST-MODIFIED:20260222T200425Z
UID:10010784-1911835800-1911847500@nordmalingsrk.se
SUMMARY:Lektioner
DESCRIPTION:
URL:https://nordmalingsrk.se/evenemang/lektioner-3/2030-08-01/
CATEGORIES:Interna bokningar,Ridskola
END:VEVENT
BEGIN:VEVENT
DTSTART;TZID=Europe/Stockholm:20300805T100000
DTEND;TZID=Europe/Stockholm:20300805T110000
DTSTAMP:20260422T081044
CREATED:20260302T072033Z
LAST-MODIFIED:20260302T072037Z
UID:10011844-1912154400-1912158000@nordmalingsrk.se
SUMMARY:Underlagsskötsel
DESCRIPTION:Harvning av ridhus
URL:https://nordmalingsrk.se/evenemang/underlagsskotsel-2/2030-08-05/
END:VEVENT
BEGIN:VEVENT
DTSTART;TZID=Europe/Stockholm:20300805T173000
DTEND;TZID=Europe/Stockholm:20300805T200000
DTSTAMP:20260422T081044
CREATED:20260222T195332Z
LAST-MODIFIED:20260222T200427Z
UID:10011580-1912181400-1912190400@nordmalingsrk.se
SUMMARY:Lektioner
DESCRIPTION:
URL:https://nordmalingsrk.se/evenemang/lektioner-4/2030-08-05/
LOCATION:Ridhuset\, Torsbäcken 14\, Nordmaling\, Västerbotten\, 914 91\, Sverige
CATEGORIES:Interna bokningar,Ridskola
END:VEVENT
BEGIN:VEVENT
DTSTART;TZID=Europe/Stockholm:20300806T165500
DTEND;TZID=Europe/Stockholm:20300806T210000
DTSTAMP:20260422T081044
CREATED:20260222T195332Z
LAST-MODIFIED:20260222T200426Z
UID:10011315-1912265700-1912280400@nordmalingsrk.se
SUMMARY:Lektioner
DESCRIPTION:
URL:https://nordmalingsrk.se/evenemang/lektioner/2030-08-06/
LOCATION:Ridhuset\, Torsbäcken 14\, Nordmaling\, Västerbotten\, 914 91\, Sverige
CATEGORIES:Interna bokningar,Ridskola
END:VEVENT
BEGIN:VEVENT
DTSTART;TZID=Europe/Stockholm:20300807T130000
DTEND;TZID=Europe/Stockholm:20300807T140000
DTSTAMP:20260422T081044
CREATED:20260302T072223Z
LAST-MODIFIED:20260302T072227Z
UID:10012105-1912338000-1912341600@nordmalingsrk.se
SUMMARY:Underlagsskötsel
DESCRIPTION:Vattning och harvning av ridhus.
URL:https://nordmalingsrk.se/evenemang/underlagsskotsel-3/2030-08-07/
END:VEVENT
BEGIN:VEVENT
DTSTART;TZID=Europe/Stockholm:20300807T171000
DTEND;TZID=Europe/Stockholm:20300807T211500
DTSTAMP:20260422T081044
CREATED:20260222T195332Z
LAST-MODIFIED:20260222T200426Z
UID:10011050-1912353000-1912367700@nordmalingsrk.se
SUMMARY:Lektioner
DESCRIPTION:
URL:https://nordmalingsrk.se/evenemang/lektioner-2/2030-08-07/
LOCATION:Ridhuset\, Torsbäcken 14\, Nordmaling\, Västerbotten\, 914 91\, Sverige
CATEGORIES:Interna bokningar,Ridskola
END:VEVENT
BEGIN:VEVENT
DTSTART;TZID=Europe/Stockholm:20300808T173000
DTEND;TZID=Europe/Stockholm:20300808T204500
DTSTAMP:20260422T081044
CREATED:20260222T195332Z
LAST-MODIFIED:20260222T200425Z
UID:10010785-1912440600-1912452300@nordmalingsrk.se
SUMMARY:Lektioner
DESCRIPTION:
URL:https://nordmalingsrk.se/evenemang/lektioner-3/2030-08-08/
CATEGORIES:Interna bokningar,Ridskola
END:VEVENT
BEGIN:VEVENT
DTSTART;TZID=Europe/Stockholm:20300812T100000
DTEND;TZID=Europe/Stockholm:20300812T110000
DTSTAMP:20260422T081044
CREATED:20260302T072033Z
LAST-MODIFIED:20260302T072037Z
UID:10011845-1912759200-1912762800@nordmalingsrk.se
SUMMARY:Underlagsskötsel
DESCRIPTION:Harvning av ridhus
URL:https://nordmalingsrk.se/evenemang/underlagsskotsel-2/2030-08-12/
END:VEVENT
BEGIN:VEVENT
DTSTART;TZID=Europe/Stockholm:20300812T173000
DTEND;TZID=Europe/Stockholm:20300812T200000
DTSTAMP:20260422T081044
CREATED:20260222T195332Z
LAST-MODIFIED:20260222T200427Z
UID:10011581-1912786200-1912795200@nordmalingsrk.se
SUMMARY:Lektioner
DESCRIPTION:
URL:https://nordmalingsrk.se/evenemang/lektioner-4/2030-08-12/
LOCATION:Ridhuset\, Torsbäcken 14\, Nordmaling\, Västerbotten\, 914 91\, Sverige
CATEGORIES:Interna bokningar,Ridskola
END:VEVENT
BEGIN:VEVENT
DTSTART;TZID=Europe/Stockholm:20300813T165500
DTEND;TZID=Europe/Stockholm:20300813T210000
DTSTAMP:20260422T081044
CREATED:20260222T195332Z
LAST-MODIFIED:20260222T200426Z
UID:10011316-1912870500-1912885200@nordmalingsrk.se
SUMMARY:Lektioner
DESCRIPTION:
URL:https://nordmalingsrk.se/evenemang/lektioner/2030-08-13/
LOCATION:Ridhuset\, Torsbäcken 14\, Nordmaling\, Västerbotten\, 914 91\, Sverige
CATEGORIES:Interna bokningar,Ridskola
END:VEVENT
BEGIN:VEVENT
DTSTART;TZID=Europe/Stockholm:20300814T130000
DTEND;TZID=Europe/Stockholm:20300814T140000
DTSTAMP:20260422T081044
CREATED:20260302T072223Z
LAST-MODIFIED:20260302T072227Z
UID:10012106-1912942800-1912946400@nordmalingsrk.se
SUMMARY:Underlagsskötsel
DESCRIPTION:Vattning och harvning av ridhus.
URL:https://nordmalingsrk.se/evenemang/underlagsskotsel-3/2030-08-14/
END:VEVENT
BEGIN:VEVENT
DTSTART;TZID=Europe/Stockholm:20300814T171000
DTEND;TZID=Europe/Stockholm:20300814T211500
DTSTAMP:20260422T081044
CREATED:20260222T195332Z
LAST-MODIFIED:20260222T200426Z
UID:10011051-1912957800-1912972500@nordmalingsrk.se
SUMMARY:Lektioner
DESCRIPTION:
URL:https://nordmalingsrk.se/evenemang/lektioner-2/2030-08-14/
LOCATION:Ridhuset\, Torsbäcken 14\, Nordmaling\, Västerbotten\, 914 91\, Sverige
CATEGORIES:Interna bokningar,Ridskola
END:VEVENT
BEGIN:VEVENT
DTSTART;TZID=Europe/Stockholm:20300815T173000
DTEND;TZID=Europe/Stockholm:20300815T204500
DTSTAMP:20260422T081044
CREATED:20260222T195332Z
LAST-MODIFIED:20260222T200425Z
UID:10010786-1913045400-1913057100@nordmalingsrk.se
SUMMARY:Lektioner
DESCRIPTION:
URL:https://nordmalingsrk.se/evenemang/lektioner-3/2030-08-15/
CATEGORIES:Interna bokningar,Ridskola
END:VEVENT
BEGIN:VEVENT
DTSTART;TZID=Europe/Stockholm:20300819T100000
DTEND;TZID=Europe/Stockholm:20300819T110000
DTSTAMP:20260422T081044
CREATED:20260302T072033Z
LAST-MODIFIED:20260302T072037Z
UID:10011846-1913364000-1913367600@nordmalingsrk.se
SUMMARY:Underlagsskötsel
DESCRIPTION:Harvning av ridhus
URL:https://nordmalingsrk.se/evenemang/underlagsskotsel-2/2030-08-19/
END:VEVENT
BEGIN:VEVENT
DTSTART;TZID=Europe/Stockholm:20300819T173000
DTEND;TZID=Europe/Stockholm:20300819T200000
DTSTAMP:20260422T081044
CREATED:20260222T195332Z
LAST-MODIFIED:20260222T200427Z
UID:10011582-1913391000-1913400000@nordmalingsrk.se
SUMMARY:Lektioner
DESCRIPTION:
URL:https://nordmalingsrk.se/evenemang/lektioner-4/2030-08-19/
LOCATION:Ridhuset\, Torsbäcken 14\, Nordmaling\, Västerbotten\, 914 91\, Sverige
CATEGORIES:Interna bokningar,Ridskola
END:VEVENT
BEGIN:VEVENT
DTSTART;TZID=Europe/Stockholm:20300820T165500
DTEND;TZID=Europe/Stockholm:20300820T210000
DTSTAMP:20260422T081044
CREATED:20260222T195332Z
LAST-MODIFIED:20260222T200426Z
UID:10011317-1913475300-1913490000@nordmalingsrk.se
SUMMARY:Lektioner
DESCRIPTION:
URL:https://nordmalingsrk.se/evenemang/lektioner/2030-08-20/
LOCATION:Ridhuset\, Torsbäcken 14\, Nordmaling\, Västerbotten\, 914 91\, Sverige
CATEGORIES:Interna bokningar,Ridskola
END:VEVENT
BEGIN:VEVENT
DTSTART;TZID=Europe/Stockholm:20300821T130000
DTEND;TZID=Europe/Stockholm:20300821T140000
DTSTAMP:20260422T081044
CREATED:20260302T072223Z
LAST-MODIFIED:20260302T072227Z
UID:10012107-1913547600-1913551200@nordmalingsrk.se
SUMMARY:Underlagsskötsel
DESCRIPTION:Vattning och harvning av ridhus.
URL:https://nordmalingsrk.se/evenemang/underlagsskotsel-3/2030-08-21/
END:VEVENT
BEGIN:VEVENT
DTSTART;TZID=Europe/Stockholm:20300821T171000
DTEND;TZID=Europe/Stockholm:20300821T211500
DTSTAMP:20260422T081044
CREATED:20260222T195332Z
LAST-MODIFIED:20260222T200426Z
UID:10011052-1913562600-1913577300@nordmalingsrk.se
SUMMARY:Lektioner
DESCRIPTION:
URL:https://nordmalingsrk.se/evenemang/lektioner-2/2030-08-21/
LOCATION:Ridhuset\, Torsbäcken 14\, Nordmaling\, Västerbotten\, 914 91\, Sverige
CATEGORIES:Interna bokningar,Ridskola
END:VEVENT
END:VCALENDAR