BEGIN:VCALENDAR
VERSION:2.0
PRODID:-//Nordmalings Ridklubb - ECPv6.15.13//NONSGML v1.0//EN
CALSCALE:GREGORIAN
METHOD:PUBLISH
X-ORIGINAL-URL:https://nordmalingsrk.se
X-WR-CALDESC:Händelser för Nordmalings Ridklubb
REFRESH-INTERVAL;VALUE=DURATION:PT1H
X-Robots-Tag:noindex
X-PUBLISHED-TTL:PT1H
BEGIN:VTIMEZONE
TZID:Europe/Stockholm
BEGIN:DAYLIGHT
TZOFFSETFROM:+0100
TZOFFSETTO:+0200
TZNAME:CEST
DTSTART:20290325T010000
END:DAYLIGHT
BEGIN:STANDARD
TZOFFSETFROM:+0200
TZOFFSETTO:+0100
TZNAME:CET
DTSTART:20291028T010000
END:STANDARD
BEGIN:DAYLIGHT
TZOFFSETFROM:+0100
TZOFFSETTO:+0200
TZNAME:CEST
DTSTART:20300331T010000
END:DAYLIGHT
BEGIN:STANDARD
TZOFFSETFROM:+0200
TZOFFSETTO:+0100
TZNAME:CET
DTSTART:20301027T010000
END:STANDARD
BEGIN:DAYLIGHT
TZOFFSETFROM:+0100
TZOFFSETTO:+0200
TZNAME:CEST
DTSTART:20310330T010000
END:DAYLIGHT
BEGIN:STANDARD
TZOFFSETFROM:+0200
TZOFFSETTO:+0100
TZNAME:CET
DTSTART:20311026T010000
END:STANDARD
END:VTIMEZONE
BEGIN:VEVENT
DTSTART;TZID=Europe/Stockholm:20300701T100000
DTEND;TZID=Europe/Stockholm:20300701T110000
DTSTAMP:20260422T034040
CREATED:20260302T072033Z
LAST-MODIFIED:20260302T072037Z
UID:10011839-1909130400-1909134000@nordmalingsrk.se
SUMMARY:Underlagsskötsel
DESCRIPTION:Harvning av ridhus
URL:https://nordmalingsrk.se/evenemang/underlagsskotsel-2/2030-07-01/
END:VEVENT
BEGIN:VEVENT
DTSTART;TZID=Europe/Stockholm:20300701T173000
DTEND;TZID=Europe/Stockholm:20300701T200000
DTSTAMP:20260422T034040
CREATED:20260222T195332Z
LAST-MODIFIED:20260222T200427Z
UID:10011575-1909157400-1909166400@nordmalingsrk.se
SUMMARY:Lektioner
DESCRIPTION:
URL:https://nordmalingsrk.se/evenemang/lektioner-4/2030-07-01/
LOCATION:Ridhuset\, Torsbäcken 14\, Nordmaling\, Västerbotten\, 914 91\, Sverige
CATEGORIES:Interna bokningar,Ridskola
END:VEVENT
BEGIN:VEVENT
DTSTART;TZID=Europe/Stockholm:20300702T165500
DTEND;TZID=Europe/Stockholm:20300702T210000
DTSTAMP:20260422T034040
CREATED:20260222T195332Z
LAST-MODIFIED:20260222T200426Z
UID:10011310-1909241700-1909256400@nordmalingsrk.se
SUMMARY:Lektioner
DESCRIPTION:
URL:https://nordmalingsrk.se/evenemang/lektioner/2030-07-02/
LOCATION:Ridhuset\, Torsbäcken 14\, Nordmaling\, Västerbotten\, 914 91\, Sverige
CATEGORIES:Interna bokningar,Ridskola
END:VEVENT
BEGIN:VEVENT
DTSTART;TZID=Europe/Stockholm:20300703T130000
DTEND;TZID=Europe/Stockholm:20300703T140000
DTSTAMP:20260422T034040
CREATED:20260302T072223Z
LAST-MODIFIED:20260302T072227Z
UID:10012100-1909314000-1909317600@nordmalingsrk.se
SUMMARY:Underlagsskötsel
DESCRIPTION:Vattning och harvning av ridhus.
URL:https://nordmalingsrk.se/evenemang/underlagsskotsel-3/2030-07-03/
END:VEVENT
BEGIN:VEVENT
DTSTART;TZID=Europe/Stockholm:20300703T171000
DTEND;TZID=Europe/Stockholm:20300703T211500
DTSTAMP:20260422T034040
CREATED:20260222T195332Z
LAST-MODIFIED:20260222T200426Z
UID:10011045-1909329000-1909343700@nordmalingsrk.se
SUMMARY:Lektioner
DESCRIPTION:
URL:https://nordmalingsrk.se/evenemang/lektioner-2/2030-07-03/
LOCATION:Ridhuset\, Torsbäcken 14\, Nordmaling\, Västerbotten\, 914 91\, Sverige
CATEGORIES:Interna bokningar,Ridskola
END:VEVENT
BEGIN:VEVENT
DTSTART;TZID=Europe/Stockholm:20300704T173000
DTEND;TZID=Europe/Stockholm:20300704T204500
DTSTAMP:20260422T034040
CREATED:20260222T195332Z
LAST-MODIFIED:20260222T200425Z
UID:10010780-1909416600-1909428300@nordmalingsrk.se
SUMMARY:Lektioner
DESCRIPTION:
URL:https://nordmalingsrk.se/evenemang/lektioner-3/2030-07-04/
CATEGORIES:Interna bokningar,Ridskola
END:VEVENT
BEGIN:VEVENT
DTSTART;TZID=Europe/Stockholm:20300708T100000
DTEND;TZID=Europe/Stockholm:20300708T110000
DTSTAMP:20260422T034040
CREATED:20260302T072033Z
LAST-MODIFIED:20260302T072037Z
UID:10011840-1909735200-1909738800@nordmalingsrk.se
SUMMARY:Underlagsskötsel
DESCRIPTION:Harvning av ridhus
URL:https://nordmalingsrk.se/evenemang/underlagsskotsel-2/2030-07-08/
END:VEVENT
BEGIN:VEVENT
DTSTART;TZID=Europe/Stockholm:20300708T173000
DTEND;TZID=Europe/Stockholm:20300708T200000
DTSTAMP:20260422T034040
CREATED:20260222T195332Z
LAST-MODIFIED:20260222T200427Z
UID:10011576-1909762200-1909771200@nordmalingsrk.se
SUMMARY:Lektioner
DESCRIPTION:
URL:https://nordmalingsrk.se/evenemang/lektioner-4/2030-07-08/
LOCATION:Ridhuset\, Torsbäcken 14\, Nordmaling\, Västerbotten\, 914 91\, Sverige
CATEGORIES:Interna bokningar,Ridskola
END:VEVENT
BEGIN:VEVENT
DTSTART;TZID=Europe/Stockholm:20300709T165500
DTEND;TZID=Europe/Stockholm:20300709T210000
DTSTAMP:20260422T034040
CREATED:20260222T195332Z
LAST-MODIFIED:20260222T200426Z
UID:10011311-1909846500-1909861200@nordmalingsrk.se
SUMMARY:Lektioner
DESCRIPTION:
URL:https://nordmalingsrk.se/evenemang/lektioner/2030-07-09/
LOCATION:Ridhuset\, Torsbäcken 14\, Nordmaling\, Västerbotten\, 914 91\, Sverige
CATEGORIES:Interna bokningar,Ridskola
END:VEVENT
BEGIN:VEVENT
DTSTART;TZID=Europe/Stockholm:20300710T130000
DTEND;TZID=Europe/Stockholm:20300710T140000
DTSTAMP:20260422T034040
CREATED:20260302T072223Z
LAST-MODIFIED:20260302T072227Z
UID:10012101-1909918800-1909922400@nordmalingsrk.se
SUMMARY:Underlagsskötsel
DESCRIPTION:Vattning och harvning av ridhus.
URL:https://nordmalingsrk.se/evenemang/underlagsskotsel-3/2030-07-10/
END:VEVENT
BEGIN:VEVENT
DTSTART;TZID=Europe/Stockholm:20300710T171000
DTEND;TZID=Europe/Stockholm:20300710T211500
DTSTAMP:20260422T034040
CREATED:20260222T195332Z
LAST-MODIFIED:20260222T200426Z
UID:10011046-1909933800-1909948500@nordmalingsrk.se
SUMMARY:Lektioner
DESCRIPTION:
URL:https://nordmalingsrk.se/evenemang/lektioner-2/2030-07-10/
LOCATION:Ridhuset\, Torsbäcken 14\, Nordmaling\, Västerbotten\, 914 91\, Sverige
CATEGORIES:Interna bokningar,Ridskola
END:VEVENT
BEGIN:VEVENT
DTSTART;TZID=Europe/Stockholm:20300711T173000
DTEND;TZID=Europe/Stockholm:20300711T204500
DTSTAMP:20260422T034040
CREATED:20260222T195332Z
LAST-MODIFIED:20260222T200425Z
UID:10010781-1910021400-1910033100@nordmalingsrk.se
SUMMARY:Lektioner
DESCRIPTION:
URL:https://nordmalingsrk.se/evenemang/lektioner-3/2030-07-11/
CATEGORIES:Interna bokningar,Ridskola
END:VEVENT
BEGIN:VEVENT
DTSTART;TZID=Europe/Stockholm:20300715T100000
DTEND;TZID=Europe/Stockholm:20300715T110000
DTSTAMP:20260422T034040
CREATED:20260302T072033Z
LAST-MODIFIED:20260302T072037Z
UID:10011841-1910340000-1910343600@nordmalingsrk.se
SUMMARY:Underlagsskötsel
DESCRIPTION:Harvning av ridhus
URL:https://nordmalingsrk.se/evenemang/underlagsskotsel-2/2030-07-15/
END:VEVENT
BEGIN:VEVENT
DTSTART;TZID=Europe/Stockholm:20300715T173000
DTEND;TZID=Europe/Stockholm:20300715T200000
DTSTAMP:20260422T034040
CREATED:20260222T195332Z
LAST-MODIFIED:20260222T200427Z
UID:10011577-1910367000-1910376000@nordmalingsrk.se
SUMMARY:Lektioner
DESCRIPTION:
URL:https://nordmalingsrk.se/evenemang/lektioner-4/2030-07-15/
LOCATION:Ridhuset\, Torsbäcken 14\, Nordmaling\, Västerbotten\, 914 91\, Sverige
CATEGORIES:Interna bokningar,Ridskola
END:VEVENT
BEGIN:VEVENT
DTSTART;TZID=Europe/Stockholm:20300716T165500
DTEND;TZID=Europe/Stockholm:20300716T210000
DTSTAMP:20260422T034040
CREATED:20260222T195332Z
LAST-MODIFIED:20260222T200426Z
UID:10011312-1910451300-1910466000@nordmalingsrk.se
SUMMARY:Lektioner
DESCRIPTION:
URL:https://nordmalingsrk.se/evenemang/lektioner/2030-07-16/
LOCATION:Ridhuset\, Torsbäcken 14\, Nordmaling\, Västerbotten\, 914 91\, Sverige
CATEGORIES:Interna bokningar,Ridskola
END:VEVENT
BEGIN:VEVENT
DTSTART;TZID=Europe/Stockholm:20300717T130000
DTEND;TZID=Europe/Stockholm:20300717T140000
DTSTAMP:20260422T034040
CREATED:20260302T072223Z
LAST-MODIFIED:20260302T072227Z
UID:10012102-1910523600-1910527200@nordmalingsrk.se
SUMMARY:Underlagsskötsel
DESCRIPTION:Vattning och harvning av ridhus.
URL:https://nordmalingsrk.se/evenemang/underlagsskotsel-3/2030-07-17/
END:VEVENT
BEGIN:VEVENT
DTSTART;TZID=Europe/Stockholm:20300717T171000
DTEND;TZID=Europe/Stockholm:20300717T211500
DTSTAMP:20260422T034040
CREATED:20260222T195332Z
LAST-MODIFIED:20260222T200426Z
UID:10011047-1910538600-1910553300@nordmalingsrk.se
SUMMARY:Lektioner
DESCRIPTION:
URL:https://nordmalingsrk.se/evenemang/lektioner-2/2030-07-17/
LOCATION:Ridhuset\, Torsbäcken 14\, Nordmaling\, Västerbotten\, 914 91\, Sverige
CATEGORIES:Interna bokningar,Ridskola
END:VEVENT
BEGIN:VEVENT
DTSTART;TZID=Europe/Stockholm:20300718T173000
DTEND;TZID=Europe/Stockholm:20300718T204500
DTSTAMP:20260422T034040
CREATED:20260222T195332Z
LAST-MODIFIED:20260222T200425Z
UID:10010782-1910626200-1910637900@nordmalingsrk.se
SUMMARY:Lektioner
DESCRIPTION:
URL:https://nordmalingsrk.se/evenemang/lektioner-3/2030-07-18/
CATEGORIES:Interna bokningar,Ridskola
END:VEVENT
BEGIN:VEVENT
DTSTART;TZID=Europe/Stockholm:20300722T100000
DTEND;TZID=Europe/Stockholm:20300722T110000
DTSTAMP:20260422T034040
CREATED:20260302T072033Z
LAST-MODIFIED:20260302T072037Z
UID:10011842-1910944800-1910948400@nordmalingsrk.se
SUMMARY:Underlagsskötsel
DESCRIPTION:Harvning av ridhus
URL:https://nordmalingsrk.se/evenemang/underlagsskotsel-2/2030-07-22/
END:VEVENT
BEGIN:VEVENT
DTSTART;TZID=Europe/Stockholm:20300722T173000
DTEND;TZID=Europe/Stockholm:20300722T200000
DTSTAMP:20260422T034040
CREATED:20260222T195332Z
LAST-MODIFIED:20260222T200427Z
UID:10011578-1910971800-1910980800@nordmalingsrk.se
SUMMARY:Lektioner
DESCRIPTION:
URL:https://nordmalingsrk.se/evenemang/lektioner-4/2030-07-22/
LOCATION:Ridhuset\, Torsbäcken 14\, Nordmaling\, Västerbotten\, 914 91\, Sverige
CATEGORIES:Interna bokningar,Ridskola
END:VEVENT
BEGIN:VEVENT
DTSTART;TZID=Europe/Stockholm:20300723T165500
DTEND;TZID=Europe/Stockholm:20300723T210000
DTSTAMP:20260422T034040
CREATED:20260222T195332Z
LAST-MODIFIED:20260222T200426Z
UID:10011313-1911056100-1911070800@nordmalingsrk.se
SUMMARY:Lektioner
DESCRIPTION:
URL:https://nordmalingsrk.se/evenemang/lektioner/2030-07-23/
LOCATION:Ridhuset\, Torsbäcken 14\, Nordmaling\, Västerbotten\, 914 91\, Sverige
CATEGORIES:Interna bokningar,Ridskola
END:VEVENT
BEGIN:VEVENT
DTSTART;TZID=Europe/Stockholm:20300724T130000
DTEND;TZID=Europe/Stockholm:20300724T140000
DTSTAMP:20260422T034040
CREATED:20260302T072223Z
LAST-MODIFIED:20260302T072227Z
UID:10012103-1911128400-1911132000@nordmalingsrk.se
SUMMARY:Underlagsskötsel
DESCRIPTION:Vattning och harvning av ridhus.
URL:https://nordmalingsrk.se/evenemang/underlagsskotsel-3/2030-07-24/
END:VEVENT
BEGIN:VEVENT
DTSTART;TZID=Europe/Stockholm:20300724T171000
DTEND;TZID=Europe/Stockholm:20300724T211500
DTSTAMP:20260422T034040
CREATED:20260222T195332Z
LAST-MODIFIED:20260222T200426Z
UID:10011048-1911143400-1911158100@nordmalingsrk.se
SUMMARY:Lektioner
DESCRIPTION:
URL:https://nordmalingsrk.se/evenemang/lektioner-2/2030-07-24/
LOCATION:Ridhuset\, Torsbäcken 14\, Nordmaling\, Västerbotten\, 914 91\, Sverige
CATEGORIES:Interna bokningar,Ridskola
END:VEVENT
BEGIN:VEVENT
DTSTART;TZID=Europe/Stockholm:20300725T173000
DTEND;TZID=Europe/Stockholm:20300725T204500
DTSTAMP:20260422T034040
CREATED:20260222T195332Z
LAST-MODIFIED:20260222T200425Z
UID:10010783-1911231000-1911242700@nordmalingsrk.se
SUMMARY:Lektioner
DESCRIPTION:
URL:https://nordmalingsrk.se/evenemang/lektioner-3/2030-07-25/
CATEGORIES:Interna bokningar,Ridskola
END:VEVENT
BEGIN:VEVENT
DTSTART;TZID=Europe/Stockholm:20300729T100000
DTEND;TZID=Europe/Stockholm:20300729T110000
DTSTAMP:20260422T034040
CREATED:20260302T072033Z
LAST-MODIFIED:20260302T072037Z
UID:10011843-1911549600-1911553200@nordmalingsrk.se
SUMMARY:Underlagsskötsel
DESCRIPTION:Harvning av ridhus
URL:https://nordmalingsrk.se/evenemang/underlagsskotsel-2/2030-07-29/
END:VEVENT
BEGIN:VEVENT
DTSTART;TZID=Europe/Stockholm:20300729T173000
DTEND;TZID=Europe/Stockholm:20300729T200000
DTSTAMP:20260422T034040
CREATED:20260222T195332Z
LAST-MODIFIED:20260222T200427Z
UID:10011579-1911576600-1911585600@nordmalingsrk.se
SUMMARY:Lektioner
DESCRIPTION:
URL:https://nordmalingsrk.se/evenemang/lektioner-4/2030-07-29/
LOCATION:Ridhuset\, Torsbäcken 14\, Nordmaling\, Västerbotten\, 914 91\, Sverige
CATEGORIES:Interna bokningar,Ridskola
END:VEVENT
BEGIN:VEVENT
DTSTART;TZID=Europe/Stockholm:20300730T165500
DTEND;TZID=Europe/Stockholm:20300730T210000
DTSTAMP:20260422T034040
CREATED:20260222T195332Z
LAST-MODIFIED:20260222T200426Z
UID:10011314-1911660900-1911675600@nordmalingsrk.se
SUMMARY:Lektioner
DESCRIPTION:
URL:https://nordmalingsrk.se/evenemang/lektioner/2030-07-30/
LOCATION:Ridhuset\, Torsbäcken 14\, Nordmaling\, Västerbotten\, 914 91\, Sverige
CATEGORIES:Interna bokningar,Ridskola
END:VEVENT
BEGIN:VEVENT
DTSTART;TZID=Europe/Stockholm:20300731T130000
DTEND;TZID=Europe/Stockholm:20300731T140000
DTSTAMP:20260422T034040
CREATED:20260302T072223Z
LAST-MODIFIED:20260302T072227Z
UID:10012104-1911733200-1911736800@nordmalingsrk.se
SUMMARY:Underlagsskötsel
DESCRIPTION:Vattning och harvning av ridhus.
URL:https://nordmalingsrk.se/evenemang/underlagsskotsel-3/2030-07-31/
END:VEVENT
BEGIN:VEVENT
DTSTART;TZID=Europe/Stockholm:20300731T171000
DTEND;TZID=Europe/Stockholm:20300731T211500
DTSTAMP:20260422T034040
CREATED:20260222T195332Z
LAST-MODIFIED:20260222T200426Z
UID:10011049-1911748200-1911762900@nordmalingsrk.se
SUMMARY:Lektioner
DESCRIPTION:
URL:https://nordmalingsrk.se/evenemang/lektioner-2/2030-07-31/
LOCATION:Ridhuset\, Torsbäcken 14\, Nordmaling\, Västerbotten\, 914 91\, Sverige
CATEGORIES:Interna bokningar,Ridskola
END:VEVENT
END:VCALENDAR